From mboxrd@z Thu Jan  1 00:00:00 1970
Return-Path: <test-report-bounces@dpdk.org>
Received: from mails.dpdk.org (mails.dpdk.org [217.70.189.124])
	by inbox.dpdk.org (Postfix) with ESMTP id 9CD7B43F17
	for <public@inbox.dpdk.org>; Fri, 26 Apr 2024 16:33:26 +0200 (CEST)
Received: from mails.dpdk.org (localhost [127.0.0.1])
	by mails.dpdk.org (Postfix) with ESMTP id 81BE343E57;
	Fri, 26 Apr 2024 16:33:26 +0200 (CEST)
Received: from mail-yb1-f225.google.com (mail-yb1-f225.google.com
 [209.85.219.225])
 by mails.dpdk.org (Postfix) with ESMTP id 1889143E53
 for <test-report@dpdk.org>; Fri, 26 Apr 2024 16:33:25 +0200 (CEST)
Received: by mail-yb1-f225.google.com with SMTP id
 3f1490d57ef6-dbed179f0faso2555975276.1
 for <test-report@dpdk.org>; Fri, 26 Apr 2024 07:33:25 -0700 (PDT)
DKIM-Signature: v=1; a=rsa-sha256; c=relaxed/relaxed;
 d=iol.unh.edu; s=unh-iol; t=1714142004; x=1714746804; darn=dpdk.org;
 h=references:in-reply-to:cc:to:from:subject:message-id:date:from:to
 :cc:subject:date:message-id:reply-to;
 bh=2MspPZtvziWPWA7Zk2wVOX87aAFAxBojFwV8vzYgoMQ=;
 b=NcLmUon6jrQA2bkrf1i+egU7Q57zNtHaJUSOmAojEjgGdnd0QlmOgVy0vcPkIf1t9a
 uAHRivOPJI9xDm0j/dDWSfXQKOFn5Ivf2GJruHSw3/k0BkISSBVSytbhyjwiBjUhoenY
 p+geb6ZymfX49YfrYJdlB+y8GVteHGVFbZRec=
X-Google-DKIM-Signature: v=1; a=rsa-sha256; c=relaxed/relaxed;
 d=1e100.net; s=20230601; t=1714142004; x=1714746804;
 h=references:in-reply-to:cc:to:from:subject:message-id:date
 :x-gm-message-state:from:to:cc:subject:date:message-id:reply-to;
 bh=2MspPZtvziWPWA7Zk2wVOX87aAFAxBojFwV8vzYgoMQ=;
 b=Qs9T4zCPcBbkteMcO5J01ecYsNfsc+uay6YkHvqTB0yBdnU2wSbxSiYuJ3sRlmdkeI
 pYfvLr9xipUpbP00tjmhYASCwi/k7rkqZkJSclDq87mi/SCDFYw3jkj/41J4LY3UPQVc
 ZDzSkniPQTwpPTVCoKKiVEjRmwzoBR6ZohVUEViFXen0Syed0/Lu1LARjXFfIerN9GNy
 tlw4698f1SrEnYTr7adGML6h8w4pdLU6FidNe1QdiM/aOBwCqyu4Kz+DUj2StiZxjHT0
 tqm6856N6HxXlUQorpvqjE2O2Rey0m2TSPEYBikuhVKfgaHSphYo5GJfW0H8fSRE+/LT
 JyNA==
X-Gm-Message-State: AOJu0YyDu0aAQTsY9Eg03yligkZoBV39Lot27uRvf0QJUC7NmR0vUMUV
 rhzM7CvPf1gEJXdbgSxREGgmf3ILN+J4J1BGtn4VX0/k6eL8slVwLtV3sutE3Q3x4efsbapx3l9
 25iQk+UF1+6mUgs1iezjQuzlPGK27vGXVJYWncROQK/5jciuMAlN+YaUd
X-Google-Smtp-Source: AGHT+IEmYBD2KpkOT6l83PyutVh5MxPN5fE75bv3dQ7kTQnnaoExTUS5E9cBsbnGIJ0fqpg6MsKG/s1ONEH7
X-Received: by 2002:a0d:dd4f:0:b0:61a:e8a6:7c7e with SMTP id
 g76-20020a0ddd4f000000b0061ae8a67c7emr4708535ywe.16.1714142003520; 
 Fri, 26 Apr 2024 07:33:23 -0700 (PDT)
Received: from postal.iol.unh.edu (postal.iol.unh.edu.
 [2606:4100:3880:1234::84]) by smtp-relay.gmail.com with ESMTPS id
 g126-20020a815284000000b0061aaf90393csm1356257ywb.8.2024.04.26.07.33.23
 (version=TLS1_2 cipher=ECDHE-ECDSA-AES128-GCM-SHA256 bits=128/128);
 Fri, 26 Apr 2024 07:33:23 -0700 (PDT)
X-Relaying-Domain: iol.unh.edu
Date: Fri, 26 Apr 2024 07:33:23 -0700 (PDT)
Message-ID: <662bbb33.810a0220.8b5ea.b414SMTPIN_ADDED_MISSING@mx.google.com>
Received: from [172.21.0.6] (unknown [172.18.0.240])
 by postal.iol.unh.edu (Postfix) with ESMTP id 220D4604D420;
 Fri, 26 Apr 2024 10:33:23 -0400 (EDT)
Subject: |SUCCESS| pw139700 [PATCH] [v4] lib/vhost: add flag for async connec
From: dpdklab@iol.unh.edu
To: Test Report <test-report@dpdk.org>
Cc: dpdk-test-reports@iol.unh.edu
In-Reply-To: <20240426084706.709653-1-daniil.ushkov@yandex.ru>
References: <20240426084706.709653-1-daniil.ushkov@yandex.ru>
Content-Type: text/plain
X-BeenThere: test-report@dpdk.org
X-Mailman-Version: 2.1.29
Precedence: list
List-Id: automatic DPDK test reports <test-report.dpdk.org>
List-Unsubscribe: <https://mails.dpdk.org/options/test-report>,
 <mailto:test-report-request@dpdk.org?subject=unsubscribe>
List-Archive: <http://mails.dpdk.org/archives/test-report/>
List-Post: <mailto:test-report@dpdk.org>
List-Help: <mailto:test-report-request@dpdk.org?subject=help>
List-Subscribe: <https://mails.dpdk.org/listinfo/test-report>,
 <mailto:test-report-request@dpdk.org?subject=subscribe>
Errors-To: test-report-bounces@dpdk.org

Test-Label: iol-compile-amd64-testing
Test-Status: SUCCESS
http://dpdk.org/patch/139700

_Testing PASS_

Submitter: Daniil Ushkov <daniil.ushkov@yandex.ru>
Date: Friday, April 26 2024 08:47:06 
DPDK git baseline: Repo:dpdk
  Branch: master
  CommitID:deedfb86a7a6e10064d3cccd593f62072de96e36

139700 --> testing pass

Test environment and result as below:

+---------------------+-------------------+--------------------+----------------------+
|     Environment     | dpdk_msvc_compile | dpdk_meson_compile | dpdk_mingw64_compile |
+=====================+===================+====================+======================+
| Windows Server 2022 | PASS              | PASS               | PASS                 |
+---------------------+-------------------+--------------------+----------------------+
| FreeBSD 13.3        | SKIPPED           | PASS               | SKIPPED              |
+---------------------+-------------------+--------------------+----------------------+
| Windows Server 2019 | SKIPPED           | PASS               | PASS                 |
+---------------------+-------------------+--------------------+----------------------+
| CentOS Stream 8     | SKIPPED           | PASS               | SKIPPED              |
+---------------------+-------------------+--------------------+----------------------+
| Debian Bullseye     | SKIPPED           | PASS               | SKIPPED              |
+---------------------+-------------------+--------------------+----------------------+
| Fedora 37           | SKIPPED           | PASS               | SKIPPED              |
+---------------------+-------------------+--------------------+----------------------+


Windows Server 2022
	Kernel: 10.0.20348.2031
	Compiler: clang 15.0.7, gcc 8.1.0 (MinGW), and MSVC VS 17.9

FreeBSD 13.3
	Kernel: 13.3-RELEASE-p1
	Compiler: clang 17.0.6

Windows Server 2019
	Kernel: 10.0.17763
	Compiler: clang 14.0 and gcc 8.1.0 (MinGW)

CentOS Stream 8
	Kernel: 5.4.0-167-generic
	Compiler: gcc 8.5.0 20210514

Debian Bullseye
	Kernel: 5.4.0-167-generic
	Compiler: gcc 10.2.1-6

Fedora 37
	Kernel: Depends on container host system
	Compiler: gcc 12.3.1

To view detailed results, visit:
https://lab.dpdk.org/results/dashboard/patchsets/29864/

UNH-IOL DPDK Community Lab

To manage your email subscriptions, visit: 
https://lab.dpdk.org/results/dashboard/preferences/subscriptions/