From mboxrd@z Thu Jan  1 00:00:00 1970
Return-Path: <test-report-bounces@dpdk.org>
Received: from mails.dpdk.org (mails.dpdk.org [217.70.189.124])
	by inbox.dpdk.org (Postfix) with ESMTP id E65DD43F17
	for <public@inbox.dpdk.org>; Fri, 26 Apr 2024 16:36:25 +0200 (CEST)
Received: from mails.dpdk.org (localhost [127.0.0.1])
	by mails.dpdk.org (Postfix) with ESMTP id DFC2F43E57;
	Fri, 26 Apr 2024 16:36:25 +0200 (CEST)
Received: from mail-qv1-f99.google.com (mail-qv1-f99.google.com
 [209.85.219.99]) by mails.dpdk.org (Postfix) with ESMTP id 8BF3643E53
 for <test-report@dpdk.org>; Fri, 26 Apr 2024 16:36:17 +0200 (CEST)
Received: by mail-qv1-f99.google.com with SMTP id
 6a1803df08f44-6969388c36fso9745506d6.1
 for <test-report@dpdk.org>; Fri, 26 Apr 2024 07:36:17 -0700 (PDT)
DKIM-Signature: v=1; a=rsa-sha256; c=relaxed/relaxed;
 d=iol.unh.edu; s=unh-iol; t=1714142177; x=1714746977; darn=dpdk.org;
 h=references:in-reply-to:cc:to:from:subject:message-id:date:from:to
 :cc:subject:date:message-id:reply-to;
 bh=/ZJ8gzYHwN98h4zk44hdpCMw48bEm2a6iUdo+tq0gYg=;
 b=ZzifX1ZMVjxjQE3YiYXBpx0zcUnZGuVDl/sMOd2CNzmerablpvV08XKAJAAha7dVBx
 rPD0y+hTbzuWbvvi3w2JdF7ORS+d5iaZoCpa2keteag2JE+9VYF7jL4e4t8of0KjL+gu
 8QKIt7PUCawIbSSIqtOFgb7iwaa8g3lJZjwaw=
X-Google-DKIM-Signature: v=1; a=rsa-sha256; c=relaxed/relaxed;
 d=1e100.net; s=20230601; t=1714142177; x=1714746977;
 h=references:in-reply-to:cc:to:from:subject:message-id:date
 :x-gm-message-state:from:to:cc:subject:date:message-id:reply-to;
 bh=/ZJ8gzYHwN98h4zk44hdpCMw48bEm2a6iUdo+tq0gYg=;
 b=Iljy5X1qnyivgyE6REZ1Fq7EfBXsIfuiB0qab5AE3ICdBdcDqivzwao3fRD4cq/5b0
 ZLwAWXXpqbZ9oyckRquyrT+ikYfrCXJsljsm6SqHyy5fshUjIld9hnG/ZxRlOfgVtIVw
 XXQNHzn3JINT8ScIGg4jtZBQp+DhSiB1VGO6kkvJDoW3DkN7Oy723w29CxfqLVwDQ3XK
 1nZvtLuq2mB43vnilwdIzoOy05LvaasYQigxnkfznNIxl1TbFqGyR3YUe5HaJN0W/1xi
 gxVBlC3u1ndy1JaNuuN3Jud26z91F9yqWGo2RzYIrNBW/MZlVILx2I4wJ+9ZjXSD5g+j
 QdCQ==
X-Gm-Message-State: AOJu0YxyIgY3yrwevmxeMtfGSWRjfbgAx3Tq9jzWKRzoWQbNFui5C+HF
 o15YtPrUDaHfU1w/uagtJ9t3iP7eBF7NEZfiinTTxmr3QrKIYELc5UTv8Jjt5/S1gy2pHujQqQo
 vHXk9ki1oHwMT6K/k2mzh4Og2wjbOzn3Osqk20Vey
X-Google-Smtp-Source: AGHT+IHEYoc/G63cRCWCR5ovXntfC+xm0KIiEKY1gDNQhXYTPQsSsBvbineMPNdL96/UtoQnwg3vd6cXaZeU
X-Received: by 2002:ad4:5fcb:0:b0:6a0:82ae:f0b with SMTP id
 jq11-20020ad45fcb000000b006a082ae0f0bmr3435032qvb.33.1714142177067; 
 Fri, 26 Apr 2024 07:36:17 -0700 (PDT)
Received: from postal.iol.unh.edu (postal.iol.unh.edu. [132.177.123.84])
 by smtp-relay.gmail.com with ESMTPS id
 u16-20020a0ce5d0000000b006a0a527ca4dsm161153qvm.68.2024.04.26.07.36.16
 (version=TLS1_2 cipher=ECDHE-ECDSA-AES128-GCM-SHA256 bits=128/128);
 Fri, 26 Apr 2024 07:36:17 -0700 (PDT)
X-Relaying-Domain: iol.unh.edu
Date: Fri, 26 Apr 2024 07:36:17 -0700 (PDT)
Message-ID: <662bbbe1.0c0a0220.5d1e.ae7aSMTPIN_ADDED_MISSING@mx.google.com>
Received: from [172.21.0.7] (unknown [172.18.0.240])
 by postal.iol.unh.edu (Postfix) with ESMTP id BE6AC604D420;
 Fri, 26 Apr 2024 10:36:16 -0400 (EDT)
Subject: |SUCCESS| pw139700 [PATCH] [v4] lib/vhost: add flag for async connec
From: dpdklab@iol.unh.edu
To: Test Report <test-report@dpdk.org>
Cc: dpdk-test-reports@iol.unh.edu
In-Reply-To: <20240426084706.709653-1-daniil.ushkov@yandex.ru>
References: <20240426084706.709653-1-daniil.ushkov@yandex.ru>
Content-Type: text/plain
X-BeenThere: test-report@dpdk.org
X-Mailman-Version: 2.1.29
Precedence: list
List-Id: automatic DPDK test reports <test-report.dpdk.org>
List-Unsubscribe: <https://mails.dpdk.org/options/test-report>,
 <mailto:test-report-request@dpdk.org?subject=unsubscribe>
List-Archive: <http://mails.dpdk.org/archives/test-report/>
List-Post: <mailto:test-report@dpdk.org>
List-Help: <mailto:test-report-request@dpdk.org?subject=help>
List-Subscribe: <https://mails.dpdk.org/listinfo/test-report>,
 <mailto:test-report-request@dpdk.org?subject=subscribe>
Errors-To: test-report-bounces@dpdk.org

Test-Label: iol-compile-arm64-testing
Test-Status: SUCCESS
http://dpdk.org/patch/139700

_Testing PASS_

Submitter: Daniil Ushkov <daniil.ushkov@yandex.ru>
Date: Friday, April 26 2024 08:47:06 
DPDK git baseline: Repo:dpdk
  Branch: master
  CommitID:deedfb86a7a6e10064d3cccd593f62072de96e36

139700 --> testing pass

Test environment and result as below:

+----------------------------------------+--------------------+
|              Environment               | dpdk_meson_compile |
+========================================+====================+
| Ubuntu 20.04 ARM SVE                   | PASS               |
+----------------------------------------+--------------------+
| Fedora 38 (ARM)                        | PASS               |
+----------------------------------------+--------------------+
| Ubuntu 20.04 (ARM)                     | PASS               |
+----------------------------------------+--------------------+
| Debian 12 with MUSDK                   | PASS               |
+----------------------------------------+--------------------+
| Fedora 39 (ARM)                        | PASS               |
+----------------------------------------+--------------------+
| Debian 11 (Buster) (ARM)               | PASS               |
+----------------------------------------+--------------------+
| Debian 12 (arm)                        | PASS               |
+----------------------------------------+--------------------+
| Fedora 37 (ARM)                        | PASS               |
+----------------------------------------+--------------------+
| Ubuntu 20.04 aarch32 GCC Cross Compile | PASS               |
+----------------------------------------+--------------------+


Ubuntu 20.04 ARM SVE
	Kernel: 5.4.0-167-generic
	Compiler: gcc (Ubuntu 10.5.0-1ubuntu1~20.04) 10.5.0

Fedora 38 (ARM)
	Kernel: Depends on container host
	Compiler: gcc 13.2.1

Ubuntu 20.04 (ARM)
	Kernel: Container Host Kernel
	Compiler: gcc 9.4.0

Debian 12 with MUSDK
	Kernel: Container Host Kernel
	Compiler: gcc 12.2.0

Fedora 39 (ARM)
	Kernel: Depends on container host
	Compiler: gcc 13.2.1

Debian 11 (Buster) (ARM)
	Kernel: Container Host Kernel
	Compiler: gcc 10.2.1

Debian 12 (arm)
	Kernel: Container Host Kernel
	Compiler: gcc 12.2.0

Fedora 37 (ARM)
	Kernel: Depends on container host
	Compiler: gcc 12.3.1

Ubuntu 20.04 aarch32 GCC Cross Compile
	Kernel: 5.4.0-167-generic
	Compiler: gcc 9.4.0

To view detailed results, visit:
https://lab.dpdk.org/results/dashboard/patchsets/29864/

UNH-IOL DPDK Community Lab

To manage your email subscriptions, visit: 
https://lab.dpdk.org/results/dashboard/preferences/subscriptions/