From mboxrd@z Thu Jan  1 00:00:00 1970
Return-Path: <test-report-bounces@dpdk.org>
Received: from mails.dpdk.org (mails.dpdk.org [217.70.189.124])
	by inbox.dpdk.org (Postfix) with ESMTP id 7AE1543F17
	for <public@inbox.dpdk.org>; Fri, 26 Apr 2024 16:44:52 +0200 (CEST)
Received: from mails.dpdk.org (localhost [127.0.0.1])
	by mails.dpdk.org (Postfix) with ESMTP id 74F4343E57;
	Fri, 26 Apr 2024 16:44:52 +0200 (CEST)
Received: from mail-pl1-f228.google.com (mail-pl1-f228.google.com
 [209.85.214.228])
 by mails.dpdk.org (Postfix) with ESMTP id 1A85C43E53
 for <test-report@dpdk.org>; Fri, 26 Apr 2024 16:44:51 +0200 (CEST)
Received: by mail-pl1-f228.google.com with SMTP id
 d9443c01a7336-1e4f341330fso20801565ad.0
 for <test-report@dpdk.org>; Fri, 26 Apr 2024 07:44:51 -0700 (PDT)
DKIM-Signature: v=1; a=rsa-sha256; c=relaxed/relaxed;
 d=iol.unh.edu; s=unh-iol; t=1714142690; x=1714747490; darn=dpdk.org;
 h=references:in-reply-to:cc:to:from:subject:message-id:date:from:to
 :cc:subject:date:message-id:reply-to;
 bh=wYJpFeb/5zKDOe+QuAmmBhonTfQEADkRY6H2sKxDBH0=;
 b=M4bBFqoUODS/P8LH5CDqIxrR3THuTjIUstw3YPrMwWpuBtDn5iM+XYU5g3dmzDctuZ
 8pE6Fu/QFkYgpSwNok8LgyQBaEmfPvmxd5xbP5JW40INNY16DKrZybkUVmoyGRlko1dQ
 6setNXrZwY5VfyV7q3uRLs8VIVVh/AeFnBmVI=
X-Google-DKIM-Signature: v=1; a=rsa-sha256; c=relaxed/relaxed;
 d=1e100.net; s=20230601; t=1714142690; x=1714747490;
 h=references:in-reply-to:cc:to:from:subject:message-id:date
 :x-gm-message-state:from:to:cc:subject:date:message-id:reply-to;
 bh=wYJpFeb/5zKDOe+QuAmmBhonTfQEADkRY6H2sKxDBH0=;
 b=Fw4HY1UuCakpDcL0h58azgkFSZqxICr5PWY8Kzcc0H52qnXXSthi1c6hgpANEkrGX6
 /sSKXB4rxtjR6av7DbsJ4HshSyeFlXdfmciGfAfqMIEN1To1rW9tlQBS7sYrwonFzndb
 j8ov84Thj2IUtF3paHYQ7KmJV5QDdraD5ljAhRjYD4eThH/tEWLaWltvQ6ltSTVaYQmc
 m+8iMZeGVUUTbPdO1lknVIluHgLu8OiKhRpHPX+JFJnd/LkdvfzJp+nLfBUxeaU754WW
 V5aY7SB2Knd/8iwAftA5bsuPOUm4l1CR7620YxM1391Jn5nu+ToiRNXkrgNUMN4OVWK7
 0N8w==
X-Gm-Message-State: AOJu0YwP8GIohBWO2wnrV1yvzfDtceWtrCF6A1+MEe0qF2uVgnew38cl
 GV0cJgui6APF9QLJtTjnSt2WLalTGfSTuOBLMUc6ra7gnSDW2SBntP2l+6Fw/x63SxIAbK/H9Ke
 ugyUWs3dZ/ffrZbagyYs5PDmBHnE48iL9pYUrDow2wiMdbbZlfqdO1KWh
X-Google-Smtp-Source: AGHT+IEqL1XSvtitUteLoPUQ/0ztX7omA439ovo2Mup8zipuOIe67hQNd1bosSCE4n7Cwvo0VIaLSW3U6nrr
X-Received: by 2002:a17:902:c20a:b0:1e4:7adf:b85d with SMTP id
 10-20020a170902c20a00b001e47adfb85dmr2680142pll.17.1714142690308; 
 Fri, 26 Apr 2024 07:44:50 -0700 (PDT)
Received: from postal.iol.unh.edu (postal.iol.unh.edu.
 [2606:4100:3880:1234::84]) by smtp-relay.gmail.com with ESMTPS id
 g14-20020a170902f74e00b001e2920c2154sm542155plw.51.2024.04.26.07.44.50
 (version=TLS1_2 cipher=ECDHE-ECDSA-AES128-GCM-SHA256 bits=128/128);
 Fri, 26 Apr 2024 07:44:50 -0700 (PDT)
X-Relaying-Domain: iol.unh.edu
Date: Fri, 26 Apr 2024 07:44:50 -0700 (PDT)
Message-ID: <662bbde2.170a0220.48b3a.c3c8SMTPIN_ADDED_MISSING@mx.google.com>
Received: from [172.21.0.7] (unknown [172.18.0.240])
 by postal.iol.unh.edu (Postfix) with ESMTP id 7E549604D420;
 Fri, 26 Apr 2024 10:44:49 -0400 (EDT)
Subject: |SUCCESS| pw139700 [PATCH] [v4] lib/vhost: add flag for async connec
From: dpdklab@iol.unh.edu
To: Test Report <test-report@dpdk.org>
Cc: dpdk-test-reports@iol.unh.edu
In-Reply-To: <20240426084706.709653-1-daniil.ushkov@yandex.ru>
References: <20240426084706.709653-1-daniil.ushkov@yandex.ru>
Content-Type: text/plain
X-BeenThere: test-report@dpdk.org
X-Mailman-Version: 2.1.29
Precedence: list
List-Id: automatic DPDK test reports <test-report.dpdk.org>
List-Unsubscribe: <https://mails.dpdk.org/options/test-report>,
 <mailto:test-report-request@dpdk.org?subject=unsubscribe>
List-Archive: <http://mails.dpdk.org/archives/test-report/>
List-Post: <mailto:test-report@dpdk.org>
List-Help: <mailto:test-report-request@dpdk.org?subject=help>
List-Subscribe: <https://mails.dpdk.org/listinfo/test-report>,
 <mailto:test-report-request@dpdk.org?subject=subscribe>
Errors-To: test-report-bounces@dpdk.org

Test-Label: iol-unit-arm64-testing
Test-Status: SUCCESS
http://dpdk.org/patch/139700

_Testing PASS_

Submitter: Daniil Ushkov <daniil.ushkov@yandex.ru>
Date: Friday, April 26 2024 08:47:06 
DPDK git baseline: Repo:dpdk
  Branch: master
  CommitID:deedfb86a7a6e10064d3cccd593f62072de96e36

139700 --> testing pass

Test environment and result as below:

+-----------------------------+----------------+---------------------------+------------------------------+--------------+
|         Environment         | dpdk_unit_test | cryptodev_sw_zuc_autotest | cryptodev_sw_snow3g_autotest | lpm_autotest |
+=============================+================+===========================+==============================+==============+
| 32-bit Ubuntu 20.04.4 (ARM) | PASS           | SKIPPED                   | SKIPPED                      | SKIPPED      |
+-----------------------------+----------------+---------------------------+------------------------------+--------------+
| Debian 12 (arm)             | PASS           | PASS                      | PASS                         | SKIPPED      |
+-----------------------------+----------------+---------------------------+------------------------------+--------------+
| Debian 11 (Buster) (ARM)    | PASS           | SKIPPED                   | SKIPPED                      | SKIPPED      |
+-----------------------------+----------------+---------------------------+------------------------------+--------------+
| Fedora 38 (ARM)             | PASS           | SKIPPED                   | SKIPPED                      | SKIPPED      |
+-----------------------------+----------------+---------------------------+------------------------------+--------------+
| CentOS Stream 9 (ARM)       | PASS           | SKIPPED                   | SKIPPED                      | SKIPPED      |
+-----------------------------+----------------+---------------------------+------------------------------+--------------+
| Fedora 37 (ARM)             | PASS           | SKIPPED                   | SKIPPED                      | SKIPPED      |
+-----------------------------+----------------+---------------------------+------------------------------+--------------+
| Fedora 39 (ARM)             | PASS           | SKIPPED                   | SKIPPED                      | SKIPPED      |
+-----------------------------+----------------+---------------------------+------------------------------+--------------+
| Fedora 39 (ARM Clang)       | PASS           | SKIPPED                   | SKIPPED                      | SKIPPED      |
+-----------------------------+----------------+---------------------------+------------------------------+--------------+
| Fedora 38 (ARM Clang)       | PASS           | SKIPPED                   | SKIPPED                      | SKIPPED      |
+-----------------------------+----------------+---------------------------+------------------------------+--------------+
| Ubuntu 20.04 (ARM)          | PASS           | SKIPPED                   | SKIPPED                      | SKIPPED      |
+-----------------------------+----------------+---------------------------+------------------------------+--------------+
| Ubuntu 20.04 ARM SVE        | SKIPPED        | SKIPPED                   | SKIPPED                      | PASS         |
+-----------------------------+----------------+---------------------------+------------------------------+--------------+


32-bit Ubuntu 20.04.4 (ARM)
	Kernel: 5.4.0-155-generic aarch64
	Compiler: gcc 9.4

Debian 12 (arm)
	Kernel: Container Host Kernel
	Compiler: gcc 12.2.0

Debian 11 (Buster) (ARM)
	Kernel: Container Host Kernel
	Compiler: gcc 10.2.1

Fedora 38 (ARM)
	Kernel: Depends on container host
	Compiler: gcc 13.2.1

CentOS Stream 9 (ARM)
	Kernel: Container Host Kernel
	Compiler: gcc 11.4.1

Fedora 37 (ARM)
	Kernel: Depends on container host
	Compiler: gcc 12.3.1

Fedora 39 (ARM)
	Kernel: Depends on container host
	Compiler: gcc 13.2.1

Fedora 39 (ARM Clang)
	Kernel: Depends on container host
	Compiler: clang 17.0.6

Fedora 38 (ARM Clang)
	Kernel: Depends on container host
	Compiler: clang 16.0.6

Ubuntu 20.04 (ARM)
	Kernel: Container Host Kernel
	Compiler: gcc 9.4.0

Ubuntu 20.04 ARM SVE
	Kernel: 5.4.0-167-generic
	Compiler: gcc (Ubuntu 10.5.0-1ubuntu1~20.04) 10.5.0

To view detailed results, visit:
https://lab.dpdk.org/results/dashboard/patchsets/29864/

UNH-IOL DPDK Community Lab

To manage your email subscriptions, visit: 
https://lab.dpdk.org/results/dashboard/preferences/subscriptions/