From mboxrd@z Thu Jan  1 00:00:00 1970
Return-Path: <test-report-bounces@dpdk.org>
Received: from mails.dpdk.org (mails.dpdk.org [217.70.189.124])
	by inbox.dpdk.org (Postfix) with ESMTP id AFF5843F17
	for <public@inbox.dpdk.org>; Fri, 26 Apr 2024 16:45:18 +0200 (CEST)
Received: from mails.dpdk.org (localhost [127.0.0.1])
	by mails.dpdk.org (Postfix) with ESMTP id AB56C43E57;
	Fri, 26 Apr 2024 16:45:18 +0200 (CEST)
Received: from mail-pj1-f97.google.com (mail-pj1-f97.google.com
 [209.85.216.97]) by mails.dpdk.org (Postfix) with ESMTP id AD65643E53
 for <test-report@dpdk.org>; Fri, 26 Apr 2024 16:45:15 +0200 (CEST)
Received: by mail-pj1-f97.google.com with SMTP id
 98e67ed59e1d1-2a78c2e253aso1803679a91.3
 for <test-report@dpdk.org>; Fri, 26 Apr 2024 07:45:15 -0700 (PDT)
DKIM-Signature: v=1; a=rsa-sha256; c=relaxed/relaxed;
 d=iol.unh.edu; s=unh-iol; t=1714142715; x=1714747515; darn=dpdk.org;
 h=references:in-reply-to:cc:to:from:subject:message-id:date:from:to
 :cc:subject:date:message-id:reply-to;
 bh=CxUeZOisX0QmoX0WOHDHEF3xZ3TKADTgfvHl6XcVw8U=;
 b=BJuZgHY4EwmmNBOGC6RszJ6kslssT6XJpt8Vo1L/KmYM9cO7VjpuxbFBSufEhM5mko
 4Y7LRn6YrlHhnHoPEDWhwoGnPI/CF9L9XlBaD7jx+TXvAXkH6LTFxoyL8lrFORFCjWyw
 6fSuvrgvhUlLlXPCP/YffCDh4zjLuugpV6mL8=
X-Google-DKIM-Signature: v=1; a=rsa-sha256; c=relaxed/relaxed;
 d=1e100.net; s=20230601; t=1714142715; x=1714747515;
 h=references:in-reply-to:cc:to:from:subject:message-id:date
 :x-gm-message-state:from:to:cc:subject:date:message-id:reply-to;
 bh=CxUeZOisX0QmoX0WOHDHEF3xZ3TKADTgfvHl6XcVw8U=;
 b=YQM9+VEqliXDyyavlE20YneWiuC6bYwcyS/rnIp2Q0vjHERTaMLxOacd1obj5AT2aP
 vcXKag1Q4R+FuhZse6ERaV8Ip27R05UshLaHLykPxwMJ5vEqPvS3O4T7Z0vEtmc2Zd4U
 Ofmyv+0grAO9qB7kCy3P9Wsi3Ou4OtvMogw0XCGYNg9UauqqcGfpeu09J2glcp1ZBtOl
 lvS1CdYxRjd0Z06qJXUIkmxFM6nBXB4rjuKGu55z6AYL0bf3xuc8Aygl0cdGlqeJ5031
 wKQPUzs9/gz+L6GzC8JRK8IjEgzo0epB5td28wrODvZxGP4Gaj6AVZUqK9+bLAcpRVsk
 zvVQ==
X-Gm-Message-State: AOJu0YxENbxQXKcrf+YTnmZSew5k4afANAnLiXDKtv8OJAZJqH2lY3Lr
 O8tNpRfaPxrvxp1rSVQLYRnzBlKoSyZLNVTuvXnUkvgdbgavjePn5nQeizMGE6XoUroxCccjBde
 AyFWlQ7qPoyOExspaK/BstUrrBVO4q3avY5biOXYNjc2r+Yd7OouzdWKZ
X-Google-Smtp-Source: AGHT+IFlEXZt2AKAcNK7/FIGSFhz2Vn7XWlLR3hgt57Q0eeg2vC1qUUjtUfxfz59xOYamGZRTJMHY2SByH7w
X-Received: by 2002:a17:90b:1298:b0:2ac:257d:3e7c with SMTP id
 fw24-20020a17090b129800b002ac257d3e7cmr3091359pjb.9.1714142714879; 
 Fri, 26 Apr 2024 07:45:14 -0700 (PDT)
Received: from postal.iol.unh.edu (postal.iol.unh.edu.
 [2606:4100:3880:1234::84]) by smtp-relay.gmail.com with ESMTPS id
 lb18-20020a17090b4a5200b002af0c64e12fsm504299pjb.16.2024.04.26.07.45.14
 (version=TLS1_2 cipher=ECDHE-ECDSA-AES128-GCM-SHA256 bits=128/128);
 Fri, 26 Apr 2024 07:45:14 -0700 (PDT)
X-Relaying-Domain: iol.unh.edu
Date: Fri, 26 Apr 2024 07:45:14 -0700 (PDT)
Message-ID: <662bbdfa.170a0220.c809d.8e60SMTPIN_ADDED_MISSING@mx.google.com>
Received: from [172.21.0.6] (unknown [172.18.0.240])
 by postal.iol.unh.edu (Postfix) with ESMTP id 10779604D420;
 Fri, 26 Apr 2024 10:45:14 -0400 (EDT)
Subject: |SUCCESS| pw139700 [PATCH] [v4] lib/vhost: add flag for async connec
From: dpdklab@iol.unh.edu
To: Test Report <test-report@dpdk.org>
Cc: dpdk-test-reports@iol.unh.edu
In-Reply-To: <20240426084706.709653-1-daniil.ushkov@yandex.ru>
References: <20240426084706.709653-1-daniil.ushkov@yandex.ru>
Content-Type: text/plain
X-BeenThere: test-report@dpdk.org
X-Mailman-Version: 2.1.29
Precedence: list
List-Id: automatic DPDK test reports <test-report.dpdk.org>
List-Unsubscribe: <https://mails.dpdk.org/options/test-report>,
 <mailto:test-report-request@dpdk.org?subject=unsubscribe>
List-Archive: <http://mails.dpdk.org/archives/test-report/>
List-Post: <mailto:test-report@dpdk.org>
List-Help: <mailto:test-report-request@dpdk.org?subject=help>
List-Subscribe: <https://mails.dpdk.org/listinfo/test-report>,
 <mailto:test-report-request@dpdk.org?subject=subscribe>
Errors-To: test-report-bounces@dpdk.org

Test-Label: iol-unit-amd64-testing
Test-Status: SUCCESS
http://dpdk.org/patch/139700

_Testing PASS_

Submitter: Daniil Ushkov <daniil.ushkov@yandex.ru>
Date: Friday, April 26 2024 08:47:06 
DPDK git baseline: Repo:dpdk
  Branch: master
  CommitID:deedfb86a7a6e10064d3cccd593f62072de96e36

139700 --> testing pass

Test environment and result as below:

+---------------------+----------------+
|     Environment     | dpdk_unit_test |
+=====================+================+
| CentOS Stream 8     | PASS           |
+---------------------+----------------+
| CentOS Stream 9     | PASS           |
+---------------------+----------------+
| Windows Server 2019 | PASS           |
+---------------------+----------------+
| Debian Bullseye     | PASS           |
+---------------------+----------------+
| Debian 12           | PASS           |
+---------------------+----------------+
| Fedora 37           | PASS           |
+---------------------+----------------+
| openSUSE Leap 15    | PASS           |
+---------------------+----------------+
| Fedora 38           | PASS           |
+---------------------+----------------+
| Windows Server 2022 | PASS           |
+---------------------+----------------+
| Fedora 39           | PASS           |
+---------------------+----------------+
| Ubuntu 20.04        | PASS           |
+---------------------+----------------+
| RHEL8               | PASS           |
+---------------------+----------------+
| Ubuntu 22.04        | PASS           |
+---------------------+----------------+


CentOS Stream 8
	Kernel: 5.4.0-167-generic
	Compiler: gcc 8.5.0 20210514

CentOS Stream 9
	Kernel: 5.4.0-167-generic
	Compiler: gcc 11.4.1 20230605

Windows Server 2019
	Kernel: 10.0.17763
	Compiler: clang 14.0 and gcc 8.1.0 (MinGW)

Debian Bullseye
	Kernel: 5.4.0-167-generic
	Compiler: gcc 10.2.1-6

Debian 12
	Kernel: Container Host Kernel
	Compiler: gcc 10.2.1

Fedora 37
	Kernel: Depends on container host system
	Compiler: gcc 12.3.1

openSUSE Leap 15
	Kernel: 5.4.0-167-generic
	Compiler: gcc 7.5.0

Fedora 38
	Kernel: Depends on container host
	Compiler: clang 16.0.6

Windows Server 2022
	Kernel: 10.0.20348.2031
	Compiler: clang 15.0.7, gcc 8.1.0 (MinGW), and MSVC VS 17.9

Fedora 39
	Kernel: Depends on container host
	Compiler: clang 17.0.6

Ubuntu 20.04
	Kernel: 5.4.0-167-generic
	Compiler: gcc 9.4.0-1ubuntu1~20.04.1

RHEL8
	Kernel: 5.4.0-167-generic
	Compiler: gcc 8.5.0 20210514 (Red Hat 8.5.0-20)

Ubuntu 22.04
	Kernel: 5.4.0-167-generic
	Compiler: gcc 11.4.0

To view detailed results, visit:
https://lab.dpdk.org/results/dashboard/patchsets/29864/

UNH-IOL DPDK Community Lab

To manage your email subscriptions, visit: 
https://lab.dpdk.org/results/dashboard/preferences/subscriptions/