From mboxrd@z Thu Jan  1 00:00:00 1970
Return-Path: <test-report-bounces@dpdk.org>
Received: from mails.dpdk.org (mails.dpdk.org [217.70.189.124])
	by inbox.dpdk.org (Postfix) with ESMTP id DE03A43F19
	for <public@inbox.dpdk.org>; Fri, 26 Apr 2024 17:46:28 +0200 (CEST)
Received: from mails.dpdk.org (localhost [127.0.0.1])
	by mails.dpdk.org (Postfix) with ESMTP id DA47343EC8;
	Fri, 26 Apr 2024 17:46:28 +0200 (CEST)
Received: from mail-io1-f97.google.com (mail-io1-f97.google.com
 [209.85.166.97]) by mails.dpdk.org (Postfix) with ESMTP id 317F043D7A
 for <test-report@dpdk.org>; Fri, 26 Apr 2024 17:46:27 +0200 (CEST)
Received: by mail-io1-f97.google.com with SMTP id
 ca18e2360f4ac-7deb424da41so12711439f.1
 for <test-report@dpdk.org>; Fri, 26 Apr 2024 08:46:27 -0700 (PDT)
DKIM-Signature: v=1; a=rsa-sha256; c=relaxed/relaxed;
 d=iol.unh.edu; s=unh-iol; t=1714146386; x=1714751186; darn=dpdk.org;
 h=references:in-reply-to:cc:to:from:subject:message-id:date:from:to
 :cc:subject:date:message-id:reply-to;
 bh=9KIcP1W03nZUopSuRESLWA+b34MtV2rIzfLrXvfGwXc=;
 b=ir+GLLEDG5p5L3VKGczFt1IYApyYIDGneALsWy+RQSvoOj1QYEghKIToHTSBnEHFNS
 1qgZvxzyIn1hBU4D7NbbOxmKauOItyT4OD9qz4oFOwetVRdEVcOrFHZHaVDHpat7Re5G
 5OWKmmeMA6twHa97xlE+rNOydeu9slgnhHDho=
X-Google-DKIM-Signature: v=1; a=rsa-sha256; c=relaxed/relaxed;
 d=1e100.net; s=20230601; t=1714146386; x=1714751186;
 h=references:in-reply-to:cc:to:from:subject:message-id:date
 :x-gm-message-state:from:to:cc:subject:date:message-id:reply-to;
 bh=9KIcP1W03nZUopSuRESLWA+b34MtV2rIzfLrXvfGwXc=;
 b=T3rQdlG4Bwec0G2csG39h9oPDJPlYMSpccZ7jvho8sS8IB/Wyb58Vrlv9peTZFzQzg
 odAthq8rg60nleKXXFojx9RfBNoJLnUP89j0SSofuV68C72V/eH3HU5cK4TlUGI9y4A+
 c7l29qpbViJ1t+ugEnYjLgma08Q+rPOaZk2zWNl28x0EMEhghDnJnRkdAd5IKiESzCm4
 khzn/ROdE4Yd9vRcdNjEZjlYbP9pnNh/53R4V9a5mxnP10T/rdiqL8lyB5MvKpCKBPtP
 N8CNwmpLGFW02XG6mDKytkd81RikR4r5UhYs+8MFFvDjRIUPhnYulIv8dN9Qy1EPABEW
 RSkA==
X-Gm-Message-State: AOJu0YxtM+KO4yfYgDohjq1xokbYfODEm1UOl3zoJ7Bgevu63RYiZKJd
 j4M3ciZEPjMkd0hxDxj5uFvmHcJlFpCx98qIrrYOtJyA4PS/FOrxsW0NmQ0VZgGruvZm+1mNOgq
 g246MyLX5xWzI7W1CUzq0RLk47gQshjyNx4JG1UFk
X-Google-Smtp-Source: AGHT+IHgVfCC3uel4bSFTGFMhbQ7CPPxWZlQm/7SWJOwSopq7VicN/Xq2BLsXxwEdbjvK6vPxaMG3CruzB4e
X-Received: by 2002:a05:6e02:1d85:b0:36a:3f20:8cb with SMTP id
 h5-20020a056e021d8500b0036a3f2008cbmr3497752ila.18.1714146386560; 
 Fri, 26 Apr 2024 08:46:26 -0700 (PDT)
Received: from postal.iol.unh.edu (postal.iol.unh.edu. [132.177.123.84])
 by smtp-relay.gmail.com with ESMTPS id
 q5-20020a056e0215c500b0036b06ee6b25sm997743ilu.48.2024.04.26.08.46.26
 (version=TLS1_2 cipher=ECDHE-ECDSA-AES128-GCM-SHA256 bits=128/128);
 Fri, 26 Apr 2024 08:46:26 -0700 (PDT)
X-Relaying-Domain: iol.unh.edu
Date: Fri, 26 Apr 2024 08:46:26 -0700 (PDT)
Message-ID: <662bcc52.050a0220.43d50.4deeSMTPIN_ADDED_MISSING@mx.google.com>
Received: from [172.21.0.6] (unknown [172.18.0.240])
 by postal.iol.unh.edu (Postfix) with ESMTP id 1E2A2604D420;
 Fri, 26 Apr 2024 11:46:26 -0400 (EDT)
Subject: |SUCCESS| pw139699 [PATCH] [v2] eal/linux: enhanced error handling f
From: dpdklab@iol.unh.edu
To: Test Report <test-report@dpdk.org>
Cc: dpdk-test-reports@iol.unh.edu
In-Reply-To: <20240425111130.8306-1-wujianyue000@163.com>
References: <20240425111130.8306-1-wujianyue000@163.com>
Content-Type: text/plain
X-BeenThere: test-report@dpdk.org
X-Mailman-Version: 2.1.29
Precedence: list
List-Id: automatic DPDK test reports <test-report.dpdk.org>
List-Unsubscribe: <https://mails.dpdk.org/options/test-report>,
 <mailto:test-report-request@dpdk.org?subject=unsubscribe>
List-Archive: <http://mails.dpdk.org/archives/test-report/>
List-Post: <mailto:test-report@dpdk.org>
List-Help: <mailto:test-report-request@dpdk.org?subject=help>
List-Subscribe: <https://mails.dpdk.org/listinfo/test-report>,
 <mailto:test-report-request@dpdk.org?subject=subscribe>
Errors-To: test-report-bounces@dpdk.org

Test-Label: iol-compile-amd64-testing
Test-Status: SUCCESS
http://dpdk.org/patch/139699

_Testing PASS_

Submitter: Jianyue Wu <wujianyue000@163.com>
Date: Thursday, April 25 2024 11:11:30 
DPDK git baseline: Repo:dpdk
  Branch: master
  CommitID:7e06c0de1952d3109a5b0c4779d7e7d8059c9d78

139699 --> testing pass

Test environment and result as below:

+---------------------+--------------------+----------------------+-------------------+
|     Environment     | dpdk_meson_compile | dpdk_mingw64_compile | dpdk_msvc_compile |
+=====================+====================+======================+===================+
| FreeBSD 13.3        | PASS               | SKIPPED              | SKIPPED           |
+---------------------+--------------------+----------------------+-------------------+
| Windows Server 2022 | PASS               | PASS                 | PASS              |
+---------------------+--------------------+----------------------+-------------------+
| Windows Server 2019 | PASS               | PASS                 | SKIPPED           |
+---------------------+--------------------+----------------------+-------------------+
| CentOS Stream 8     | PASS               | SKIPPED              | SKIPPED           |
+---------------------+--------------------+----------------------+-------------------+
| Debian Bullseye     | PASS               | SKIPPED              | SKIPPED           |
+---------------------+--------------------+----------------------+-------------------+
| Fedora 37           | PASS               | SKIPPED              | SKIPPED           |
+---------------------+--------------------+----------------------+-------------------+


FreeBSD 13.3
	Kernel: 13.3-RELEASE-p1
	Compiler: clang 17.0.6

Windows Server 2022
	Kernel: 10.0.20348.2031
	Compiler: clang 15.0.7, gcc 8.1.0 (MinGW), and MSVC VS 17.9

Windows Server 2019
	Kernel: 10.0.17763
	Compiler: clang 14.0 and gcc 8.1.0 (MinGW)

CentOS Stream 8
	Kernel: 5.4.0-167-generic
	Compiler: gcc 8.5.0 20210514

Debian Bullseye
	Kernel: 5.4.0-167-generic
	Compiler: gcc 10.2.1-6

Fedora 37
	Kernel: Depends on container host system
	Compiler: gcc 12.3.1

To view detailed results, visit:
https://lab.dpdk.org/results/dashboard/patchsets/29863/

UNH-IOL DPDK Community Lab

To manage your email subscriptions, visit: 
https://lab.dpdk.org/results/dashboard/preferences/subscriptions/