From mboxrd@z Thu Jan  1 00:00:00 1970
Return-Path: <test-report-bounces@dpdk.org>
Received: from mails.dpdk.org (mails.dpdk.org [217.70.189.124])
	by inbox.dpdk.org (Postfix) with ESMTP id E4B9B43F1A
	for <public@inbox.dpdk.org>; Fri, 26 Apr 2024 18:16:08 +0200 (CEST)
Received: from mails.dpdk.org (localhost [127.0.0.1])
	by mails.dpdk.org (Postfix) with ESMTP id E00FD43EC8;
	Fri, 26 Apr 2024 18:16:08 +0200 (CEST)
Received: from mail-pl1-f226.google.com (mail-pl1-f226.google.com
 [209.85.214.226])
 by mails.dpdk.org (Postfix) with ESMTP id 7187643D7A
 for <test-report@dpdk.org>; Fri, 26 Apr 2024 18:16:07 +0200 (CEST)
Received: by mail-pl1-f226.google.com with SMTP id
 d9443c01a7336-1e8fce77bb2so18007785ad.0
 for <test-report@dpdk.org>; Fri, 26 Apr 2024 09:16:07 -0700 (PDT)
DKIM-Signature: v=1; a=rsa-sha256; c=relaxed/relaxed;
 d=iol.unh.edu; s=unh-iol; t=1714148166; x=1714752966; darn=dpdk.org;
 h=references:in-reply-to:cc:to:from:subject:message-id:date:from:to
 :cc:subject:date:message-id:reply-to;
 bh=O/D1m9NwmZCiqup9yhbg85BFZV+zUYrsCUjGMC7nVF4=;
 b=hto8oAuhiOiZRUQUp01V2sEilvVz+lCjWqdXt0XnekythwfzIaO2t+uy0EP+IwRlZx
 7KR+2WTFo2z3JoEVHYeTL9JCF5Rs4Fl7Ht2yeJth77HjcQ+LfJ+rhdhKGhx3+2IM0k1v
 iVeNrIaJiCsBiv1TPzCXTyayctcYFJJiT/T3E=
X-Google-DKIM-Signature: v=1; a=rsa-sha256; c=relaxed/relaxed;
 d=1e100.net; s=20230601; t=1714148166; x=1714752966;
 h=references:in-reply-to:cc:to:from:subject:message-id:date
 :x-gm-message-state:from:to:cc:subject:date:message-id:reply-to;
 bh=O/D1m9NwmZCiqup9yhbg85BFZV+zUYrsCUjGMC7nVF4=;
 b=vfqxOxZ1mxgttx5um8+uQUSbKJtf3yVvCseAs6ouKn+vXHstPvQ3Zmc9BeYWb1xWWh
 wN4VnwFgQylTYjZva/HhvQOCvYQmBdL7FJxI7d2Pg62zDHfX0nsKmpAGgwE572PzcD5b
 fFVEXzjq8mM3yVxk4srehL81BBXa85K6s3bXINxnbqL+ptIZHwUxUd3XDLwaWfWQ1py7
 agwHSI6XeDbLXgjARcTedZiSEIXUat6pWdWSJFGYKE7Y3razy5sUNs/jVIxcofMiw/LU
 fe7nQSZ7S9Q1zMzadlCuTV5zESKcAeL+k/s09ZnrvVwKYDw01se0ZRxAZzE7N+7a5LM1
 psZw==
X-Gm-Message-State: AOJu0YzVG0kFhzwFrplRibUL4mpO645SVsYpNxM4mcka2mMH8icKQYbr
 LEcytAuT3g51DpiMH6MXxoQ++QHJZnrHS9IB9azfVsTj1E+InPWqXDDoPi0bzi2NE4VMAFIvSIS
 G+mQe0LzxH15C0Hjlu8FcG9ObO/5NhgHW1srRCyqv
X-Google-Smtp-Source: AGHT+IEesgAdAR6+MWtVowFJI2klvE03y9ZMVc2E4QO8aRQWZamhEABsmeT3BAWhVTMCWQAYmb+FT7jldfgo
X-Received: by 2002:a17:903:244b:b0:1e8:380a:4c9 with SMTP id
 l11-20020a170903244b00b001e8380a04c9mr3399028pls.36.1714148166656; 
 Fri, 26 Apr 2024 09:16:06 -0700 (PDT)
Received: from postal.iol.unh.edu (postal.iol.unh.edu. [132.177.123.84])
 by smtp-relay.gmail.com with ESMTPS id
 v10-20020a170902b7ca00b001e09a1a3267sm519228plz.79.2024.04.26.09.16.06
 (version=TLS1_2 cipher=ECDHE-ECDSA-AES128-GCM-SHA256 bits=128/128);
 Fri, 26 Apr 2024 09:16:06 -0700 (PDT)
X-Relaying-Domain: iol.unh.edu
Date: Fri, 26 Apr 2024 09:16:06 -0700 (PDT)
Message-ID: <662bd346.170a0220.74f00.ae45SMTPIN_ADDED_MISSING@mx.google.com>
Received: from [172.21.0.6] (unknown [172.18.0.240])
 by postal.iol.unh.edu (Postfix) with ESMTP id AF0C6604D420;
 Fri, 26 Apr 2024 12:16:05 -0400 (EDT)
Subject: |SUCCESS| pw139699 [PATCH] [v2] eal/linux: enhanced error handling f
From: dpdklab@iol.unh.edu
To: Test Report <test-report@dpdk.org>
Cc: dpdk-test-reports@iol.unh.edu
In-Reply-To: <20240425111130.8306-1-wujianyue000@163.com>
References: <20240425111130.8306-1-wujianyue000@163.com>
Content-Type: text/plain
X-BeenThere: test-report@dpdk.org
X-Mailman-Version: 2.1.29
Precedence: list
List-Id: automatic DPDK test reports <test-report.dpdk.org>
List-Unsubscribe: <https://mails.dpdk.org/options/test-report>,
 <mailto:test-report-request@dpdk.org?subject=unsubscribe>
List-Archive: <http://mails.dpdk.org/archives/test-report/>
List-Post: <mailto:test-report@dpdk.org>
List-Help: <mailto:test-report-request@dpdk.org?subject=help>
List-Subscribe: <https://mails.dpdk.org/listinfo/test-report>,
 <mailto:test-report-request@dpdk.org?subject=subscribe>
Errors-To: test-report-bounces@dpdk.org

Test-Label: iol-abi-testing
Test-Status: SUCCESS
http://dpdk.org/patch/139699

_Testing PASS_

Submitter: Jianyue Wu <wujianyue000@163.com>
Date: Thursday, April 25 2024 11:11:30 
DPDK git baseline: Repo:dpdk
  Branch: master
  CommitID:7e06c0de1952d3109a5b0c4779d7e7d8059c9d78

139699 --> testing pass

Test environment and result as below:

+------------------+----------+
|   Environment    | abi_test |
+==================+==========+
| Debian Bullseye  | PASS     |
+------------------+----------+
| openSUSE Leap 15 | PASS     |
+------------------+----------+
| Fedora 38        | PASS     |
+------------------+----------+
| CentOS Stream 8  | PASS     |
+------------------+----------+
| Fedora 37        | PASS     |
+------------------+----------+
| CentOS Stream 9  | PASS     |
+------------------+----------+
| Debian 12        | PASS     |
+------------------+----------+
| Fedora 39        | PASS     |
+------------------+----------+
| Ubuntu 22.04     | PASS     |
+------------------+----------+
| RHEL8            | PASS     |
+------------------+----------+


Debian Bullseye
	Kernel: 5.4.0-167-generic
	Compiler: gcc 10.2.1-6

openSUSE Leap 15
	Kernel: 5.4.0-167-generic
	Compiler: gcc 7.5.0

Fedora 38
	Kernel: Depends on container host
	Compiler: clang 16.0.6

CentOS Stream 8
	Kernel: 5.4.0-167-generic
	Compiler: gcc 8.5.0 20210514

Fedora 37
	Kernel: Depends on container host system
	Compiler: gcc 12.3.1

CentOS Stream 9
	Kernel: 5.4.0-167-generic
	Compiler: gcc 11.4.1 20230605

Debian 12
	Kernel: Container Host Kernel
	Compiler: gcc 10.2.1

Fedora 39
	Kernel: Depends on container host
	Compiler: clang 17.0.6

Ubuntu 22.04
	Kernel: 5.4.0-167-generic
	Compiler: gcc 11.4.0

RHEL8
	Kernel: 5.4.0-167-generic
	Compiler: gcc 8.5.0 20210514 (Red Hat 8.5.0-20)

To view detailed results, visit:
https://lab.dpdk.org/results/dashboard/patchsets/29863/

UNH-IOL DPDK Community Lab

To manage your email subscriptions, visit: 
https://lab.dpdk.org/results/dashboard/preferences/subscriptions/