From mboxrd@z Thu Jan  1 00:00:00 1970
Return-Path: <test-report-bounces@dpdk.org>
Received: from mails.dpdk.org (mails.dpdk.org [217.70.189.124])
	by inbox.dpdk.org (Postfix) with ESMTP id 4FF3243F1A
	for <public@inbox.dpdk.org>; Fri, 26 Apr 2024 18:23:55 +0200 (CEST)
Received: from mails.dpdk.org (localhost [127.0.0.1])
	by mails.dpdk.org (Postfix) with ESMTP id 4683043EC8;
	Fri, 26 Apr 2024 18:23:55 +0200 (CEST)
Received: from mail-io1-f97.google.com (mail-io1-f97.google.com
 [209.85.166.97]) by mails.dpdk.org (Postfix) with ESMTP id 45DDA43D7A
 for <test-report@dpdk.org>; Fri, 26 Apr 2024 18:23:44 +0200 (CEST)
Received: by mail-io1-f97.google.com with SMTP id
 ca18e2360f4ac-7da1d81d042so93431639f.0
 for <test-report@dpdk.org>; Fri, 26 Apr 2024 09:23:44 -0700 (PDT)
DKIM-Signature: v=1; a=rsa-sha256; c=relaxed/relaxed;
 d=iol.unh.edu; s=unh-iol; t=1714148623; x=1714753423; darn=dpdk.org;
 h=references:in-reply-to:cc:to:from:subject:message-id:date:from:to
 :cc:subject:date:message-id:reply-to;
 bh=GWIAZqOkxDCbkSSD7zwBn+nz51QZp76HAH/o3dhDzDQ=;
 b=GO3HcMeb12h79jR74QxWmfAtrrtV6tgvhijxc3y7+koOdGTThstzOFzStcWcsevL4M
 WZCLMxOwE51w69OjHJoFNpMIh2P1vfK92GVqoRhS/bio2xXEkb/2HJtGSjknMPCiPqOY
 wG3+03At6KqorfQfKIx7TuovEPFiqozRHSuSo=
X-Google-DKIM-Signature: v=1; a=rsa-sha256; c=relaxed/relaxed;
 d=1e100.net; s=20230601; t=1714148623; x=1714753423;
 h=references:in-reply-to:cc:to:from:subject:message-id:date
 :x-gm-message-state:from:to:cc:subject:date:message-id:reply-to;
 bh=GWIAZqOkxDCbkSSD7zwBn+nz51QZp76HAH/o3dhDzDQ=;
 b=s64ZR3SqfNqMpGEFmVACSHQ75Oa+nXSku3rsDJyHHmpnpW8ilvvPOwLBlVOh9vIXDp
 lXwqNLCSuyRnQJSEwUrBub1HT9SJSFVZhJEcPt6WCMSGNHPri/4Etrj/7bnHlsuu5bK0
 k4TibVRGn7Szn+HQdwYMbxKNPGvM1l2DDMYozqtso/2jEbIL482jYn4IJHCbzeBGhzMJ
 hgMTjnGyPggrwdhNYvyyBQ5lEN7foS9UWDHQk2+yAOaLuR3RBpldTAEwVwNIw86TLc2B
 e1dm9H4KtgEKek8+XF5GEZ5JEPlgdVwWY27fiyE89+qQt2BI5zQggkF15jgQUXY2ofWV
 pI6A==
X-Gm-Message-State: AOJu0Yw3gUy0QHcoFffilVIuy5OIWdvuMK1eYTmkqQvwkTC+P3LLD3Yu
 0UteEuf9fUxcw5ptEOBo0cZjhMntKDfX6ivLV5HKoRwBfYMnHKN8YHwUci994AZMk83DKEdq1IG
 H914mB1iwBBGb8BYxAWeROHrJirUSdMafhPA3HrCqtOKDir9mC8U7EDx7
X-Google-Smtp-Source: AGHT+IFiT0UiqdeJZAGE1VrvdfqrDbL4zDN5kF1v50mIfTuZdukI7u6ksoZmHoeJWJ2SvlekchIL4UFgOv4b
X-Received: by 2002:a05:6e02:1a88:b0:36b:f8:e884 with SMTP id
 k8-20020a056e021a8800b0036b00f8e884mr4137917ilv.20.1714148623711; 
 Fri, 26 Apr 2024 09:23:43 -0700 (PDT)
Received: from postal.iol.unh.edu (postal.iol.unh.edu.
 [2606:4100:3880:1234::84]) by smtp-relay.gmail.com with ESMTPS id
 w36-20020a05663837a400b0048722a414f9sm188702jal.0.2024.04.26.09.23.43
 (version=TLS1_2 cipher=ECDHE-ECDSA-AES128-GCM-SHA256 bits=128/128);
 Fri, 26 Apr 2024 09:23:43 -0700 (PDT)
X-Relaying-Domain: iol.unh.edu
Date: Fri, 26 Apr 2024 09:23:43 -0700 (PDT)
Message-ID: <662bd50f.050a0220.f497d.c6e8SMTPIN_ADDED_MISSING@mx.google.com>
Received: from [172.21.0.7] (unknown [172.18.0.240])
 by postal.iol.unh.edu (Postfix) with ESMTP id 53861604D421;
 Fri, 26 Apr 2024 12:23:43 -0400 (EDT)
Subject: |SUCCESS| pw139705 [PATCH] [RFC,v2] net/af_packet: make stats reset 
From: dpdklab@iol.unh.edu
To: Test Report <test-report@dpdk.org>
Cc: dpdk-test-reports@iol.unh.edu
In-Reply-To: <20240426143848.2280689-1-ferruh.yigit@amd.com>
References: <20240426143848.2280689-1-ferruh.yigit@amd.com>
Content-Type: text/plain
X-BeenThere: test-report@dpdk.org
X-Mailman-Version: 2.1.29
Precedence: list
List-Id: automatic DPDK test reports <test-report.dpdk.org>
List-Unsubscribe: <https://mails.dpdk.org/options/test-report>,
 <mailto:test-report-request@dpdk.org?subject=unsubscribe>
List-Archive: <http://mails.dpdk.org/archives/test-report/>
List-Post: <mailto:test-report@dpdk.org>
List-Help: <mailto:test-report-request@dpdk.org?subject=help>
List-Subscribe: <https://mails.dpdk.org/listinfo/test-report>,
 <mailto:test-report-request@dpdk.org?subject=subscribe>
Errors-To: test-report-bounces@dpdk.org

Test-Label: iol-unit-arm64-testing
Test-Status: SUCCESS
http://dpdk.org/patch/139705

_Testing PASS_

Submitter: Ferruh Yigit <ferruh.yigit@amd.com>
Date: Friday, April 26 2024 14:38:48 
DPDK git baseline: Repo:dpdk
  Branch: master
  CommitID:70fef0ac8fa33eebc9c5c95844466544f35e35f9

139705 --> testing pass

Test environment and result as below:

+-----------------------------+---------------------------+------------------------------+----------------+
|         Environment         | cryptodev_sw_zuc_autotest | cryptodev_sw_snow3g_autotest | dpdk_unit_test |
+=============================+===========================+==============================+================+
| Debian 12 (arm)             | PASS                      | PASS                         | PASS           |
+-----------------------------+---------------------------+------------------------------+----------------+
| CentOS Stream 9 (ARM)       | SKIPPED                   | SKIPPED                      | PASS           |
+-----------------------------+---------------------------+------------------------------+----------------+
| Debian 11 (Buster) (ARM)    | SKIPPED                   | SKIPPED                      | PASS           |
+-----------------------------+---------------------------+------------------------------+----------------+
| Fedora 37 (ARM)             | SKIPPED                   | SKIPPED                      | PASS           |
+-----------------------------+---------------------------+------------------------------+----------------+
| Fedora 39 (ARM)             | SKIPPED                   | SKIPPED                      | PASS           |
+-----------------------------+---------------------------+------------------------------+----------------+
| Fedora 38 (ARM)             | SKIPPED                   | SKIPPED                      | PASS           |
+-----------------------------+---------------------------+------------------------------+----------------+
| 32-bit Ubuntu 20.04.4 (ARM) | SKIPPED                   | SKIPPED                      | PASS           |
+-----------------------------+---------------------------+------------------------------+----------------+
| Ubuntu 20.04 (ARM)          | SKIPPED                   | SKIPPED                      | PASS           |
+-----------------------------+---------------------------+------------------------------+----------------+


Debian 12 (arm)
	Kernel: Container Host Kernel
	Compiler: gcc 12.2.0

CentOS Stream 9 (ARM)
	Kernel: Container Host Kernel
	Compiler: gcc 11.4.1

Debian 11 (Buster) (ARM)
	Kernel: Container Host Kernel
	Compiler: gcc 10.2.1

Fedora 37 (ARM)
	Kernel: Depends on container host
	Compiler: gcc 12.3.1

Fedora 39 (ARM)
	Kernel: Depends on container host
	Compiler: gcc 13.2.1

Fedora 38 (ARM)
	Kernel: Depends on container host
	Compiler: gcc 13.2.1

32-bit Ubuntu 20.04.4 (ARM)
	Kernel: 5.4.0-155-generic aarch64
	Compiler: gcc 9.4

Ubuntu 20.04 (ARM)
	Kernel: Container Host Kernel
	Compiler: gcc 9.4.0

To view detailed results, visit:
https://lab.dpdk.org/results/dashboard/patchsets/29868/

UNH-IOL DPDK Community Lab

To manage your email subscriptions, visit: 
https://lab.dpdk.org/results/dashboard/preferences/subscriptions/