From mboxrd@z Thu Jan  1 00:00:00 1970
Return-Path: <test-report-bounces@dpdk.org>
Received: from mails.dpdk.org (mails.dpdk.org [217.70.189.124])
	by inbox.dpdk.org (Postfix) with ESMTP id 0065643F1A
	for <public@inbox.dpdk.org>; Fri, 26 Apr 2024 18:25:31 +0200 (CEST)
Received: from mails.dpdk.org (localhost [127.0.0.1])
	by mails.dpdk.org (Postfix) with ESMTP id F01AE43EC8;
	Fri, 26 Apr 2024 18:25:31 +0200 (CEST)
Received: from mail-yw1-f225.google.com (mail-yw1-f225.google.com
 [209.85.128.225])
 by mails.dpdk.org (Postfix) with ESMTP id 5C4A143D7A
 for <test-report@dpdk.org>; Fri, 26 Apr 2024 18:25:09 +0200 (CEST)
Received: by mail-yw1-f225.google.com with SMTP id
 00721157ae682-6181d032bf9so23384367b3.3
 for <test-report@dpdk.org>; Fri, 26 Apr 2024 09:25:09 -0700 (PDT)
DKIM-Signature: v=1; a=rsa-sha256; c=relaxed/relaxed;
 d=iol.unh.edu; s=unh-iol; t=1714148709; x=1714753509; darn=dpdk.org;
 h=references:in-reply-to:cc:to:from:subject:message-id:date:from:to
 :cc:subject:date:message-id:reply-to;
 bh=+7hp2J5kkghL496zCjMUI6D9qLZUtAKY3IbQtfzBCkk=;
 b=SNt5C+zac8ARR7LcsBsmCe6P3VaxtV5ZrIooUu+dYaJYI0VQKvYW6oE1hE5Ruho8vZ
 nGddk3SRaHY8wJ5C4OZ7ciZUARGya7la2mweDm1XxXePfTShpC4xRRahzryD4wVE/rld
 RsunsxVca5GuHPEyIKvYwiAFmpH3IkQDn3F1M=
X-Google-DKIM-Signature: v=1; a=rsa-sha256; c=relaxed/relaxed;
 d=1e100.net; s=20230601; t=1714148709; x=1714753509;
 h=references:in-reply-to:cc:to:from:subject:message-id:date
 :x-gm-message-state:from:to:cc:subject:date:message-id:reply-to;
 bh=+7hp2J5kkghL496zCjMUI6D9qLZUtAKY3IbQtfzBCkk=;
 b=JG5dNhHZqpnfN/wHUhE1siGRU827N5SF0e9HnsBq+0C2F2BiadsJWgeBV9xUN9Xx6x
 Pa7/XHQCNredHzB/NtFSWPPbB45HhqpnHp+12T8vyz2hwPsR6KcIqE4/4CuizQ7MOY4V
 MQH9u6tSSQyZB7fNoQcMndWq3Sswsbex6NrInyjkXY4EYAaBpvsiUCfA3HzLHWcdD4RX
 ym6HsafChnH287J7ImeA6wHXs/0mxaZN4TpSOLgsw11ODhxhqm6BMKqih5dgOTvR/rMk
 GU2Tmey2d2WanIUpQfEIh8zv7xUjsq3gZzQDgt+p94uNtmI8j09LJdO3iWYNr7zrC+h3
 wWdg==
X-Gm-Message-State: AOJu0Yzy7nUscfxpe4nfDGxzwYkv7glQ++L053VXHzcZDNQXopyL2BJd
 XjBh7p8sAciYj8VHG4O8saWoZclj5qmkVEw8TEkrYyRwgBxdl+qnYg77JYAsXOSYzVFqbAFjHBm
 uDOqTLaNt4h7IuIdi6zxB1BZTTZ8YTe0fPS9y9cna
X-Google-Smtp-Source: AGHT+IEDZICcxdjuV+fVAtw3xvVKE2hDe0LBpgY3OalxKCZKcdEClI79/Zy7NhrrL5cHBHQEuc0dXMxnqYkW
X-Received: by 2002:a05:690c:700e:b0:61a:b30d:9fdb with SMTP id
 jf14-20020a05690c700e00b0061ab30d9fdbmr2849624ywb.6.1714148707261; 
 Fri, 26 Apr 2024 09:25:07 -0700 (PDT)
Received: from postal.iol.unh.edu (postal.iol.unh.edu. [132.177.123.84])
 by smtp-relay.gmail.com with ESMTPS id
 q187-20020a0de7c4000000b00615b4dd6e0asm1400290ywe.71.2024.04.26.09.25.07
 (version=TLS1_2 cipher=ECDHE-ECDSA-AES128-GCM-SHA256 bits=128/128);
 Fri, 26 Apr 2024 09:25:07 -0700 (PDT)
X-Relaying-Domain: iol.unh.edu
Date: Fri, 26 Apr 2024 09:25:07 -0700 (PDT)
Message-ID: <662bd563.0d0a0220.6dd50.e456SMTPIN_ADDED_MISSING@mx.google.com>
Received: from [172.21.0.6] (unknown [172.18.0.240])
 by postal.iol.unh.edu (Postfix) with ESMTP id EEF5A604D420;
 Fri, 26 Apr 2024 12:25:06 -0400 (EDT)
Subject: |SUCCESS| pw139705 [PATCH] [RFC,v2] net/af_packet: make stats reset 
From: dpdklab@iol.unh.edu
To: Test Report <test-report@dpdk.org>
Cc: dpdk-test-reports@iol.unh.edu
In-Reply-To: <20240426143848.2280689-1-ferruh.yigit@amd.com>
References: <20240426143848.2280689-1-ferruh.yigit@amd.com>
Content-Type: text/plain
X-BeenThere: test-report@dpdk.org
X-Mailman-Version: 2.1.29
Precedence: list
List-Id: automatic DPDK test reports <test-report.dpdk.org>
List-Unsubscribe: <https://mails.dpdk.org/options/test-report>,
 <mailto:test-report-request@dpdk.org?subject=unsubscribe>
List-Archive: <http://mails.dpdk.org/archives/test-report/>
List-Post: <mailto:test-report@dpdk.org>
List-Help: <mailto:test-report-request@dpdk.org?subject=help>
List-Subscribe: <https://mails.dpdk.org/listinfo/test-report>,
 <mailto:test-report-request@dpdk.org?subject=subscribe>
Errors-To: test-report-bounces@dpdk.org

Test-Label: iol-compile-arm64-testing
Test-Status: SUCCESS
http://dpdk.org/patch/139705

_Testing PASS_

Submitter: Ferruh Yigit <ferruh.yigit@amd.com>
Date: Friday, April 26 2024 14:38:48 
DPDK git baseline: Repo:dpdk
  Branch: master
  CommitID:70fef0ac8fa33eebc9c5c95844466544f35e35f9

139705 --> testing pass

Test environment and result as below:

+--------------------------+--------------------+
|       Environment        | dpdk_meson_compile |
+==========================+====================+
| Ubuntu 20.04 ARM SVE     | PASS               |
+--------------------------+--------------------+
| Debian 12 with MUSDK     | PASS               |
+--------------------------+--------------------+
| Fedora 38 (ARM)          | PASS               |
+--------------------------+--------------------+
| Fedora 37 (ARM)          | PASS               |
+--------------------------+--------------------+
| Fedora 39 (ARM)          | PASS               |
+--------------------------+--------------------+
| Ubuntu 20.04 (ARM)       | PASS               |
+--------------------------+--------------------+
| Debian 12 (arm)          | PASS               |
+--------------------------+--------------------+
| Debian 11 (Buster) (ARM) | PASS               |
+--------------------------+--------------------+
| CentOS Stream 9 (ARM)    | PASS               |
+--------------------------+--------------------+


Ubuntu 20.04 ARM SVE
	Kernel: 5.4.0-167-generic
	Compiler: gcc (Ubuntu 10.5.0-1ubuntu1~20.04) 10.5.0

Debian 12 with MUSDK
	Kernel: Container Host Kernel
	Compiler: gcc 12.2.0

Fedora 38 (ARM)
	Kernel: Depends on container host
	Compiler: gcc 13.2.1

Fedora 37 (ARM)
	Kernel: Depends on container host
	Compiler: gcc 12.3.1

Fedora 39 (ARM)
	Kernel: Depends on container host
	Compiler: gcc 13.2.1

Ubuntu 20.04 (ARM)
	Kernel: Container Host Kernel
	Compiler: gcc 9.4.0

Debian 12 (arm)
	Kernel: Container Host Kernel
	Compiler: gcc 12.2.0

Debian 11 (Buster) (ARM)
	Kernel: Container Host Kernel
	Compiler: gcc 10.2.1

CentOS Stream 9 (ARM)
	Kernel: Container Host Kernel
	Compiler: gcc 11.4.1

To view detailed results, visit:
https://lab.dpdk.org/results/dashboard/patchsets/29868/

UNH-IOL DPDK Community Lab

To manage your email subscriptions, visit: 
https://lab.dpdk.org/results/dashboard/preferences/subscriptions/