From mboxrd@z Thu Jan  1 00:00:00 1970
Return-Path: <test-report-bounces@dpdk.org>
Received: from mails.dpdk.org (mails.dpdk.org [217.70.189.124])
	by inbox.dpdk.org (Postfix) with ESMTP id 0CB2B43F1A
	for <public@inbox.dpdk.org>; Fri, 26 Apr 2024 18:25:32 +0200 (CEST)
Received: from mails.dpdk.org (localhost [127.0.0.1])
	by mails.dpdk.org (Postfix) with ESMTP id 0967843F62;
	Fri, 26 Apr 2024 18:25:32 +0200 (CEST)
Received: from mail-oi1-f226.google.com (mail-oi1-f226.google.com
 [209.85.167.226])
 by mails.dpdk.org (Postfix) with ESMTP id DB20143D7A
 for <test-report@dpdk.org>; Fri, 26 Apr 2024 18:25:16 +0200 (CEST)
Received: by mail-oi1-f226.google.com with SMTP id
 5614622812f47-3bbbc6b4ed1so1471685b6e.2
 for <test-report@dpdk.org>; Fri, 26 Apr 2024 09:25:16 -0700 (PDT)
DKIM-Signature: v=1; a=rsa-sha256; c=relaxed/relaxed;
 d=iol.unh.edu; s=unh-iol; t=1714148716; x=1714753516; darn=dpdk.org;
 h=references:in-reply-to:cc:to:from:subject:message-id:date:from:to
 :cc:subject:date:message-id:reply-to;
 bh=+7hp2J5kkghL496zCjMUI6D9qLZUtAKY3IbQtfzBCkk=;
 b=AaTTN5qKT/M1tHi7D20H+z+K2dn7ax66fcwZ1AKTAZ25qSHWRX8oMEp3CYeOPd5fIG
 O7nT7u69g4hX+Cvd8eRubqC1cUWR0R01EmYWDKpzirc7NU524ryWvPdcjMlMoYJvN+OY
 NKvRuuuYrE02TFSsOQ83le2RYdFRrMcGRkkBw=
X-Google-DKIM-Signature: v=1; a=rsa-sha256; c=relaxed/relaxed;
 d=1e100.net; s=20230601; t=1714148716; x=1714753516;
 h=references:in-reply-to:cc:to:from:subject:message-id:date
 :x-gm-message-state:from:to:cc:subject:date:message-id:reply-to;
 bh=+7hp2J5kkghL496zCjMUI6D9qLZUtAKY3IbQtfzBCkk=;
 b=tbSSulSgUpTlEzPK2Tcap9BkbETb8H8qWMHL3Ru58AJhxeF9lZVwVSZziSzxfdh7QM
 BL2p6+o32IKqL+qxcg5phSaHsclXwDGK5nbAX5WSSQ5XXdIqlWafy3SgOODDtaA82jFW
 oocknmepb4dEyW4ZArFzI+QZAykIs8YKOzkTkkK8muVPSKMVHKCRJcTPUK7zpbFHxJps
 cJhykO2+fW/8PuJYUzJZprR60vVzdGYiXo+B1RnuP5l4TcOPNycPIP+5W8hVIvYpqMS6
 KRlgcARZVcutUDYhGHTtzPnNzZ+D9isPqojJ0kgQOH94SVloMvqJQqpkeHHD0LTVh/pl
 P+NQ==
X-Gm-Message-State: AOJu0YyoazT3P4O1HhD0mDgqehQ14y0YJbGrW7E0mOmffqMOPiczNVSp
 jDqamOVMcDVCMjJLiwJ5sGMhVdFNMaI7TKAckLODdtY82SXW1SGFHRM3BhROHV9ehSXL9t+LENU
 pOjaHyfiP6fu/EZpe8TnM2lN9lFEQfn/J+iqALCTdpZzEgwQd5swcb1db
X-Google-Smtp-Source: AGHT+IFPhpfHRd2Q2+0zG3AZliSejpPB/cPHnJ+is5hGJvZ/BXrw52mq2eUf8BNxMqzWk/3/zstxSCirUnj4
X-Received: by 2002:a05:6871:5b02:b0:239:4a86:bbcd with SMTP id
 op2-20020a0568715b0200b002394a86bbcdmr3756331oac.3.1714148716141; 
 Fri, 26 Apr 2024 09:25:16 -0700 (PDT)
Received: from postal.iol.unh.edu (postal.iol.unh.edu.
 [2606:4100:3880:1234::84]) by smtp-relay.gmail.com with ESMTPS id
 ff14-20020a0566384fce00b0047be9740e0asm1289799jab.20.2024.04.26.09.25.16
 (version=TLS1_2 cipher=ECDHE-ECDSA-AES128-GCM-SHA256 bits=128/128);
 Fri, 26 Apr 2024 09:25:16 -0700 (PDT)
X-Relaying-Domain: iol.unh.edu
Date: Fri, 26 Apr 2024 09:25:16 -0700 (PDT)
Message-ID: <662bd56c.050a0220.eb7da.4f4fSMTPIN_ADDED_MISSING@mx.google.com>
Received: from [172.21.0.7] (unknown [172.18.0.240])
 by postal.iol.unh.edu (Postfix) with ESMTP id 9639E604D420;
 Fri, 26 Apr 2024 12:25:15 -0400 (EDT)
Subject: |SUCCESS| pw139705 [PATCH] [RFC,v2] net/af_packet: make stats reset 
From: dpdklab@iol.unh.edu
To: Test Report <test-report@dpdk.org>
Cc: dpdk-test-reports@iol.unh.edu
In-Reply-To: <20240426143848.2280689-1-ferruh.yigit@amd.com>
References: <20240426143848.2280689-1-ferruh.yigit@amd.com>
Content-Type: text/plain
X-BeenThere: test-report@dpdk.org
X-Mailman-Version: 2.1.29
Precedence: list
List-Id: automatic DPDK test reports <test-report.dpdk.org>
List-Unsubscribe: <https://mails.dpdk.org/options/test-report>,
 <mailto:test-report-request@dpdk.org?subject=unsubscribe>
List-Archive: <http://mails.dpdk.org/archives/test-report/>
List-Post: <mailto:test-report@dpdk.org>
List-Help: <mailto:test-report-request@dpdk.org?subject=help>
List-Subscribe: <https://mails.dpdk.org/listinfo/test-report>,
 <mailto:test-report-request@dpdk.org?subject=subscribe>
Errors-To: test-report-bounces@dpdk.org

Test-Label: iol-compile-arm64-testing
Test-Status: SUCCESS
http://dpdk.org/patch/139705

_Testing PASS_

Submitter: Ferruh Yigit <ferruh.yigit@amd.com>
Date: Friday, April 26 2024 14:38:48 
DPDK git baseline: Repo:dpdk
  Branch: master
  CommitID:70fef0ac8fa33eebc9c5c95844466544f35e35f9

139705 --> testing pass

Test environment and result as below:

+--------------------------+--------------------+
|       Environment        | dpdk_meson_compile |
+==========================+====================+
| Ubuntu 20.04 ARM SVE     | PASS               |
+--------------------------+--------------------+
| Debian 12 with MUSDK     | PASS               |
+--------------------------+--------------------+
| Fedora 38 (ARM)          | PASS               |
+--------------------------+--------------------+
| Fedora 37 (ARM)          | PASS               |
+--------------------------+--------------------+
| Fedora 39 (ARM)          | PASS               |
+--------------------------+--------------------+
| Ubuntu 20.04 (ARM)       | PASS               |
+--------------------------+--------------------+
| Debian 12 (arm)          | PASS               |
+--------------------------+--------------------+
| Debian 11 (Buster) (ARM) | PASS               |
+--------------------------+--------------------+
| CentOS Stream 9 (ARM)    | PASS               |
+--------------------------+--------------------+


Ubuntu 20.04 ARM SVE
	Kernel: 5.4.0-167-generic
	Compiler: gcc (Ubuntu 10.5.0-1ubuntu1~20.04) 10.5.0

Debian 12 with MUSDK
	Kernel: Container Host Kernel
	Compiler: gcc 12.2.0

Fedora 38 (ARM)
	Kernel: Depends on container host
	Compiler: gcc 13.2.1

Fedora 37 (ARM)
	Kernel: Depends on container host
	Compiler: gcc 12.3.1

Fedora 39 (ARM)
	Kernel: Depends on container host
	Compiler: gcc 13.2.1

Ubuntu 20.04 (ARM)
	Kernel: Container Host Kernel
	Compiler: gcc 9.4.0

Debian 12 (arm)
	Kernel: Container Host Kernel
	Compiler: gcc 12.2.0

Debian 11 (Buster) (ARM)
	Kernel: Container Host Kernel
	Compiler: gcc 10.2.1

CentOS Stream 9 (ARM)
	Kernel: Container Host Kernel
	Compiler: gcc 11.4.1

To view detailed results, visit:
https://lab.dpdk.org/results/dashboard/patchsets/29868/

UNH-IOL DPDK Community Lab

To manage your email subscriptions, visit: 
https://lab.dpdk.org/results/dashboard/preferences/subscriptions/