From mboxrd@z Thu Jan  1 00:00:00 1970
Return-Path: <test-report-bounces@dpdk.org>
Received: from mails.dpdk.org (mails.dpdk.org [217.70.189.124])
	by inbox.dpdk.org (Postfix) with ESMTP id 59F2943F1A
	for <public@inbox.dpdk.org>; Fri, 26 Apr 2024 18:25:56 +0200 (CEST)
Received: from mails.dpdk.org (localhost [127.0.0.1])
	by mails.dpdk.org (Postfix) with ESMTP id 4A40043F6D;
	Fri, 26 Apr 2024 18:25:56 +0200 (CEST)
Received: from mail-io1-f97.google.com (mail-io1-f97.google.com
 [209.85.166.97]) by mails.dpdk.org (Postfix) with ESMTP id B265D43D7A
 for <test-report@dpdk.org>; Fri, 26 Apr 2024 18:25:51 +0200 (CEST)
Received: by mail-io1-f97.google.com with SMTP id
 ca18e2360f4ac-7d5db134badso91634539f.2
 for <test-report@dpdk.org>; Fri, 26 Apr 2024 09:25:51 -0700 (PDT)
DKIM-Signature: v=1; a=rsa-sha256; c=relaxed/relaxed;
 d=iol.unh.edu; s=unh-iol; t=1714148751; x=1714753551; darn=dpdk.org;
 h=references:in-reply-to:cc:to:from:subject:message-id:date:from:to
 :cc:subject:date:message-id:reply-to;
 bh=3qCcbGKQ29y/VIw1CLqGwemQ6tq8CKrin7YbdAA6BHg=;
 b=H963/ha+qGt4zwmL6OqMbFxcN0WQjmDqwsGUo6ZgJklysfhp2G/Kml6y56jGxZDATO
 KZRj+2l1Kj+80Lbw8GOY/AI1aZWoJiUZ1IC4tzZ47WXbAp0q75mhTNZN514EKD85NQK7
 D75jK7Lcz4sUeFRGQO9T5h3wEWYOOgkr+SvOk=
X-Google-DKIM-Signature: v=1; a=rsa-sha256; c=relaxed/relaxed;
 d=1e100.net; s=20230601; t=1714148751; x=1714753551;
 h=references:in-reply-to:cc:to:from:subject:message-id:date
 :x-gm-message-state:from:to:cc:subject:date:message-id:reply-to;
 bh=3qCcbGKQ29y/VIw1CLqGwemQ6tq8CKrin7YbdAA6BHg=;
 b=T/475AaJKp6LujQLUS8/2EuITXCUsmuLnQCS33CXreElT+yK7bRb4JzKxsKnhOWFl3
 O1BT5hrsbwm4NHjqGijpuqEewr9sPxByW/P3SQSu5MQtcpsjfKatoLgXF4/j9NzKqYq2
 afcw6lvOx+Xa3NVPTkI9GdLqljZa3jJB1M6Tiw0qKNKlUstLrRMDFD3hj6mSMzK7KirT
 8B5SLmOH1omK2ESBuwpab5dx9vi5L+ywBABvbbIvNJyvnq+3IhjPIUMlKLqgDbBGe4FV
 2C/X0HRp9x4tiZaUavjAZwz8UkEycbHyVdhlpnjIrVFA3+SaP5pdI5x0tBoVnL2vLcZ3
 FE6Q==
X-Gm-Message-State: AOJu0YysnPz6YHIvg34owr06UA8dx0vKJvGfD3dGBCQr7+DeiTdFsii8
 wmPE0nxLgT/6ByFAZhFcL/OrejU9vYcaqREY00dnyjw/9lZPE66XGKF7pnrbOotYmmaumA+DF71
 nP7xwsHTFqQRsZ1vYZLx5pD4ECoCQhPpoAswQiH5SLwridpDqjDUejOEY
X-Google-Smtp-Source: AGHT+IEEvviUQLDDt5CkPFXvrTEOpKgd/1ieOht2NO3Zf0TW9R/pGBCxLkJj/cDGMbKZpzYQts3ZKQsMY4RV
X-Received: by 2002:a6b:7c47:0:b0:7d6:bf30:a39 with SMTP id
 b7-20020a6b7c47000000b007d6bf300a39mr3170952ioq.9.1714148751152; 
 Fri, 26 Apr 2024 09:25:51 -0700 (PDT)
Received: from postal.iol.unh.edu (postal.iol.unh.edu.
 [2606:4100:3880:1234::84]) by smtp-relay.gmail.com with ESMTPS id
 w3-20020a056638138300b00487064d539dsm275009jad.12.2024.04.26.09.25.51
 (version=TLS1_2 cipher=ECDHE-ECDSA-AES128-GCM-SHA256 bits=128/128);
 Fri, 26 Apr 2024 09:25:51 -0700 (PDT)
X-Relaying-Domain: iol.unh.edu
Date: Fri, 26 Apr 2024 09:25:51 -0700 (PDT)
Message-ID: <662bd58f.050a0220.1192d.0c74SMTPIN_ADDED_MISSING@mx.google.com>
Received: from [172.21.0.6] (unknown [172.18.0.240])
 by postal.iol.unh.edu (Postfix) with ESMTP id C8372604D420;
 Fri, 26 Apr 2024 12:25:50 -0400 (EDT)
Subject: |SUCCESS| pw139705 [PATCH] [RFC,v2] net/af_packet: make stats reset 
From: dpdklab@iol.unh.edu
To: Test Report <test-report@dpdk.org>
Cc: dpdk-test-reports@iol.unh.edu
In-Reply-To: <20240426143848.2280689-1-ferruh.yigit@amd.com>
References: <20240426143848.2280689-1-ferruh.yigit@amd.com>
Content-Type: text/plain
X-BeenThere: test-report@dpdk.org
X-Mailman-Version: 2.1.29
Precedence: list
List-Id: automatic DPDK test reports <test-report.dpdk.org>
List-Unsubscribe: <https://mails.dpdk.org/options/test-report>,
 <mailto:test-report-request@dpdk.org?subject=unsubscribe>
List-Archive: <http://mails.dpdk.org/archives/test-report/>
List-Post: <mailto:test-report@dpdk.org>
List-Help: <mailto:test-report-request@dpdk.org?subject=help>
List-Subscribe: <https://mails.dpdk.org/listinfo/test-report>,
 <mailto:test-report-request@dpdk.org?subject=subscribe>
Errors-To: test-report-bounces@dpdk.org

Test-Label: iol-unit-amd64-testing
Test-Status: SUCCESS
http://dpdk.org/patch/139705

_Testing PASS_

Submitter: Ferruh Yigit <ferruh.yigit@amd.com>
Date: Friday, April 26 2024 14:38:48 
DPDK git baseline: Repo:dpdk
  Branch: master
  CommitID:70fef0ac8fa33eebc9c5c95844466544f35e35f9

139705 --> testing pass

Test environment and result as below:

+---------------------+----------------+
|     Environment     | dpdk_unit_test |
+=====================+================+
| Windows Server 2019 | PASS           |
+---------------------+----------------+
| CentOS Stream 9     | PASS           |
+---------------------+----------------+
| Windows Server 2022 | PASS           |
+---------------------+----------------+
| CentOS Stream 8     | PASS           |
+---------------------+----------------+


Windows Server 2019
	Kernel: 10.0.17763
	Compiler: clang 14.0 and gcc 8.1.0 (MinGW)

CentOS Stream 9
	Kernel: 5.4.0-167-generic
	Compiler: gcc 11.4.1 20230605

Windows Server 2022
	Kernel: 10.0.20348.2031
	Compiler: clang 15.0.7, gcc 8.1.0 (MinGW), and MSVC VS 17.9

CentOS Stream 8
	Kernel: 5.4.0-167-generic
	Compiler: gcc 8.5.0 20210514

To view detailed results, visit:
https://lab.dpdk.org/results/dashboard/patchsets/29868/

UNH-IOL DPDK Community Lab

To manage your email subscriptions, visit: 
https://lab.dpdk.org/results/dashboard/preferences/subscriptions/