From mboxrd@z Thu Jan  1 00:00:00 1970
Return-Path: <test-report-bounces@dpdk.org>
Received: from mails.dpdk.org (mails.dpdk.org [217.70.189.124])
	by inbox.dpdk.org (Postfix) with ESMTP id 9B9CE43F1A
	for <public@inbox.dpdk.org>; Fri, 26 Apr 2024 18:46:18 +0200 (CEST)
Received: from mails.dpdk.org (localhost [127.0.0.1])
	by mails.dpdk.org (Postfix) with ESMTP id 92CFB43EC8;
	Fri, 26 Apr 2024 18:46:18 +0200 (CEST)
Received: from mail-qv1-f98.google.com (mail-qv1-f98.google.com
 [209.85.219.98]) by mails.dpdk.org (Postfix) with ESMTP id 4C84743D7A
 for <test-report@dpdk.org>; Fri, 26 Apr 2024 18:46:17 +0200 (CEST)
Received: by mail-qv1-f98.google.com with SMTP id
 6a1803df08f44-69b730fc89bso11163256d6.1
 for <test-report@dpdk.org>; Fri, 26 Apr 2024 09:46:17 -0700 (PDT)
DKIM-Signature: v=1; a=rsa-sha256; c=relaxed/relaxed;
 d=iol.unh.edu; s=unh-iol; t=1714149976; x=1714754776; darn=dpdk.org;
 h=references:in-reply-to:cc:to:from:subject:message-id:date:from:to
 :cc:subject:date:message-id:reply-to;
 bh=ZWvok9HzoPgpECF6RqNzmYFf2WgzIeL5ruOvXx7Qu34=;
 b=TjEvl47YqIb76qmL8ln+8ajUnOkBgiiEYt2HPJitiS9bEynve2xQWbeTOLm0KMepb+
 wDLZEM89JvSizKM/5rJJfgNlaYBYT404/0uWEj3VpqDLA7Cw1+GZ99iz6q8JZq49oVTu
 QLM9Cbt4DK2CdOg+9vh729UrIM01tqvv3uWdQ=
X-Google-DKIM-Signature: v=1; a=rsa-sha256; c=relaxed/relaxed;
 d=1e100.net; s=20230601; t=1714149976; x=1714754776;
 h=references:in-reply-to:cc:to:from:subject:message-id:date
 :x-gm-message-state:from:to:cc:subject:date:message-id:reply-to;
 bh=ZWvok9HzoPgpECF6RqNzmYFf2WgzIeL5ruOvXx7Qu34=;
 b=s25BSS4SKKfewjSavnQy2Dy2nCyauo/cE3Ug6WWtn/o7mmOn/exPbdbcA0f9Jb8uhk
 P3futPpX4fVf9y+5x9/nDueEJFjM1CFfJG4q1xVgk5I9PUVGcVhmeat7GQUP+aeZvfDC
 3E9oaZ3AfE+XxF71z+xMF+D5eQ1fCcvELgPSzxZgp0lazW/M+xwjSEeRE6n87jwbxnz3
 8x+QaqAJHWzw3f1nGL3RZdjNcZxqQ5Mb/pODrEwKQEZgnMAv0jMvOCiEcb4cGpNyzeif
 UV9jcJAEi5B19tqCmFoZRHYT2oq+4U0RZ2g4B17UA1CkHwiRiI4e0+AKLU3ld9CrthL4
 L8fQ==
X-Gm-Message-State: AOJu0YyyAUVFK6XDggWoS8vbr4Xjk8Zst0R39pxwHF/IlT07c2DsJLjG
 Az+Rs+HGIgTxYCop1DFNJLEc95LWI3Vzj2GIhuBB5hXCn2kghz5ulKt5xEajavVRR1pTYQ3/Mlk
 1PkuX8T/MZzcLvyFDLyOhrAtns3jOMtKbNqFwMK5k
X-Google-Smtp-Source: AGHT+IHQkrO3Ei/bNDzx2uFaq0ODRCjm+gkhhCjcZ6G7XmOVY0rBBP4y+MM4Rp131KiAJxQ6nbe2U3ll9SQn
X-Received: by 2002:a05:6214:410e:b0:69b:6c70:320d with SMTP id
 kc14-20020a056214410e00b0069b6c70320dmr4097717qvb.29.1714149976721; 
 Fri, 26 Apr 2024 09:46:16 -0700 (PDT)
Received: from postal.iol.unh.edu (postal.iol.unh.edu. [132.177.123.84])
 by smtp-relay.gmail.com with ESMTPS id
 im12-20020a056214246c00b006992a8fa16asm1431013qvb.43.2024.04.26.09.46.16
 (version=TLS1_2 cipher=ECDHE-ECDSA-AES128-GCM-SHA256 bits=128/128);
 Fri, 26 Apr 2024 09:46:16 -0700 (PDT)
X-Relaying-Domain: iol.unh.edu
Date: Fri, 26 Apr 2024 09:46:16 -0700 (PDT)
Message-ID: <662bda58.050a0220.2368d.d346SMTPIN_ADDED_MISSING@mx.google.com>
Received: from [172.21.0.6] (unknown [172.18.0.240])
 by postal.iol.unh.edu (Postfix) with ESMTP id 65D0F604D420;
 Fri, 26 Apr 2024 12:46:16 -0400 (EDT)
Subject: |SUCCESS| pw139705 [PATCH] [RFC,v2] net/af_packet: make stats reset 
From: dpdklab@iol.unh.edu
To: Test Report <test-report@dpdk.org>
Cc: dpdk-test-reports@iol.unh.edu
In-Reply-To: <20240426143848.2280689-1-ferruh.yigit@amd.com>
References: <20240426143848.2280689-1-ferruh.yigit@amd.com>
Content-Type: text/plain
X-BeenThere: test-report@dpdk.org
X-Mailman-Version: 2.1.29
Precedence: list
List-Id: automatic DPDK test reports <test-report.dpdk.org>
List-Unsubscribe: <https://mails.dpdk.org/options/test-report>,
 <mailto:test-report-request@dpdk.org?subject=unsubscribe>
List-Archive: <http://mails.dpdk.org/archives/test-report/>
List-Post: <mailto:test-report@dpdk.org>
List-Help: <mailto:test-report-request@dpdk.org?subject=help>
List-Subscribe: <https://mails.dpdk.org/listinfo/test-report>,
 <mailto:test-report-request@dpdk.org?subject=subscribe>
Errors-To: test-report-bounces@dpdk.org

Test-Label: iol-abi-testing
Test-Status: SUCCESS
http://dpdk.org/patch/139705

_Testing PASS_

Submitter: Ferruh Yigit <ferruh.yigit@amd.com>
Date: Friday, April 26 2024 14:38:48 
DPDK git baseline: Repo:dpdk
  Branch: master
  CommitID:70fef0ac8fa33eebc9c5c95844466544f35e35f9

139705 --> testing pass

Test environment and result as below:

+------------------+----------+
|   Environment    | abi_test |
+==================+==========+
| Fedora 37        | PASS     |
+------------------+----------+
| Fedora 38        | PASS     |
+------------------+----------+
| CentOS Stream 8  | PASS     |
+------------------+----------+
| Fedora 39        | PASS     |
+------------------+----------+
| openSUSE Leap 15 | PASS     |
+------------------+----------+
| Debian Bullseye  | PASS     |
+------------------+----------+
| Debian 12        | PASS     |
+------------------+----------+
| CentOS Stream 9  | PASS     |
+------------------+----------+


Fedora 37
	Kernel: Depends on container host system
	Compiler: gcc 12.3.1

Fedora 38
	Kernel: Depends on container host
	Compiler: gcc 13.2.1

CentOS Stream 8
	Kernel: 5.4.0-167-generic
	Compiler: gcc 8.5.0 20210514

Fedora 39
	Kernel: Depends on container host
	Compiler: clang 17.0.6

openSUSE Leap 15
	Kernel: 5.4.0-167-generic
	Compiler: gcc 7.5.0

Debian Bullseye
	Kernel: 5.4.0-167-generic
	Compiler: gcc 10.2.1-6

Debian 12
	Kernel: Container Host Kernel
	Compiler: gcc 10.2.1

CentOS Stream 9
	Kernel: 5.4.0-167-generic
	Compiler: gcc 11.4.1 20230605

To view detailed results, visit:
https://lab.dpdk.org/results/dashboard/patchsets/29868/

UNH-IOL DPDK Community Lab

To manage your email subscriptions, visit: 
https://lab.dpdk.org/results/dashboard/preferences/subscriptions/