From mboxrd@z Thu Jan  1 00:00:00 1970
Return-Path: <test-report-bounces@dpdk.org>
Received: from mails.dpdk.org (mails.dpdk.org [217.70.189.124])
	by inbox.dpdk.org (Postfix) with ESMTP id AF84E43F1A
	for <public@inbox.dpdk.org>; Fri, 26 Apr 2024 18:46:29 +0200 (CEST)
Received: from mails.dpdk.org (localhost [127.0.0.1])
	by mails.dpdk.org (Postfix) with ESMTP id A782743EC8;
	Fri, 26 Apr 2024 18:46:29 +0200 (CEST)
Received: from mail-io1-f97.google.com (mail-io1-f97.google.com
 [209.85.166.97]) by mails.dpdk.org (Postfix) with ESMTP id 2192043D7A
 for <test-report@dpdk.org>; Fri, 26 Apr 2024 18:46:25 +0200 (CEST)
Received: by mail-io1-f97.google.com with SMTP id
 ca18e2360f4ac-7d86adab5a7so104665539f.3
 for <test-report@dpdk.org>; Fri, 26 Apr 2024 09:46:25 -0700 (PDT)
DKIM-Signature: v=1; a=rsa-sha256; c=relaxed/relaxed;
 d=iol.unh.edu; s=unh-iol; t=1714149984; x=1714754784; darn=dpdk.org;
 h=references:in-reply-to:cc:to:from:subject:message-id:date:from:to
 :cc:subject:date:message-id:reply-to;
 bh=P1XoWcWDeMrPA0Si38+wSczwnlsVJAAcjRlP3qAXj1w=;
 b=AAaGL6XguAkUZJRbPoNwtSByjaD0Xdv0HjgwZOPhItZtn9ekuEiHW0donweX6rmV3B
 HYw6lw3Fg10SCI8k2mrlgMkp5zgl8GW3TcYQ+QCUqIeBpu1YhRXFB7YH3bzVTitbk/PV
 G4DVacqHNieS1RmJiPczj0LkYAvSRMVmqrwRQ=
X-Google-DKIM-Signature: v=1; a=rsa-sha256; c=relaxed/relaxed;
 d=1e100.net; s=20230601; t=1714149984; x=1714754784;
 h=references:in-reply-to:cc:to:from:subject:message-id:date
 :x-gm-message-state:from:to:cc:subject:date:message-id:reply-to;
 bh=P1XoWcWDeMrPA0Si38+wSczwnlsVJAAcjRlP3qAXj1w=;
 b=Xs47c3U43TwWojzFhOiyY8Fv1qD5Szf1ROf1QRBTJK6c5tywGB27Xoa1ereV8x/LcL
 D8VYk1Zx+qRkCAjPZtaSwDI6SmlUjK1uS5zBZ8FsR7B2LAAKWE/eaupgFk7FgiWsnw2s
 rLiThVSkDWc+eBQgKEFWJzPvFJG5lmozhaV0VLB3HuUK1q6PNCmGDaBlwD72QopLWA4J
 l3lqE0xT6ku7SDBtlC3Z+sKEdkprzNw54L4b3mSDAX46uMLTm+uSUXzHrAnvdXFX8zbc
 RFsIQHxTmoqSN3wuqbmUhHrN0Wq1nePH3bBKAkg5QDlBnsvqxCahQf6oGu4RSrfY7UG2
 qTjg==
X-Gm-Message-State: AOJu0YzW5pZ/DPe6Upa3Uka+5RU/xTBU46JHnutLi0rG8ODRfFtiJrPf
 YB6Lj2JHyaWTSHA4ORXzLDyWZw6lFPvcgm/NpWE1+I0brcs7qhQtcaZIm0IpMFAXf1ic/Atxswr
 qmkcQFierl2ipK9GcXK1hKAln9wbXvAVO2I75tezK
X-Google-Smtp-Source: AGHT+IHlcYEiYxBxKLuZuBXJULsMIZ9SO6AJMKQX7K905Ck7QjDcPB1AGEn7UBv4hdGyxB1QiGTZIg24Ob2I
X-Received: by 2002:a5d:83d3:0:b0:7cb:ffe6:b320 with SMTP id
 u19-20020a5d83d3000000b007cbffe6b320mr3889129ior.5.1714149984536; 
 Fri, 26 Apr 2024 09:46:24 -0700 (PDT)
Received: from postal.iol.unh.edu (postal.iol.unh.edu. [132.177.123.84])
 by smtp-relay.gmail.com with ESMTPS id
 jl13-20020a0566388c0d00b004850d5d7b18sm980414jab.4.2024.04.26.09.46.24
 (version=TLS1_2 cipher=ECDHE-ECDSA-AES128-GCM-SHA256 bits=128/128);
 Fri, 26 Apr 2024 09:46:24 -0700 (PDT)
X-Relaying-Domain: iol.unh.edu
Date: Fri, 26 Apr 2024 09:46:24 -0700 (PDT)
Message-ID: <662bda60.050a0220.1754e.5dbaSMTPIN_ADDED_MISSING@mx.google.com>
Received: from [172.21.0.7] (unknown [172.18.0.240])
 by postal.iol.unh.edu (Postfix) with ESMTP id 0ECB5604D420;
 Fri, 26 Apr 2024 12:46:24 -0400 (EDT)
Subject: |SUCCESS| pw139705 [PATCH] [RFC,v2] net/af_packet: make stats reset 
From: dpdklab@iol.unh.edu
To: Test Report <test-report@dpdk.org>
Cc: dpdk-test-reports@iol.unh.edu
In-Reply-To: <20240426143848.2280689-1-ferruh.yigit@amd.com>
References: <20240426143848.2280689-1-ferruh.yigit@amd.com>
Content-Type: text/plain
X-BeenThere: test-report@dpdk.org
X-Mailman-Version: 2.1.29
Precedence: list
List-Id: automatic DPDK test reports <test-report.dpdk.org>
List-Unsubscribe: <https://mails.dpdk.org/options/test-report>,
 <mailto:test-report-request@dpdk.org?subject=unsubscribe>
List-Archive: <http://mails.dpdk.org/archives/test-report/>
List-Post: <mailto:test-report@dpdk.org>
List-Help: <mailto:test-report-request@dpdk.org?subject=help>
List-Subscribe: <https://mails.dpdk.org/listinfo/test-report>,
 <mailto:test-report-request@dpdk.org?subject=subscribe>
Errors-To: test-report-bounces@dpdk.org

Test-Label: iol-unit-amd64-testing
Test-Status: SUCCESS
http://dpdk.org/patch/139705

_Testing PASS_

Submitter: Ferruh Yigit <ferruh.yigit@amd.com>
Date: Friday, April 26 2024 14:38:48 
DPDK git baseline: Repo:dpdk
  Branch: master
  CommitID:70fef0ac8fa33eebc9c5c95844466544f35e35f9

139705 --> testing pass

Test environment and result as below:

+---------------------+----------------+
|     Environment     | dpdk_unit_test |
+=====================+================+
| Windows Server 2019 | PASS           |
+---------------------+----------------+
| CentOS Stream 9     | PASS           |
+---------------------+----------------+
| Windows Server 2022 | PASS           |
+---------------------+----------------+
| CentOS Stream 8     | PASS           |
+---------------------+----------------+
| Fedora 37           | PASS           |
+---------------------+----------------+
| Debian Bullseye     | PASS           |
+---------------------+----------------+
| Fedora 39           | PASS           |
+---------------------+----------------+
| Fedora 38           | PASS           |
+---------------------+----------------+
| Debian 12           | PASS           |
+---------------------+----------------+
| Ubuntu 22.04        | PASS           |
+---------------------+----------------+


Windows Server 2019
	Kernel: 10.0.17763
	Compiler: clang 14.0 and gcc 8.1.0 (MinGW)

CentOS Stream 9
	Kernel: 5.4.0-167-generic
	Compiler: gcc 11.4.1 20230605

Windows Server 2022
	Kernel: 10.0.20348.2031
	Compiler: clang 15.0.7, gcc 8.1.0 (MinGW), and MSVC VS 17.9

CentOS Stream 8
	Kernel: 5.4.0-167-generic
	Compiler: gcc 8.5.0 20210514

Fedora 37
	Kernel: Depends on container host system
	Compiler: gcc 12.3.1

Debian Bullseye
	Kernel: 5.4.0-167-generic
	Compiler: gcc 10.2.1-6

Fedora 39
	Kernel: Depends on container host
	Compiler: gcc 13.2.1

Fedora 38
	Kernel: Depends on container host
	Compiler: clang 16.0.6

Debian 12
	Kernel: Container Host Kernel
	Compiler: gcc 10.2.1

Ubuntu 22.04
	Kernel: 5.4.0-167-generic
	Compiler: gcc 11.4.0

To view detailed results, visit:
https://lab.dpdk.org/results/dashboard/patchsets/29868/

UNH-IOL DPDK Community Lab

To manage your email subscriptions, visit: 
https://lab.dpdk.org/results/dashboard/preferences/subscriptions/