From mboxrd@z Thu Jan  1 00:00:00 1970
Return-Path: <test-report-bounces@dpdk.org>
Received: from mails.dpdk.org (mails.dpdk.org [217.70.189.124])
	by inbox.dpdk.org (Postfix) with ESMTP id 29B4843F1A
	for <public@inbox.dpdk.org>; Fri, 26 Apr 2024 19:05:43 +0200 (CEST)
Received: from mails.dpdk.org (localhost [127.0.0.1])
	by mails.dpdk.org (Postfix) with ESMTP id 0C97843EB7;
	Fri, 26 Apr 2024 19:05:43 +0200 (CEST)
Received: from mail-oo1-f99.google.com (mail-oo1-f99.google.com
 [209.85.161.99]) by mails.dpdk.org (Postfix) with ESMTP id ECDD640144
 for <test-report@dpdk.org>; Fri, 26 Apr 2024 19:05:41 +0200 (CEST)
Received: by mail-oo1-f99.google.com with SMTP id
 006d021491bc7-5ad2da2196bso1187282eaf.3
 for <test-report@dpdk.org>; Fri, 26 Apr 2024 10:05:41 -0700 (PDT)
DKIM-Signature: v=1; a=rsa-sha256; c=relaxed/relaxed;
 d=iol.unh.edu; s=unh-iol; t=1714151141; x=1714755941; darn=dpdk.org;
 h=references:in-reply-to:cc:to:from:subject:message-id:date:from:to
 :cc:subject:date:message-id:reply-to;
 bh=LjDwlXqVZXWqVDEDIBsiB0Kd6SyYYMtJmn6TPcITALg=;
 b=OoFYCBFB6pjdlkZURTNyKEGvAFZ1cQA8+JSIsAkk5C63ciLfnXHXhPvUWo0LYLhzvG
 Zd7VQsXkkAeY0W0CxmN/bedV0Wh25FVPRDIlieF+eXRbG7X7hibjsw92QeQxigZtV3l7
 W23/HDDld04ckhCpX11HJI8+yjXWL5sGLTthE=
X-Google-DKIM-Signature: v=1; a=rsa-sha256; c=relaxed/relaxed;
 d=1e100.net; s=20230601; t=1714151141; x=1714755941;
 h=references:in-reply-to:cc:to:from:subject:message-id:date
 :x-gm-message-state:from:to:cc:subject:date:message-id:reply-to;
 bh=LjDwlXqVZXWqVDEDIBsiB0Kd6SyYYMtJmn6TPcITALg=;
 b=HGMNAG8+q1XzdpqYgeYhU3t1jT089/cwqjG7jikXzHEIiiS0O6ASy0jceBZpSBQCHm
 nyJwyVfrNWnNwCqFOZicereLp1AtFfd/fZSOoT/YFKlJRl53+ddv2mRgBX8PE40933QH
 bA0SAw/b0in81sxFHixfDS/fl46CyJT81O4b8u5unJe1sckoQ+i1Jgnsbyh1NEhGoc+l
 +oc15TI7OuV1+xDPPjX+Mp26N/IAboqdOzMIlQldMuFFx7vBFj0eHrbpWWnwjSBvMp/o
 QHGwiuKo83iQaaFirOhJ8STqumgyTZp110vlv+GAX5sHRPrrpvpI9PzVlcsXhCGdxIzQ
 x3Mg==
X-Gm-Message-State: AOJu0YyRaxBWDhHtmVoolH4KJ6QEyorAgWK359E1oeZF9DFUvpq/SB6E
 +MaVpfq3HOtdhCWWboMAvw1wzBs/Y6LUkTZRWLJbRgWBrkcM3INv8VquFJrCr+rnH2VBalsH2Nc
 6Ut14wrPjAFiQ36jdPWyWycUocMOdSknG8eXdHHdh
X-Google-Smtp-Source: AGHT+IGYT8rJ1B9itokJSaWwXEaxSfQhQgB8RRCKTVGQRqi8VUp26vI8p9QYodJu8p6bmKc6z3VCDztko3u+
X-Received: by 2002:a4a:ae05:0:b0:5ac:bdbf:8a31 with SMTP id
 z5-20020a4aae05000000b005acbdbf8a31mr4273396oom.8.1714151141189; 
 Fri, 26 Apr 2024 10:05:41 -0700 (PDT)
Received: from postal.iol.unh.edu (postal.iol.unh.edu. [132.177.123.84])
 by smtp-relay.gmail.com with ESMTPS id
 e26-20020a056820061a00b005a4c4e37fa9sm851659oow.21.2024.04.26.10.05.41
 (version=TLS1_2 cipher=ECDHE-ECDSA-AES128-GCM-SHA256 bits=128/128);
 Fri, 26 Apr 2024 10:05:41 -0700 (PDT)
X-Relaying-Domain: iol.unh.edu
Date: Fri, 26 Apr 2024 10:05:41 -0700 (PDT)
Message-ID: <662bdee5.050a0220.a28f4.5281SMTPIN_ADDED_MISSING@mx.google.com>
Received: from [172.21.0.6] (unknown [172.18.0.240])
 by postal.iol.unh.edu (Postfix) with ESMTP id A02D6604D420;
 Fri, 26 Apr 2024 13:05:40 -0400 (EDT)
Subject: |SUCCESS| pw139705 [PATCH] [RFC,v2] net/af_packet: make stats reset 
From: dpdklab@iol.unh.edu
To: Test Report <test-report@dpdk.org>
Cc: dpdk-test-reports@iol.unh.edu
In-Reply-To: <20240426143848.2280689-1-ferruh.yigit@amd.com>
References: <20240426143848.2280689-1-ferruh.yigit@amd.com>
Content-Type: text/plain
X-BeenThere: test-report@dpdk.org
X-Mailman-Version: 2.1.29
Precedence: list
List-Id: automatic DPDK test reports <test-report.dpdk.org>
List-Unsubscribe: <https://mails.dpdk.org/options/test-report>,
 <mailto:test-report-request@dpdk.org?subject=unsubscribe>
List-Archive: <http://mails.dpdk.org/archives/test-report/>
List-Post: <mailto:test-report@dpdk.org>
List-Help: <mailto:test-report-request@dpdk.org?subject=help>
List-Subscribe: <https://mails.dpdk.org/listinfo/test-report>,
 <mailto:test-report-request@dpdk.org?subject=subscribe>
Errors-To: test-report-bounces@dpdk.org

Test-Label: iol-compile-arm64-testing
Test-Status: SUCCESS
http://dpdk.org/patch/139705

_Testing PASS_

Submitter: Ferruh Yigit <ferruh.yigit@amd.com>
Date: Friday, April 26 2024 14:38:48 
DPDK git baseline: Repo:dpdk
  Branch: master
  CommitID:70fef0ac8fa33eebc9c5c95844466544f35e35f9

139705 --> testing pass

Test environment and result as below:

+--------------------------------------+--------------------+
|             Environment              | dpdk_meson_compile |
+======================================+====================+
| Ubuntu 20.04 ARM SVE                 | PASS               |
+--------------------------------------+--------------------+
| Debian 12 with MUSDK                 | PASS               |
+--------------------------------------+--------------------+
| Fedora 38 (ARM)                      | PASS               |
+--------------------------------------+--------------------+
| Fedora 37 (ARM)                      | PASS               |
+--------------------------------------+--------------------+
| Fedora 39 (ARM)                      | PASS               |
+--------------------------------------+--------------------+
| Ubuntu 20.04 (ARM)                   | PASS               |
+--------------------------------------+--------------------+
| Debian 12 (arm)                      | PASS               |
+--------------------------------------+--------------------+
| Debian 11 (Buster) (ARM)             | PASS               |
+--------------------------------------+--------------------+
| CentOS Stream 9 (ARM)                | PASS               |
+--------------------------------------+--------------------+
| Ubuntu 20.04 ARM Clang Cross Compile | PASS               |
+--------------------------------------+--------------------+


Ubuntu 20.04 ARM SVE
	Kernel: 5.4.0-167-generic
	Compiler: gcc (Ubuntu 10.5.0-1ubuntu1~20.04) 10.5.0

Debian 12 with MUSDK
	Kernel: Container Host Kernel
	Compiler: gcc 12.2.0

Fedora 38 (ARM)
	Kernel: Depends on container host
	Compiler: gcc 13.2.1

Fedora 37 (ARM)
	Kernel: Depends on container host
	Compiler: gcc 12.3.1

Fedora 39 (ARM)
	Kernel: Depends on container host
	Compiler: gcc 13.2.1

Ubuntu 20.04 (ARM)
	Kernel: Container Host Kernel
	Compiler: gcc 9.4.0

Debian 12 (arm)
	Kernel: Container Host Kernel
	Compiler: gcc 12.2.0

Debian 11 (Buster) (ARM)
	Kernel: Container Host Kernel
	Compiler: gcc 10.2.1

CentOS Stream 9 (ARM)
	Kernel: Container Host Kernel
	Compiler: gcc 11.4.1

Ubuntu 20.04 ARM Clang Cross Compile
	Kernel: 5.4.0-72-generic
	Compiler: clang 10.0.0-4ubuntu1

To view detailed results, visit:
https://lab.dpdk.org/results/dashboard/patchsets/29868/

UNH-IOL DPDK Community Lab

To manage your email subscriptions, visit: 
https://lab.dpdk.org/results/dashboard/preferences/subscriptions/