From mboxrd@z Thu Jan  1 00:00:00 1970
Return-Path: <test-report-bounces@dpdk.org>
Received: from mails.dpdk.org (mails.dpdk.org [217.70.189.124])
	by inbox.dpdk.org (Postfix) with ESMTP id AD0EA43F1A
	for <public@inbox.dpdk.org>; Fri, 26 Apr 2024 19:14:11 +0200 (CEST)
Received: from mails.dpdk.org (localhost [127.0.0.1])
	by mails.dpdk.org (Postfix) with ESMTP id A867B43EB7;
	Fri, 26 Apr 2024 19:14:11 +0200 (CEST)
Received: from mail-qv1-f100.google.com (mail-qv1-f100.google.com
 [209.85.219.100])
 by mails.dpdk.org (Postfix) with ESMTP id 9690440144
 for <test-report@dpdk.org>; Fri, 26 Apr 2024 19:14:10 +0200 (CEST)
Received: by mail-qv1-f100.google.com with SMTP id
 6a1803df08f44-6a04bae512aso13419066d6.2
 for <test-report@dpdk.org>; Fri, 26 Apr 2024 10:14:10 -0700 (PDT)
DKIM-Signature: v=1; a=rsa-sha256; c=relaxed/relaxed;
 d=iol.unh.edu; s=unh-iol; t=1714151650; x=1714756450; darn=dpdk.org;
 h=references:in-reply-to:cc:to:from:subject:message-id:date:from:to
 :cc:subject:date:message-id:reply-to;
 bh=3s+IpofxShUs5jrSnlrhzta0EcV55X+D1NT4KPdSYSE=;
 b=ZPQkrKsVod0qXd7nI8tuhLvpMb6bkrnrzJj1p0TJEld5rs2b+BzUzbZGw7kzCMVNG2
 swlqK66VvQxsxa0sP/OanbK1kvB9G6Ls8IzaKvPc8wlt/oOz6ZtzSLFdPQsd7VkXi0nb
 CHVCYdTYGpIG8xmA9cNo66Zaekt4yGIZ3jv+0=
X-Google-DKIM-Signature: v=1; a=rsa-sha256; c=relaxed/relaxed;
 d=1e100.net; s=20230601; t=1714151650; x=1714756450;
 h=references:in-reply-to:cc:to:from:subject:message-id:date
 :x-gm-message-state:from:to:cc:subject:date:message-id:reply-to;
 bh=3s+IpofxShUs5jrSnlrhzta0EcV55X+D1NT4KPdSYSE=;
 b=Zr6nDvAPmbJpHoUsQGNfqX5mF2/6VLz+fVZ3oVdryn4A8gmsdQDOUjy4XOLSxEdXe/
 YkwJ7BmGyavB7QZmaY0MTUcNnvXYSWZFWL5QaAAbMjWr87YeENDUmx7wzdvbdIpnXPuy
 0w0DmPhFX3fFu1TuDht0+qd7YOpRWhmURTdpaoUE7p4ASzGf0KBURKhlJ6VyOVjgPL2/
 qeSPN8b22IoUaSozjpcpKhATHTTo9f6LncYDTjTs5bv036xeMKwxD3he1kvLdr0kD9KF
 +AgDHYcZtZtbRPFGVTFb+yOjfzcxLygIKdV1r5XbJvlwZU169QTix6FBZ9ewSG2alaka
 g7hw==
X-Gm-Message-State: AOJu0YwhyrQQ6WfKmZF9HUcFL3OimbON+fOV2viS0W63kqgzZIjFCw/V
 W5xIUVNgOJ14ghdyQ1uccf7vNBeV+V10pz3KFdRv7ZApAnpQ6f/gcE7Scw4rlDNHC7VCSBsejZ+
 NPNqYiLu3u7EPOsDXz+kx4YlghfUTHm3AdQ3yhWJ2iUvglvXJTuFEztWt
X-Google-Smtp-Source: AGHT+IHRQAc7IVlxoX8KySzwFUsZQMbQQQ4xJoGKGXRSIuAYfno6ncRC5iHkdXem7SjWxm6h38byR1udMBm6
X-Received: by 2002:a05:6214:2421:b0:69b:6e4e:48d7 with SMTP id
 gy1-20020a056214242100b0069b6e4e48d7mr4295838qvb.9.1714151650012; 
 Fri, 26 Apr 2024 10:14:10 -0700 (PDT)
Received: from postal.iol.unh.edu (postal.iol.unh.edu.
 [2606:4100:3880:1234::84]) by smtp-relay.gmail.com with ESMTPS id
 im12-20020a056214246c00b006992a8fa16asm1433471qvb.43.2024.04.26.10.14.09
 (version=TLS1_2 cipher=ECDHE-ECDSA-AES128-GCM-SHA256 bits=128/128);
 Fri, 26 Apr 2024 10:14:10 -0700 (PDT)
X-Relaying-Domain: iol.unh.edu
Date: Fri, 26 Apr 2024 10:14:10 -0700 (PDT)
Message-ID: <662be0e2.050a0220.2368d.d59dSMTPIN_ADDED_MISSING@mx.google.com>
Received: from [172.21.0.6] (unknown [172.18.0.240])
 by postal.iol.unh.edu (Postfix) with ESMTP id B1741604D420;
 Fri, 26 Apr 2024 13:14:09 -0400 (EDT)
Subject: |SUCCESS| pw139705 [PATCH] [RFC,v2] net/af_packet: make stats reset 
From: dpdklab@iol.unh.edu
To: Test Report <test-report@dpdk.org>
Cc: dpdk-test-reports@iol.unh.edu
In-Reply-To: <20240426143848.2280689-1-ferruh.yigit@amd.com>
References: <20240426143848.2280689-1-ferruh.yigit@amd.com>
Content-Type: text/plain
X-BeenThere: test-report@dpdk.org
X-Mailman-Version: 2.1.29
Precedence: list
List-Id: automatic DPDK test reports <test-report.dpdk.org>
List-Unsubscribe: <https://mails.dpdk.org/options/test-report>,
 <mailto:test-report-request@dpdk.org?subject=unsubscribe>
List-Archive: <http://mails.dpdk.org/archives/test-report/>
List-Post: <mailto:test-report@dpdk.org>
List-Help: <mailto:test-report-request@dpdk.org?subject=help>
List-Subscribe: <https://mails.dpdk.org/listinfo/test-report>,
 <mailto:test-report-request@dpdk.org?subject=subscribe>
Errors-To: test-report-bounces@dpdk.org

Test-Label: iol-compile-arm64-testing
Test-Status: SUCCESS
http://dpdk.org/patch/139705

_Testing PASS_

Submitter: Ferruh Yigit <ferruh.yigit@amd.com>
Date: Friday, April 26 2024 14:38:48 
DPDK git baseline: Repo:dpdk
  Branch: master
  CommitID:70fef0ac8fa33eebc9c5c95844466544f35e35f9

139705 --> testing pass

Test environment and result as below:

+----------------------------------------+--------------------+
|              Environment               | dpdk_meson_compile |
+========================================+====================+
| Ubuntu 20.04 ARM SVE                   | PASS               |
+----------------------------------------+--------------------+
| Debian 12 with MUSDK                   | PASS               |
+----------------------------------------+--------------------+
| Fedora 38 (ARM)                        | PASS               |
+----------------------------------------+--------------------+
| Fedora 37 (ARM)                        | PASS               |
+----------------------------------------+--------------------+
| Fedora 39 (ARM)                        | PASS               |
+----------------------------------------+--------------------+
| Ubuntu 20.04 (ARM)                     | PASS               |
+----------------------------------------+--------------------+
| Debian 12 (arm)                        | PASS               |
+----------------------------------------+--------------------+
| Debian 11 (Buster) (ARM)               | PASS               |
+----------------------------------------+--------------------+
| CentOS Stream 9 (ARM)                  | PASS               |
+----------------------------------------+--------------------+
| Ubuntu 20.04 ARM Clang Cross Compile   | PASS               |
+----------------------------------------+--------------------+
| Ubuntu 20.04 aarch32 GCC Cross Compile | PASS               |
+----------------------------------------+--------------------+
| Ubuntu 20.04 ARM GCC Cross Compile     | PASS               |
+----------------------------------------+--------------------+


Ubuntu 20.04 ARM SVE
	Kernel: 5.4.0-167-generic
	Compiler: gcc (Ubuntu 10.5.0-1ubuntu1~20.04) 10.5.0

Debian 12 with MUSDK
	Kernel: Container Host Kernel
	Compiler: gcc 12.2.0

Fedora 38 (ARM)
	Kernel: Depends on container host
	Compiler: gcc 13.2.1

Fedora 37 (ARM)
	Kernel: Depends on container host
	Compiler: gcc 12.3.1

Fedora 39 (ARM)
	Kernel: Depends on container host
	Compiler: gcc 13.2.1

Ubuntu 20.04 (ARM)
	Kernel: Container Host Kernel
	Compiler: gcc 9.4.0

Debian 12 (arm)
	Kernel: Container Host Kernel
	Compiler: gcc 12.2.0

Debian 11 (Buster) (ARM)
	Kernel: Container Host Kernel
	Compiler: gcc 10.2.1

CentOS Stream 9 (ARM)
	Kernel: Container Host Kernel
	Compiler: gcc 11.4.1

Ubuntu 20.04 ARM Clang Cross Compile
	Kernel: 5.4.0-72-generic
	Compiler: clang 10.0.0-4ubuntu1

Ubuntu 20.04 aarch32 GCC Cross Compile
	Kernel: 5.4.0-167-generic
	Compiler: gcc 9.4.0

Ubuntu 20.04 ARM GCC Cross Compile
	Kernel: 5.4.0-167-generic
	Compiler: aarch64-linux-gnu-gcc (Ubuntu 9.4.0-1ubuntu1~20.04.2) 9.4.0

To view detailed results, visit:
https://lab.dpdk.org/results/dashboard/patchsets/29868/

UNH-IOL DPDK Community Lab

To manage your email subscriptions, visit: 
https://lab.dpdk.org/results/dashboard/preferences/subscriptions/