From mboxrd@z Thu Jan  1 00:00:00 1970
Return-Path: <test-report-bounces@dpdk.org>
Received: from mails.dpdk.org (mails.dpdk.org [217.70.189.124])
	by inbox.dpdk.org (Postfix) with ESMTP id 2374D43F1A
	for <public@inbox.dpdk.org>; Fri, 26 Apr 2024 19:30:57 +0200 (CEST)
Received: from mails.dpdk.org (localhost [127.0.0.1])
	by mails.dpdk.org (Postfix) with ESMTP id 1E1FE43EB7;
	Fri, 26 Apr 2024 19:30:57 +0200 (CEST)
Received: from mail-qv1-f97.google.com (mail-qv1-f97.google.com
 [209.85.219.97]) by mails.dpdk.org (Postfix) with ESMTP id 2DE4340144
 for <test-report@dpdk.org>; Fri, 26 Apr 2024 19:30:56 +0200 (CEST)
Received: by mail-qv1-f97.google.com with SMTP id
 6a1803df08f44-6a073f10e25so12773456d6.3
 for <test-report@dpdk.org>; Fri, 26 Apr 2024 10:30:56 -0700 (PDT)
DKIM-Signature: v=1; a=rsa-sha256; c=relaxed/relaxed;
 d=iol.unh.edu; s=unh-iol; t=1714152655; x=1714757455; darn=dpdk.org;
 h=references:in-reply-to:cc:to:from:subject:message-id:date:from:to
 :cc:subject:date:message-id:reply-to;
 bh=fgE6TOvVSdm441TfV0HQvwAQxNec26KYIrkjsP7TlsA=;
 b=YvnDP9O5JIU1gYiC0xqG53c9TI5aAjUYEDwjbDF90b8hD57QI93M3bUf9qqBOSb3EK
 69sm8g2Dy/CJVdIEtdUdqXpH753k9Hv1QKAgraAdLESwFDl7i9fKcR8sYQYF2BViu48n
 57tjo9gJNLigDvi1Z7IFUImbJDZlYULTpUsx4=
X-Google-DKIM-Signature: v=1; a=rsa-sha256; c=relaxed/relaxed;
 d=1e100.net; s=20230601; t=1714152655; x=1714757455;
 h=references:in-reply-to:cc:to:from:subject:message-id:date
 :x-gm-message-state:from:to:cc:subject:date:message-id:reply-to;
 bh=fgE6TOvVSdm441TfV0HQvwAQxNec26KYIrkjsP7TlsA=;
 b=kgBFAQImOD88txTb+8ZLVFxV+kiyoJDZ17evgI8amolkZwI/iOPHfr3bHJyPanY3bG
 UuB+KvCOAD5vGdGHQ8WG/Ujzf1A/sO/TcD7U1Vhsla2GL6RdT7ogXgl+1ZaesglHa+hj
 +OQhLh5jZZlcWrPc8N3tCMjYxuNUptzZKCx8IcUS7tLfLnGbAlkns93xYSNZHS16Gb8S
 tWJKjGrbQn9+B+yY5cqjB0O+Uq0H/sVUYMf8YHUjO9RccJMz4HXMQ3ggrf+MpJn1Ilt0
 NBahpQlsARn40UIFiWEMK400DPMcLbd9u6WIkRze0Mms+WUZJII8hTYqd56VKKiTFl6q
 YIXg==
X-Gm-Message-State: AOJu0YyfIu1zbzIha9IlPCH1bj44k19Do8KEs1/gu7dJ+MNhQV6Z9rMx
 JoSmQ8iUFlq3z/4iYOYX0eICuYD3VsfV/5B3DGKIgCjs34ClQKmbrsZWSnAxzbyFIekB2z1rFIi
 frmssIhGIIyrlsqMj/E05sBUZFPliNDmzgc/qjyrm
X-Google-Smtp-Source: AGHT+IFnMKJc6afxU32XqysjeRKHD2hLJ1pieyENFVOQhBs9GB6ZHcgfD7w+EdzHmQ7qq2xFVWOaaTEYW20t
X-Received: by 2002:a05:6214:c86:b0:699:2760:b44 with SMTP id
 r6-20020a0562140c8600b0069927600b44mr3609871qvr.8.1714152655591; 
 Fri, 26 Apr 2024 10:30:55 -0700 (PDT)
Received: from postal.iol.unh.edu (postal.iol.unh.edu. [132.177.123.84])
 by smtp-relay.gmail.com with ESMTPS id
 k18-20020a0cc792000000b006a0ab152cd2sm121350qvj.10.2024.04.26.10.30.55
 (version=TLS1_2 cipher=ECDHE-ECDSA-AES128-GCM-SHA256 bits=128/128);
 Fri, 26 Apr 2024 10:30:55 -0700 (PDT)
X-Relaying-Domain: iol.unh.edu
Date: Fri, 26 Apr 2024 10:30:55 -0700 (PDT)
Message-ID: <662be4cf.0c0a0220.11908.890eSMTPIN_ADDED_MISSING@mx.google.com>
Received: from [172.21.0.6] (unknown [172.18.0.240])
 by postal.iol.unh.edu (Postfix) with ESMTP id 46228604D420;
 Fri, 26 Apr 2024 13:30:55 -0400 (EDT)
Subject: |SUCCESS| pw139704-139703 [PATCH] [RFC,2/2] graph: add ip4 output fe
From: dpdklab@iol.unh.edu
To: Test Report <test-report@dpdk.org>
Cc: dpdk-test-reports@iol.unh.edu
In-Reply-To: <20240426122203.32357-3-nsaxena@marvell.com>
References: <20240426122203.32357-3-nsaxena@marvell.com>
Content-Type: text/plain
X-BeenThere: test-report@dpdk.org
X-Mailman-Version: 2.1.29
Precedence: list
List-Id: automatic DPDK test reports <test-report.dpdk.org>
List-Unsubscribe: <https://mails.dpdk.org/options/test-report>,
 <mailto:test-report-request@dpdk.org?subject=unsubscribe>
List-Archive: <http://mails.dpdk.org/archives/test-report/>
List-Post: <mailto:test-report@dpdk.org>
List-Help: <mailto:test-report-request@dpdk.org?subject=help>
List-Subscribe: <https://mails.dpdk.org/listinfo/test-report>,
 <mailto:test-report-request@dpdk.org?subject=subscribe>
Errors-To: test-report-bounces@dpdk.org

Test-Label: iol-abi-testing
Test-Status: SUCCESS
http://dpdk.org/patch/139703

_Testing PASS_

Submitter: Nitin Saxena <nsaxena@marvell.com>
Date: Friday, April 26 2024 12:22:03 
DPDK git baseline: Repo:dpdk
  Branch: master
  CommitID:7e06c0de1952d3109a5b0c4779d7e7d8059c9d78

139704-139703 --> testing pass

Test environment and result as below:

+-----------------+----------+
|   Environment   | abi_test |
+=================+==========+
| Fedora 37       | PASS     |
+-----------------+----------+
| Ubuntu 22.04    | PASS     |
+-----------------+----------+
| CentOS Stream 8 | PASS     |
+-----------------+----------+


Fedora 37
	Kernel: Depends on container host system
	Compiler: gcc 12.3.1

Ubuntu 22.04
	Kernel: 5.4.0-167-generic
	Compiler: gcc 11.4.0

CentOS Stream 8
	Kernel: 5.4.0-167-generic
	Compiler: gcc 8.5.0 20210514

To view detailed results, visit:
https://lab.dpdk.org/results/dashboard/patchsets/29867/

UNH-IOL DPDK Community Lab

To manage your email subscriptions, visit: 
https://lab.dpdk.org/results/dashboard/preferences/subscriptions/