From mboxrd@z Thu Jan  1 00:00:00 1970
Return-Path: <test-report-bounces@dpdk.org>
Received: from mails.dpdk.org (mails.dpdk.org [217.70.189.124])
	by inbox.dpdk.org (Postfix) with ESMTP id 4FB0E43F1A
	for <public@inbox.dpdk.org>; Fri, 26 Apr 2024 19:37:39 +0200 (CEST)
Received: from mails.dpdk.org (localhost [127.0.0.1])
	by mails.dpdk.org (Postfix) with ESMTP id 460A943EB7;
	Fri, 26 Apr 2024 19:37:39 +0200 (CEST)
Received: from mail-pj1-f100.google.com (mail-pj1-f100.google.com
 [209.85.216.100])
 by mails.dpdk.org (Postfix) with ESMTP id 7415440144
 for <test-report@dpdk.org>; Fri, 26 Apr 2024 19:37:38 +0200 (CEST)
Received: by mail-pj1-f100.google.com with SMTP id
 98e67ed59e1d1-2b0cd879c57so14934a91.1
 for <test-report@dpdk.org>; Fri, 26 Apr 2024 10:37:38 -0700 (PDT)
DKIM-Signature: v=1; a=rsa-sha256; c=relaxed/relaxed;
 d=iol.unh.edu; s=unh-iol; t=1714153057; x=1714757857; darn=dpdk.org;
 h=references:in-reply-to:cc:to:from:subject:message-id:date:from:to
 :cc:subject:date:message-id:reply-to;
 bh=Y/gt7CPAODMdIw4UXzXeP8xMyqObzQRgz7L79utrV+s=;
 b=Q9QJzAaYmQj3fx76RMXjrJ1mrvxdBj13upRHzoiTch8RwFNh6pX5S3P+Sj378cVNIn
 47UzizPtLAWRxHprsnfb+Srw3mwDQpC0NXFxrUgD6p7P5SfgXtUr6/K4PGYNLAa6spAC
 eXq0xW3LJKxQjMb0zZtHTqXZj1ElRn2E10d/k=
X-Google-DKIM-Signature: v=1; a=rsa-sha256; c=relaxed/relaxed;
 d=1e100.net; s=20230601; t=1714153057; x=1714757857;
 h=references:in-reply-to:cc:to:from:subject:message-id:date
 :x-gm-message-state:from:to:cc:subject:date:message-id:reply-to;
 bh=Y/gt7CPAODMdIw4UXzXeP8xMyqObzQRgz7L79utrV+s=;
 b=lOHTu7XIacsKwIpdyksS6c8aOiAOoLWAtsXMMLHJaE8WW9GpclwococnmDWHakh+3m
 cHPAagSPkjMVZRNm/7Wv+OBkMQuvuwLNR5nl14iLiYfdoukNOPNFDJkL2I9qAshgOv16
 ei0sHMGd9p7OrPIlV1PC9WEzfPv9rIgVdQqjnJnYwN0bCbdXO4vJ1L7znHqRV2rX84Bf
 lNhpecQptZ9r36sJ1pHwjQ0jlcfym7j1VDPdczej4wILBXe6vqLM2T3l2xgFbLdioBC6
 OQSPJbpsU/F8GzLbocyFUldmBdtxtPjzkQyEf6wk/s95TvDzJhI4pC7YtLpRh5fp72pD
 BmbQ==
X-Gm-Message-State: AOJu0YxSphOFxDdtx3zq5TpvHZwgLElh0Rab5j0n7ZUGeVvV/c6LxynB
 W+TIVH3acionBy+YOJNgCmVCPoWs53286O4GhzYHkkLoG/jHrJCjf0uKkZZEQbHnZsqdl633zpB
 DD2KgT5T4Cq/r7xru+TI8qJhVZTS2DEnVvtYLxYNT
X-Google-Smtp-Source: AGHT+IHcAfk3N0CqzZ3/gzduW/QRzlPq6qLzG7OqlKaPLrlYIV0+4MmBRiWPT6X/1c3htWSCEBHliz/1zcHs
X-Received: by 2002:a17:90a:e646:b0:2a2:4192:dfc1 with SMTP id
 ep6-20020a17090ae64600b002a24192dfc1mr3541554pjb.14.1714153057635; 
 Fri, 26 Apr 2024 10:37:37 -0700 (PDT)
Received: from postal.iol.unh.edu (postal.iol.unh.edu. [132.177.123.84])
 by smtp-relay.gmail.com with ESMTPS id
 oc11-20020a17090b1c0b00b002aeb78be03asm585336pjb.13.2024.04.26.10.37.37
 (version=TLS1_2 cipher=ECDHE-ECDSA-AES128-GCM-SHA256 bits=128/128);
 Fri, 26 Apr 2024 10:37:37 -0700 (PDT)
X-Relaying-Domain: iol.unh.edu
Date: Fri, 26 Apr 2024 10:37:37 -0700 (PDT)
Message-ID: <662be661.170a0220.f9b28.bae0SMTPIN_ADDED_MISSING@mx.google.com>
Received: from [172.21.0.6] (unknown [172.18.0.240])
 by postal.iol.unh.edu (Postfix) with ESMTP id CA2AE604D420;
 Fri, 26 Apr 2024 13:37:36 -0400 (EDT)
Subject: |SUCCESS| pw139704-139703 [PATCH] [RFC,2/2] graph: add ip4 output fe
From: dpdklab@iol.unh.edu
To: Test Report <test-report@dpdk.org>
Cc: dpdk-test-reports@iol.unh.edu
In-Reply-To: <20240426122203.32357-3-nsaxena@marvell.com>
References: <20240426122203.32357-3-nsaxena@marvell.com>
Content-Type: text/plain
X-BeenThere: test-report@dpdk.org
X-Mailman-Version: 2.1.29
Precedence: list
List-Id: automatic DPDK test reports <test-report.dpdk.org>
List-Unsubscribe: <https://mails.dpdk.org/options/test-report>,
 <mailto:test-report-request@dpdk.org?subject=unsubscribe>
List-Archive: <http://mails.dpdk.org/archives/test-report/>
List-Post: <mailto:test-report@dpdk.org>
List-Help: <mailto:test-report-request@dpdk.org?subject=help>
List-Subscribe: <https://mails.dpdk.org/listinfo/test-report>,
 <mailto:test-report-request@dpdk.org?subject=subscribe>
Errors-To: test-report-bounces@dpdk.org

Test-Label: iol-abi-testing
Test-Status: SUCCESS
http://dpdk.org/patch/139703

_Testing PASS_

Submitter: Nitin Saxena <nsaxena@marvell.com>
Date: Friday, April 26 2024 12:22:03 
DPDK git baseline: Repo:dpdk
  Branch: master
  CommitID:7e06c0de1952d3109a5b0c4779d7e7d8059c9d78

139704-139703 --> testing pass

Test environment and result as below:

+-----------------+----------+
|   Environment   | abi_test |
+=================+==========+
| Fedora 37       | PASS     |
+-----------------+----------+
| Ubuntu 22.04    | PASS     |
+-----------------+----------+
| CentOS Stream 8 | PASS     |
+-----------------+----------+
| Fedora 39       | PASS     |
+-----------------+----------+
| Debian Bullseye | PASS     |
+-----------------+----------+
| Fedora 38       | PASS     |
+-----------------+----------+


Fedora 37
	Kernel: Depends on container host system
	Compiler: gcc 12.3.1

Ubuntu 22.04
	Kernel: 5.4.0-167-generic
	Compiler: gcc 11.4.0

CentOS Stream 8
	Kernel: 5.4.0-167-generic
	Compiler: gcc 8.5.0 20210514

Fedora 39
	Kernel: Depends on container host
	Compiler: clang 17.0.6

Debian Bullseye
	Kernel: 5.4.0-167-generic
	Compiler: gcc 10.2.1-6

Fedora 38
	Kernel: Depends on container host
	Compiler: clang 16.0.6

To view detailed results, visit:
https://lab.dpdk.org/results/dashboard/patchsets/29867/

UNH-IOL DPDK Community Lab

To manage your email subscriptions, visit: 
https://lab.dpdk.org/results/dashboard/preferences/subscriptions/