From mboxrd@z Thu Jan  1 00:00:00 1970
Return-Path: <test-report-bounces@dpdk.org>
Received: from mails.dpdk.org (mails.dpdk.org [217.70.189.124])
	by inbox.dpdk.org (Postfix) with ESMTP id 67B1943F1B
	for <public@inbox.dpdk.org>; Fri, 26 Apr 2024 20:07:34 +0200 (CEST)
Received: from mails.dpdk.org (localhost [127.0.0.1])
	by mails.dpdk.org (Postfix) with ESMTP id 62C354026C;
	Fri, 26 Apr 2024 20:07:34 +0200 (CEST)
Received: from mail-oo1-f100.google.com (mail-oo1-f100.google.com
 [209.85.161.100])
 by mails.dpdk.org (Postfix) with ESMTP id D285040144
 for <test-report@dpdk.org>; Fri, 26 Apr 2024 20:07:33 +0200 (CEST)
Received: by mail-oo1-f100.google.com with SMTP id
 006d021491bc7-5acb90b2a82so1619731eaf.0
 for <test-report@dpdk.org>; Fri, 26 Apr 2024 11:07:33 -0700 (PDT)
DKIM-Signature: v=1; a=rsa-sha256; c=relaxed/relaxed;
 d=iol.unh.edu; s=unh-iol; t=1714154853; x=1714759653; darn=dpdk.org;
 h=references:in-reply-to:cc:to:from:subject:message-id:date:from:to
 :cc:subject:date:message-id:reply-to;
 bh=hLEFzOaaFO/BazeEBOxiWTdD3GDUAPipNxgh3mhqRYI=;
 b=bI6pBxLXlnDNg3hji1yh8lNMUuOlTCCzddBSLWz12kzFG+iLYYDXvUhrB8ZULXCjOZ
 +utaFojPKj34gL0ln0Gn+utjDohBbHojlBkZ8jAI3YXDouUGWdtjKxu3LHkV1R3yJLeX
 bj+8F9iOv99a3wZ2vn4OCgAgBOEcQX6sbLVBo=
X-Google-DKIM-Signature: v=1; a=rsa-sha256; c=relaxed/relaxed;
 d=1e100.net; s=20230601; t=1714154853; x=1714759653;
 h=references:in-reply-to:cc:to:from:subject:message-id:date
 :x-gm-message-state:from:to:cc:subject:date:message-id:reply-to;
 bh=hLEFzOaaFO/BazeEBOxiWTdD3GDUAPipNxgh3mhqRYI=;
 b=laJBc/qR2+Ks8TrOsUNa6AT5TRfwvGLqNHD7LVikcmsnqOvKiNme/ayQNRNLHQvdTb
 bMFNb04O/xoUAvcB/hvAzEqiVjpPm85LE7b/BfEB7REgcqbF+eE72ygWTNU/FOBcN3qL
 42CT04ZvOd7YiTA6J07EhfVGQaO7b/j74VzFlaXcWpnvWobJhQQJnc3tz2IHDjfhl4TC
 jnjpITYGqjGYu4+zfDL+rW4k7q+qcJXeKCy9ZZ0yJE2OxnQPX3hWZIlIHj6Gs1RTWEe5
 6DEI+vIEuSRdbRf/HhJoFxh+AO7gDX9jh8l9mFQX6cBhvH7ecgPv/tzguSW6gA3ppVI6
 qKTg==
X-Gm-Message-State: AOJu0YyCmqyV33bM+r+fztTYOeFjRfECOVy7fld6eqivfCLCmozpNtTT
 NDKqLdB1O2EtLgBg3oYBmZ9y3Kugk6Tv8tocuTi7aCNp1ZDR1wL00HgYxA0Rx9AGIV7cgFP2GOK
 eI3lVse1j3HN2RTs1Y+uwx/MywCPRxSiCEX6SkbBM4ORs0sP3MsJLQFRj
X-Google-Smtp-Source: AGHT+IG7C74NwLpIgt12lP1bECENe45QAJm0+oHACnOEDhx+Ic3cmKOkANIZlnYq4rxnyiRy159q3vA8osfO
X-Received: by 2002:a05:6358:7a7:b0:18d:e302:35ba with SMTP id
 n39-20020a05635807a700b0018de30235bamr3120059rwj.29.1714154853090; 
 Fri, 26 Apr 2024 11:07:33 -0700 (PDT)
Received: from postal.iol.unh.edu (postal.iol.unh.edu.
 [2606:4100:3880:1234::84]) by smtp-relay.gmail.com with ESMTPS id
 j14-20020a056122218e00b004ded8521cc6sm83637vkd.2.2024.04.26.11.07.32
 (version=TLS1_2 cipher=ECDHE-ECDSA-AES128-GCM-SHA256 bits=128/128);
 Fri, 26 Apr 2024 11:07:33 -0700 (PDT)
X-Relaying-Domain: iol.unh.edu
Date: Fri, 26 Apr 2024 11:07:33 -0700 (PDT)
Message-ID: <662bed65.050a0220.f30a2.55e3SMTPIN_ADDED_MISSING@mx.google.com>
Received: from [172.17.0.2] (unknown [172.18.0.217])
 by postal.iol.unh.edu (Postfix) with ESMTP id A8DC5604D420;
 Fri, 26 Apr 2024 14:07:32 -0400 (EDT)
Subject: |SUCCESS| pw139704-139703 [PATCH] [RFC,2/2] graph: add ip4 output fe
From: dpdklab@iol.unh.edu
To: Test Report <test-report@dpdk.org>
Cc: dpdk-test-reports@iol.unh.edu
In-Reply-To: <20240426122203.32357-3-nsaxena@marvell.com>
References: <20240426122203.32357-3-nsaxena@marvell.com>
Content-Type: text/plain
X-BeenThere: test-report@dpdk.org
X-Mailman-Version: 2.1.29
Precedence: list
List-Id: automatic DPDK test reports <test-report.dpdk.org>
List-Unsubscribe: <https://mails.dpdk.org/options/test-report>,
 <mailto:test-report-request@dpdk.org?subject=unsubscribe>
List-Archive: <http://mails.dpdk.org/archives/test-report/>
List-Post: <mailto:test-report@dpdk.org>
List-Help: <mailto:test-report-request@dpdk.org?subject=help>
List-Subscribe: <https://mails.dpdk.org/listinfo/test-report>,
 <mailto:test-report-request@dpdk.org?subject=subscribe>
Errors-To: test-report-bounces@dpdk.org

Test-Label: iol-unit-arm64-testing
Test-Status: SUCCESS
http://dpdk.org/patch/139703

_Testing PASS_

Submitter: Nitin Saxena <nsaxena@marvell.com>
Date: Friday, April 26 2024 12:22:03 
DPDK git baseline: Repo:dpdk
  Branch: master
  CommitID:7e06c0de1952d3109a5b0c4779d7e7d8059c9d78

139704-139703 --> testing pass

Test environment and result as below:

+-----------------------------+----------------+------------------------------+---------------------------+--------------+
|         Environment         | dpdk_unit_test | cryptodev_sw_snow3g_autotest | cryptodev_sw_zuc_autotest | lpm_autotest |
+=============================+================+==============================+===========================+==============+
| Fedora 37 (ARM)             | PASS           | SKIPPED                      | SKIPPED                   | SKIPPED      |
+-----------------------------+----------------+------------------------------+---------------------------+--------------+
| Debian 12 (arm)             | PASS           | PASS                         | PASS                      | SKIPPED      |
+-----------------------------+----------------+------------------------------+---------------------------+--------------+
| CentOS Stream 9 (ARM)       | PASS           | SKIPPED                      | SKIPPED                   | SKIPPED      |
+-----------------------------+----------------+------------------------------+---------------------------+--------------+
| Fedora 39 (ARM)             | PASS           | SKIPPED                      | SKIPPED                   | SKIPPED      |
+-----------------------------+----------------+------------------------------+---------------------------+--------------+
| Fedora 38 (ARM)             | PASS           | SKIPPED                      | SKIPPED                   | SKIPPED      |
+-----------------------------+----------------+------------------------------+---------------------------+--------------+
| Fedora 38 (ARM Clang)       | PASS           | SKIPPED                      | SKIPPED                   | SKIPPED      |
+-----------------------------+----------------+------------------------------+---------------------------+--------------+
| Ubuntu 20.04 (ARM)          | PASS           | SKIPPED                      | SKIPPED                   | SKIPPED      |
+-----------------------------+----------------+------------------------------+---------------------------+--------------+
| Debian 11 (Buster) (ARM)    | PASS           | SKIPPED                      | SKIPPED                   | SKIPPED      |
+-----------------------------+----------------+------------------------------+---------------------------+--------------+
| 32-bit Ubuntu 20.04.4 (ARM) | PASS           | SKIPPED                      | SKIPPED                   | SKIPPED      |
+-----------------------------+----------------+------------------------------+---------------------------+--------------+
| Fedora 39 (ARM Clang)       | PASS           | SKIPPED                      | SKIPPED                   | SKIPPED      |
+-----------------------------+----------------+------------------------------+---------------------------+--------------+
| Ubuntu 20.04 ARM SVE        | SKIPPED        | SKIPPED                      | SKIPPED                   | PASS         |
+-----------------------------+----------------+------------------------------+---------------------------+--------------+


Fedora 37 (ARM)
	Kernel: Depends on container host
	Compiler: gcc 12.3.1

Debian 12 (arm)
	Kernel: Container Host Kernel
	Compiler: gcc 12.2.0

CentOS Stream 9 (ARM)
	Kernel: Container Host Kernel
	Compiler: gcc 11.4.1

Fedora 39 (ARM)
	Kernel: Depends on container host
	Compiler: gcc 13.2.1

Fedora 38 (ARM)
	Kernel: Depends on container host
	Compiler: gcc 13.2.1

Fedora 38 (ARM Clang)
	Kernel: Depends on container host
	Compiler: clang 16.0.6

Ubuntu 20.04 (ARM)
	Kernel: Container Host Kernel
	Compiler: gcc 9.4.0

Debian 11 (Buster) (ARM)
	Kernel: Container Host Kernel
	Compiler: gcc 10.2.1

32-bit Ubuntu 20.04.4 (ARM)
	Kernel: 5.4.0-155-generic aarch64
	Compiler: gcc 9.4

Fedora 39 (ARM Clang)
	Kernel: Depends on container host
	Compiler: clang 17.0.6

Ubuntu 20.04 ARM SVE
	Kernel: 5.4.0-167-generic
	Compiler: gcc (Ubuntu 10.5.0-1ubuntu1~20.04) 10.5.0

To view detailed results, visit:
https://lab.dpdk.org/results/dashboard/patchsets/29867/

UNH-IOL DPDK Community Lab

To manage your email subscriptions, visit: 
https://lab.dpdk.org/results/dashboard/preferences/subscriptions/