From mboxrd@z Thu Jan  1 00:00:00 1970
Return-Path: <test-report-bounces@dpdk.org>
Received: from mails.dpdk.org (mails.dpdk.org [217.70.189.124])
	by inbox.dpdk.org (Postfix) with ESMTP id 10CC743F1F
	for <public@inbox.dpdk.org>; Sat, 27 Apr 2024 00:28:46 +0200 (CEST)
Received: from mails.dpdk.org (localhost [127.0.0.1])
	by mails.dpdk.org (Postfix) with ESMTP id 078864406B;
	Sat, 27 Apr 2024 00:28:46 +0200 (CEST)
Received: from mail-oo1-f98.google.com (mail-oo1-f98.google.com
 [209.85.161.98]) by mails.dpdk.org (Postfix) with ESMTP id 5C4B4402BA
 for <test-report@dpdk.org>; Sat, 27 Apr 2024 00:28:21 +0200 (CEST)
Received: by mail-oo1-f98.google.com with SMTP id
 006d021491bc7-5aa4204bacdso1514231eaf.2
 for <test-report@dpdk.org>; Fri, 26 Apr 2024 15:28:21 -0700 (PDT)
DKIM-Signature: v=1; a=rsa-sha256; c=relaxed/relaxed;
 d=iol.unh.edu; s=unh-iol; t=1714170500; x=1714775300; darn=dpdk.org;
 h=references:in-reply-to:cc:to:from:subject:message-id:date:from:to
 :cc:subject:date:message-id:reply-to;
 bh=xDplQ4MCsY1H0ZD9454IuH3YjKZEZOL3xA01ds8kVjo=;
 b=jAhLys0dfeobeONiH4664g9sjYGimIwlTpI9inveH9xTs+4A9c0Vkmco+78X3juwP7
 qEXo8LN1rcH9n5+VyFlDZ4yBTPNTGgLZs9JppV6cOt+xRmAXOxvpVOkFsd/Fj/mV1tLK
 mkwfjXkIhj7VV1cYIQx1NWgZoM2nn/TvSZ5rc=
X-Google-DKIM-Signature: v=1; a=rsa-sha256; c=relaxed/relaxed;
 d=1e100.net; s=20230601; t=1714170500; x=1714775300;
 h=references:in-reply-to:cc:to:from:subject:message-id:date
 :x-gm-message-state:from:to:cc:subject:date:message-id:reply-to;
 bh=xDplQ4MCsY1H0ZD9454IuH3YjKZEZOL3xA01ds8kVjo=;
 b=F68zDmcI5xBnjA8R9sFnENuoilhd/H80KKSZdolQRhO7sdqYD3YaM5NMlgiqaDPWFv
 MIFT1xBxBS+ZJ7UbZzNJWoxA6rN3WPbO8HLpTpp5kXhFPO4aNXAnSDxudqbWwfZkOrXo
 wDQqkKnUdA88ssN5ixGnK8R1PDECt99BwUMZd//Bk5GQBKcVB4J1YtKLOmwuXJ1LRWNR
 wHqAkd4gUq4Jc7YfusHbPlitio3CAw8wIOBiZioz66wvdVBLhv9/TXpxzRgCkl3aL1/5
 tM5rbI3hhvFEZKkPd0T7dg096i0p/hvMD4NqdAHIkQ7TBIGNOsdGplBO0PxAPtMUaCRD
 MzBA==
X-Gm-Message-State: AOJu0YxvmyavsvGLqgmz93NgzKftlvIST39fUMthqK0FiJqU43KpYSZs
 guSFnl0EfG2qRYT7ly54xKvsRS5mEA6pNSF7Calnu6CxSpS2gmTYpgBv+TSKTCkV6zCX1o6KlBT
 M/1Wd5DRqpek05oAOnhHQ1RZTnzl79XMrX3t3TBFsVVUZcQVF9FWSmqAz
X-Google-Smtp-Source: AGHT+IHWrMI4bhIlagtoeYhPm69ypwQcXgfANDN8EZ2mEJc4Yx+VLiy6UYo6wnl2txoxuaL/Uj3xxj7Z69UK
X-Received: by 2002:a05:6358:9604:b0:18d:787a:4155 with SMTP id
 a4-20020a056358960400b0018d787a4155mr4242649rwb.1.1714170500696; 
 Fri, 26 Apr 2024 15:28:20 -0700 (PDT)
Received: from postal.iol.unh.edu (postal.iol.unh.edu.
 [2606:4100:3880:1234::84]) by smtp-relay.gmail.com with ESMTPS id
 iw2-20020a0562140f2200b0069b77a79029sm1463305qvb.58.2024.04.26.15.28.20
 (version=TLS1_2 cipher=ECDHE-ECDSA-AES128-GCM-SHA256 bits=128/128);
 Fri, 26 Apr 2024 15:28:20 -0700 (PDT)
X-Relaying-Domain: iol.unh.edu
Date: Fri, 26 Apr 2024 15:28:20 -0700 (PDT)
Message-ID: <662c2a84.050a0220.84605.2530SMTPIN_ADDED_MISSING@mx.google.com>
Received: from [172.21.0.7] (unknown [172.18.0.240])
 by postal.iol.unh.edu (Postfix) with ESMTP id 65456604D420;
 Fri, 26 Apr 2024 18:28:20 -0400 (EDT)
Subject: |SUCCESS| pw139683-139686 [PATCH] [RFC,4/4] eal/malloc: remove type 
From: dpdklab@iol.unh.edu
To: Test Report <test-report@dpdk.org>
Cc: dpdk-test-reports@iol.unh.edu
In-Reply-To: <20240425182738.4771-5-stephen@networkplumber.org>
References: <20240425182738.4771-5-stephen@networkplumber.org>
Content-Type: text/plain
X-BeenThere: test-report@dpdk.org
X-Mailman-Version: 2.1.29
Precedence: list
List-Id: automatic DPDK test reports <test-report.dpdk.org>
List-Unsubscribe: <https://mails.dpdk.org/options/test-report>,
 <mailto:test-report-request@dpdk.org?subject=unsubscribe>
List-Archive: <http://mails.dpdk.org/archives/test-report/>
List-Post: <mailto:test-report@dpdk.org>
List-Help: <mailto:test-report-request@dpdk.org?subject=help>
List-Subscribe: <https://mails.dpdk.org/listinfo/test-report>,
 <mailto:test-report-request@dpdk.org?subject=subscribe>
Errors-To: test-report-bounces@dpdk.org

Test-Label: iol-compile-amd64-testing
Test-Status: SUCCESS
http://dpdk.org/patch/139686

_Testing PASS_

Submitter: Stephen Hemminger <stephen@networkplumber.org>
Date: Thursday, April 25 2024 18:24:01 
DPDK git baseline: Repo:dpdk
  Branch: master
  CommitID:7e06c0de1952d3109a5b0c4779d7e7d8059c9d78

139683-139686 --> testing pass

Test environment and result as below:

+---------------------+--------------------+----------------------+-------------------+
|     Environment     | dpdk_meson_compile | dpdk_mingw64_compile | dpdk_msvc_compile |
+=====================+====================+======================+===================+
| Windows Server 2019 | PASS               | PASS                 | SKIPPED           |
+---------------------+--------------------+----------------------+-------------------+
| Windows Server 2022 | PASS               | PASS                 | PASS              |
+---------------------+--------------------+----------------------+-------------------+
| FreeBSD 13.3        | PASS               | SKIPPED              | SKIPPED           |
+---------------------+--------------------+----------------------+-------------------+
| CentOS Stream 8     | PASS               | SKIPPED              | SKIPPED           |
+---------------------+--------------------+----------------------+-------------------+
| Debian Bullseye     | PASS               | SKIPPED              | SKIPPED           |
+---------------------+--------------------+----------------------+-------------------+
| CentOS Stream 9     | PASS               | SKIPPED              | SKIPPED           |
+---------------------+--------------------+----------------------+-------------------+
| Debian 12           | PASS               | SKIPPED              | SKIPPED           |
+---------------------+--------------------+----------------------+-------------------+
| Fedora 38           | PASS               | SKIPPED              | SKIPPED           |
+---------------------+--------------------+----------------------+-------------------+
| openSUSE Leap 15    | PASS               | SKIPPED              | SKIPPED           |
+---------------------+--------------------+----------------------+-------------------+
| Fedora 37           | PASS               | SKIPPED              | SKIPPED           |
+---------------------+--------------------+----------------------+-------------------+
| RHEL8               | PASS               | SKIPPED              | SKIPPED           |
+---------------------+--------------------+----------------------+-------------------+
| Ubuntu 20.04        | PASS               | SKIPPED              | SKIPPED           |
+---------------------+--------------------+----------------------+-------------------+
| Ubuntu 22.04        | PASS               | SKIPPED              | SKIPPED           |
+---------------------+--------------------+----------------------+-------------------+
| Fedora 39           | PASS               | SKIPPED              | SKIPPED           |
+---------------------+--------------------+----------------------+-------------------+


Windows Server 2019
	Kernel: 10.0.17763
	Compiler: clang 14.0 and gcc 8.1.0 (MinGW)

Windows Server 2022
	Kernel: 10.0.20348.2031
	Compiler: clang 15.0.7, gcc 8.1.0 (MinGW), and MSVC VS 17.9

FreeBSD 13.3
	Kernel: 13.3-RELEASE-p1
	Compiler: clang 17.0.6

CentOS Stream 8
	Kernel: 5.4.0-167-generic
	Compiler: gcc 8.5.0 20210514

Debian Bullseye
	Kernel: 5.4.0-167-generic
	Compiler: gcc 10.2.1-6

CentOS Stream 9
	Kernel: 5.4.0-167-generic
	Compiler: gcc 11.4.1 20230605

Debian 12
	Kernel: Container Host Kernel
	Compiler: gcc 10.2.1

Fedora 38
	Kernel: Depends on container host
	Compiler: gcc 13.2.1

openSUSE Leap 15
	Kernel: 5.4.0-167-generic
	Compiler: gcc 7.5.0

Fedora 37
	Kernel: Depends on container host system
	Compiler: gcc 12.3.1

RHEL8
	Kernel: 5.4.0-167-generic
	Compiler: gcc 8.5.0 20210514 (Red Hat 8.5.0-20)

Ubuntu 20.04
	Kernel: 5.4.0-167-generic
	Compiler: gcc 9.4.0-1ubuntu1~20.04.1

Ubuntu 22.04
	Kernel: 5.4.0-167-generic
	Compiler: gcc 11.4.0

Fedora 39
	Kernel: Depends on container host
	Compiler: clang 17.0.6

To view detailed results, visit:
https://lab.dpdk.org/results/dashboard/patchsets/29859/

UNH-IOL DPDK Community Lab

To manage your email subscriptions, visit: 
https://lab.dpdk.org/results/dashboard/preferences/subscriptions/