From mboxrd@z Thu Jan  1 00:00:00 1970
Return-Path: <test-report-bounces@dpdk.org>
Received: from mails.dpdk.org (mails.dpdk.org [217.70.189.124])
	by inbox.dpdk.org (Postfix) with ESMTP id 7EDE443F1F
	for <public@inbox.dpdk.org>; Sat, 27 Apr 2024 00:48:30 +0200 (CEST)
Received: from mails.dpdk.org (localhost [127.0.0.1])
	by mails.dpdk.org (Postfix) with ESMTP id 76E5E44095;
	Sat, 27 Apr 2024 00:48:30 +0200 (CEST)
Received: from mail-io1-f97.google.com (mail-io1-f97.google.com
 [209.85.166.97]) by mails.dpdk.org (Postfix) with ESMTP id 2F0CE4406D
 for <test-report@dpdk.org>; Sat, 27 Apr 2024 00:48:29 +0200 (CEST)
Received: by mail-io1-f97.google.com with SMTP id
 ca18e2360f4ac-7dea4c5987cso64408939f.1
 for <test-report@dpdk.org>; Fri, 26 Apr 2024 15:48:29 -0700 (PDT)
DKIM-Signature: v=1; a=rsa-sha256; c=relaxed/relaxed;
 d=iol.unh.edu; s=unh-iol; t=1714171708; x=1714776508; darn=dpdk.org;
 h=references:in-reply-to:cc:to:from:subject:message-id:date:from:to
 :cc:subject:date:message-id:reply-to;
 bh=V/xCCrxo7WUYDyMqHOW5oxYAZKXRjHP7MYUwIFNf8co=;
 b=KQt1Ev6q+ZZznAJv2jKPwsRYKytNi/txds4qViidxaSNqURNvNORRFLHNuI7MAt8XI
 5OCevjJx/0XWX+wCxSazELjb5/S2+h6eplNYU1U1JWJOrGcRgjGgZCps0tBf++NMMIeM
 FqTC8OyjCplfvqSs2eu0cFjy47jXJ90kXeP34=
X-Google-DKIM-Signature: v=1; a=rsa-sha256; c=relaxed/relaxed;
 d=1e100.net; s=20230601; t=1714171708; x=1714776508;
 h=references:in-reply-to:cc:to:from:subject:message-id:date
 :x-gm-message-state:from:to:cc:subject:date:message-id:reply-to;
 bh=V/xCCrxo7WUYDyMqHOW5oxYAZKXRjHP7MYUwIFNf8co=;
 b=MYzXfQ89pb1q/BdZF3/4TR16E2me2M744l80+sfwFs2I8tZv99V/RIhuC3lagd2iUw
 b6ini6D5imvj3W9ZjGvMPeqzAYeEM7wAnxLMfd+DN4omCeFVD7ORiCF1vnaPI33FB9aG
 1m7CwSN4rzoty5Zh6DnNcss+w9DZ5y0wNU2f9yIFkafUbYoA8jnB9zdGEPs6rcZf3l3H
 vemlnroR8qdXNWNmvyn2hVGhidtrK0abR0h1pLnpA1MX9Qnsiw3ZuIVaAKOVVkJgwJkI
 IkLr6Rw79T7MbEb89rlwhwWnzVoT5VBeqQNuihzDlcGlZ5ts1BgJj4mtntBQ+/Q6z3Qm
 sPZA==
X-Gm-Message-State: AOJu0YzcnOzjprwiUESLCw6stAGptkZ+BqSNm4/jJTRsmGbUqfGDJPET
 1+frwcst/i0s+p/rvLX21c7C2kP2F5mRz9TyykVmFCf9eFBp18lu+n/ARTgVQ4249JVlFA/mZRp
 GpBfTyH3QFTA3RpasmgfMTzIw+C9o50RILCpsieHv8ZBf1cGilP/6/bZY
X-Google-Smtp-Source: AGHT+IHjaeKHpJlbYyB25g4U3EywvCZOdEieFeKenWlacpeITQnfD7g0CVgxIfdG7MTtt/XKuuTFFY/cVBCP
X-Received: by 2002:a6b:c407:0:b0:7da:1a22:e832 with SMTP id
 y7-20020a6bc407000000b007da1a22e832mr1507286ioa.0.1714171708542; 
 Fri, 26 Apr 2024 15:48:28 -0700 (PDT)
Received: from postal.iol.unh.edu (postal.iol.unh.edu.
 [2606:4100:3880:1234::84]) by smtp-relay.gmail.com with ESMTPS id
 v7-20020a02cba7000000b0047ee4a6c26dsm1379497jap.42.2024.04.26.15.48.28
 (version=TLS1_2 cipher=ECDHE-ECDSA-AES128-GCM-SHA256 bits=128/128);
 Fri, 26 Apr 2024 15:48:28 -0700 (PDT)
X-Relaying-Domain: iol.unh.edu
Date: Fri, 26 Apr 2024 15:48:28 -0700 (PDT)
Message-ID: <662c2f3c.020a0220.42576.e175SMTPIN_ADDED_MISSING@mx.google.com>
Received: from [172.17.0.4] (unknown [172.18.0.217])
 by postal.iol.unh.edu (Postfix) with ESMTP id 04A7A604D420;
 Fri, 26 Apr 2024 18:48:28 -0400 (EDT)
Subject: |SUCCESS| pw139689-139698 [PATCH] [10/10] doc: update nfp document
From: dpdklab@iol.unh.edu
To: Test Report <test-report@dpdk.org>
Cc: dpdk-test-reports@iol.unh.edu
In-Reply-To: <20240426074831.1729792-11-chaoyong.he@corigine.com>
References: <20240426074831.1729792-11-chaoyong.he@corigine.com>
Content-Type: text/plain
X-BeenThere: test-report@dpdk.org
X-Mailman-Version: 2.1.29
Precedence: list
List-Id: automatic DPDK test reports <test-report.dpdk.org>
List-Unsubscribe: <https://mails.dpdk.org/options/test-report>,
 <mailto:test-report-request@dpdk.org?subject=unsubscribe>
List-Archive: <http://mails.dpdk.org/archives/test-report/>
List-Post: <mailto:test-report@dpdk.org>
List-Help: <mailto:test-report-request@dpdk.org?subject=help>
List-Subscribe: <https://mails.dpdk.org/listinfo/test-report>,
 <mailto:test-report-request@dpdk.org?subject=subscribe>
Errors-To: test-report-bounces@dpdk.org

Test-Label: iol-compile-amd64-testing
Test-Status: SUCCESS
http://dpdk.org/patch/139698

_Testing PASS_

Submitter: Chaoyong He <chaoyong.he@corigine.com>
Date: Friday, April 26 2024 07:48:31 
DPDK git baseline: Repo:dpdk
  Branch: master
  CommitID:8841786ab4aa72d205f97528af8708a13a851f4f

139689-139698 --> testing pass

Test environment and result as below:

+---------------------+--------------------+-------------------+----------------------+
|     Environment     | dpdk_meson_compile | dpdk_msvc_compile | dpdk_mingw64_compile |
+=====================+====================+===================+======================+
| Debian Bullseye     | PASS               | SKIPPED           | SKIPPED              |
+---------------------+--------------------+-------------------+----------------------+
| Fedora 37           | PASS               | SKIPPED           | SKIPPED              |
+---------------------+--------------------+-------------------+----------------------+
| CentOS Stream 9     | PASS               | SKIPPED           | SKIPPED              |
+---------------------+--------------------+-------------------+----------------------+
| CentOS Stream 8     | PASS               | SKIPPED           | SKIPPED              |
+---------------------+--------------------+-------------------+----------------------+
| FreeBSD 13.3        | PASS               | SKIPPED           | SKIPPED              |
+---------------------+--------------------+-------------------+----------------------+
| Fedora 38           | PASS               | SKIPPED           | SKIPPED              |
+---------------------+--------------------+-------------------+----------------------+
| Windows Server 2022 | PASS               | PASS              | PASS                 |
+---------------------+--------------------+-------------------+----------------------+
| Fedora 39           | PASS               | SKIPPED           | SKIPPED              |
+---------------------+--------------------+-------------------+----------------------+
| RHEL8               | PASS               | SKIPPED           | SKIPPED              |
+---------------------+--------------------+-------------------+----------------------+
| openSUSE Leap 15    | PASS               | SKIPPED           | SKIPPED              |
+---------------------+--------------------+-------------------+----------------------+
| Debian 12           | PASS               | SKIPPED           | SKIPPED              |
+---------------------+--------------------+-------------------+----------------------+
| Ubuntu 22.04        | PASS               | SKIPPED           | SKIPPED              |
+---------------------+--------------------+-------------------+----------------------+
| Ubuntu 20.04        | PASS               | SKIPPED           | SKIPPED              |
+---------------------+--------------------+-------------------+----------------------+
| Windows Server 2019 | PASS               | SKIPPED           | PASS                 |
+---------------------+--------------------+-------------------+----------------------+


Debian Bullseye
	Kernel: 5.4.0-167-generic
	Compiler: gcc 10.2.1-6

Fedora 37
	Kernel: Depends on container host system
	Compiler: gcc 12.3.1

CentOS Stream 9
	Kernel: 5.4.0-167-generic
	Compiler: gcc 11.4.1 20230605

CentOS Stream 8
	Kernel: 5.4.0-167-generic
	Compiler: gcc 8.5.0 20210514

FreeBSD 13.3
	Kernel: 13.3-RELEASE-p1
	Compiler: clang 17.0.6

Fedora 38
	Kernel: Depends on container host
	Compiler: gcc 13.2.1

Windows Server 2022
	Kernel: 10.0.20348.2031
	Compiler: clang 15.0.7, gcc 8.1.0 (MinGW), and MSVC VS 17.9

Fedora 39
	Kernel: Depends on container host
	Compiler: gcc 13.2.1

RHEL8
	Kernel: 5.4.0-167-generic
	Compiler: gcc 8.5.0 20210514 (Red Hat 8.5.0-20)

openSUSE Leap 15
	Kernel: 5.4.0-167-generic
	Compiler: gcc 7.5.0

Debian 12
	Kernel: Container Host Kernel
	Compiler: gcc 10.2.1

Ubuntu 22.04
	Kernel: 5.4.0-167-generic
	Compiler: gcc 11.4.0

Ubuntu 20.04
	Kernel: 5.4.0-167-generic
	Compiler: gcc 9.4.0-1ubuntu1~20.04.1

Windows Server 2019
	Kernel: 10.0.17763
	Compiler: clang 14.0 and gcc 8.1.0 (MinGW)

To view detailed results, visit:
https://lab.dpdk.org/results/dashboard/patchsets/29862/

UNH-IOL DPDK Community Lab

To manage your email subscriptions, visit: 
https://lab.dpdk.org/results/dashboard/preferences/subscriptions/