From mboxrd@z Thu Jan  1 00:00:00 1970
Return-Path: <test-report-bounces@dpdk.org>
Received: from mails.dpdk.org (mails.dpdk.org [217.70.189.124])
	by inbox.dpdk.org (Postfix) with ESMTP id 6602143F1F
	for <public@inbox.dpdk.org>; Sat, 27 Apr 2024 00:53:29 +0200 (CEST)
Received: from mails.dpdk.org (localhost [127.0.0.1])
	by mails.dpdk.org (Postfix) with ESMTP id 5B6AB44095;
	Sat, 27 Apr 2024 00:53:29 +0200 (CEST)
Received: from mail-io1-f97.google.com (mail-io1-f97.google.com
 [209.85.166.97]) by mails.dpdk.org (Postfix) with ESMTP id E33F54406D
 for <test-report@dpdk.org>; Sat, 27 Apr 2024 00:53:23 +0200 (CEST)
Received: by mail-io1-f97.google.com with SMTP id
 ca18e2360f4ac-7da37436e36so121122239f.0
 for <test-report@dpdk.org>; Fri, 26 Apr 2024 15:53:23 -0700 (PDT)
DKIM-Signature: v=1; a=rsa-sha256; c=relaxed/relaxed;
 d=iol.unh.edu; s=unh-iol; t=1714172003; x=1714776803; darn=dpdk.org;
 h=references:in-reply-to:cc:to:from:subject:message-id:date:from:to
 :cc:subject:date:message-id:reply-to;
 bh=8I2VWT0fZw3KeiW3qn6vuO/c+1emqtcl7ZxlHtTV9S8=;
 b=cWMEtyrz5DsRUUw/P9xbgM/D143tglCTHDxJvdHLs4tubDL4CNg7E+2RszRBakCYlc
 IyCX/9VkXn9ormKjzeeY6VPATy1xCzvqe59GrYDFLz4NxE1HH45Jls1NoA56kMQ/XYCV
 eFyoeQS0C7wT37QTCJVfVgjO6ZAjSOfJFqwww=
X-Google-DKIM-Signature: v=1; a=rsa-sha256; c=relaxed/relaxed;
 d=1e100.net; s=20230601; t=1714172003; x=1714776803;
 h=references:in-reply-to:cc:to:from:subject:message-id:date
 :x-gm-message-state:from:to:cc:subject:date:message-id:reply-to;
 bh=8I2VWT0fZw3KeiW3qn6vuO/c+1emqtcl7ZxlHtTV9S8=;
 b=LqQkAWhbzdK3bOouHEhdodsnxJYJkDvIcbKKc1lFKPZXDls+ixwZYE8+qlOITHIlpE
 Fm2fCeDs5Kohid2SON0N3QH6Hdok7wGFebwUMYzSaukLkqovmo6INX7YT8ua6L3A4qZb
 +Gj4BM3ehJlCCAjacdj61P+4fj3QuWcnYVFNeNwmQRQs4v2VpDpTibfoXwjWQC0NMNrC
 cD72KnICCjDbKK3FzFKBM+7jnEqXNAesM8hvSwmHClX1f/9a70IZSdnlmCSQkY/U/TRG
 RHmFK8eTWC0bmcCn4VD6j37epipwa8FKkjBkAjnpWCcHLnVMC2bXLCkd37xLRASZLezM
 z+0w==
X-Gm-Message-State: AOJu0YzrhhzXl12UI8dSD0uF5GRPMpKRQF/Raqq/fyKol878IDv8I8bH
 vzY/JjSS1k0zMgqi/tU1w/ttkdf4e/nQP0Aqb2HgXJ6ZAlurdvOAz0ksmX2cRa7yQ6XznEVem04
 O3tIj62Bc1Fo+muemnsaYYrYOLST/m+qa1eXQP3vNqyVUikBRsQAsCxKC
X-Google-Smtp-Source: AGHT+IE59WSmxkkp1kTwj40W3yMMD5f0+5K0KH9K0yl/iPveOcGSWP4O3ObUeaCg/8QycyYE06VEThqvJ3x9
X-Received: by 2002:a6b:400b:0:b0:7de:ab07:6a4a with SMTP id
 k11-20020a6b400b000000b007deab076a4amr3668804ioa.6.1714172003344; 
 Fri, 26 Apr 2024 15:53:23 -0700 (PDT)
Received: from postal.iol.unh.edu (postal.iol.unh.edu.
 [2606:4100:3880:1234::84]) by smtp-relay.gmail.com with ESMTPS id
 y22-20020a5d94d6000000b007d96f2f91b4sm822672ior.13.2024.04.26.15.53.23
 (version=TLS1_2 cipher=ECDHE-ECDSA-AES128-GCM-SHA256 bits=128/128);
 Fri, 26 Apr 2024 15:53:23 -0700 (PDT)
X-Relaying-Domain: iol.unh.edu
Date: Fri, 26 Apr 2024 15:53:23 -0700 (PDT)
Message-ID: <662c3063.5d0a0220.1160a.b81fSMTPIN_ADDED_MISSING@mx.google.com>
Received: from [172.21.0.6] (unknown [172.18.0.240])
 by postal.iol.unh.edu (Postfix) with ESMTP id D47F3604D420;
 Fri, 26 Apr 2024 18:53:22 -0400 (EDT)
Subject: |SUCCESS| pw139680 [PATCH] [v1,1/1] docs: af_xdp device plugin repo 
From: dpdklab@iol.unh.edu
To: Test Report <test-report@dpdk.org>
Cc: dpdk-test-reports@iol.unh.edu
In-Reply-To: <20240425150902.1364384-1-mtahhan@redhat.com>
References: <20240425150902.1364384-1-mtahhan@redhat.com>
Content-Type: text/plain
X-BeenThere: test-report@dpdk.org
X-Mailman-Version: 2.1.29
Precedence: list
List-Id: automatic DPDK test reports <test-report.dpdk.org>
List-Unsubscribe: <https://mails.dpdk.org/options/test-report>,
 <mailto:test-report-request@dpdk.org?subject=unsubscribe>
List-Archive: <http://mails.dpdk.org/archives/test-report/>
List-Post: <mailto:test-report@dpdk.org>
List-Help: <mailto:test-report-request@dpdk.org?subject=help>
List-Subscribe: <https://mails.dpdk.org/listinfo/test-report>,
 <mailto:test-report-request@dpdk.org?subject=subscribe>
Errors-To: test-report-bounces@dpdk.org

Test-Label: iol-compile-amd64-testing
Test-Status: SUCCESS
http://dpdk.org/patch/139680

_Testing PASS_

Submitter: Maryam Tahhan <mtahhan@redhat.com>
Date: Thursday, April 25 2024 15:08:59 
DPDK git baseline: Repo:dpdk
  Branch: master
  CommitID:7e06c0de1952d3109a5b0c4779d7e7d8059c9d78

139680 --> testing pass

Test environment and result as below:

+---------------------+--------------------+----------------------+-------------------+
|     Environment     | dpdk_meson_compile | dpdk_mingw64_compile | dpdk_msvc_compile |
+=====================+====================+======================+===================+
| FreeBSD 13.3        | PASS               | SKIPPED              | SKIPPED           |
+---------------------+--------------------+----------------------+-------------------+
| Windows Server 2019 | PASS               | PASS                 | SKIPPED           |
+---------------------+--------------------+----------------------+-------------------+
| Windows Server 2022 | PASS               | PASS                 | PASS              |
+---------------------+--------------------+----------------------+-------------------+
| Debian 12           | PASS               | SKIPPED              | SKIPPED           |
+---------------------+--------------------+----------------------+-------------------+
| CentOS Stream 8     | PASS               | SKIPPED              | SKIPPED           |
+---------------------+--------------------+----------------------+-------------------+
| Fedora 37           | PASS               | SKIPPED              | SKIPPED           |
+---------------------+--------------------+----------------------+-------------------+
| Fedora 38           | PASS               | SKIPPED              | SKIPPED           |
+---------------------+--------------------+----------------------+-------------------+
| CentOS Stream 9     | PASS               | SKIPPED              | SKIPPED           |
+---------------------+--------------------+----------------------+-------------------+
| Debian Bullseye     | PASS               | SKIPPED              | SKIPPED           |
+---------------------+--------------------+----------------------+-------------------+
| RHEL8               | PASS               | SKIPPED              | SKIPPED           |
+---------------------+--------------------+----------------------+-------------------+
| openSUSE Leap 15    | PASS               | SKIPPED              | SKIPPED           |
+---------------------+--------------------+----------------------+-------------------+
| Ubuntu 20.04        | PASS               | SKIPPED              | SKIPPED           |
+---------------------+--------------------+----------------------+-------------------+
| Ubuntu 22.04        | PASS               | SKIPPED              | SKIPPED           |
+---------------------+--------------------+----------------------+-------------------+
| Fedora 39           | PASS               | SKIPPED              | SKIPPED           |
+---------------------+--------------------+----------------------+-------------------+


FreeBSD 13.3
	Kernel: 13.3-RELEASE-p1
	Compiler: clang 17.0.6

Windows Server 2019
	Kernel: 10.0.17763
	Compiler: clang 14.0 and gcc 8.1.0 (MinGW)

Windows Server 2022
	Kernel: 10.0.20348.2031
	Compiler: clang 15.0.7, gcc 8.1.0 (MinGW), and MSVC VS 17.9

Debian 12
	Kernel: Container Host Kernel
	Compiler: gcc 10.2.1

CentOS Stream 8
	Kernel: 5.4.0-167-generic
	Compiler: gcc 8.5.0 20210514

Fedora 37
	Kernel: Depends on container host system
	Compiler: gcc 12.3.1

Fedora 38
	Kernel: Depends on container host
	Compiler: gcc 13.2.1

CentOS Stream 9
	Kernel: 5.4.0-167-generic
	Compiler: gcc 11.4.1 20230605

Debian Bullseye
	Kernel: 5.4.0-167-generic
	Compiler: gcc 10.2.1-6

RHEL8
	Kernel: 5.4.0-167-generic
	Compiler: gcc 8.5.0 20210514 (Red Hat 8.5.0-20)

openSUSE Leap 15
	Kernel: 5.4.0-167-generic
	Compiler: gcc 7.5.0

Ubuntu 20.04
	Kernel: 5.4.0-167-generic
	Compiler: gcc 9.4.0-1ubuntu1~20.04.1

Ubuntu 22.04
	Kernel: 5.4.0-167-generic
	Compiler: gcc 11.4.0

Fedora 39
	Kernel: Depends on container host
	Compiler: clang 17.0.6

To view detailed results, visit:
https://lab.dpdk.org/results/dashboard/patchsets/29856/

UNH-IOL DPDK Community Lab

To manage your email subscriptions, visit: 
https://lab.dpdk.org/results/dashboard/preferences/subscriptions/