From mboxrd@z Thu Jan  1 00:00:00 1970
Return-Path: <test-report-bounces@dpdk.org>
Received: from mails.dpdk.org (mails.dpdk.org [217.70.189.124])
	by inbox.dpdk.org (Postfix) with ESMTP id A5DB843F1F
	for <public@inbox.dpdk.org>; Sat, 27 Apr 2024 00:53:45 +0200 (CEST)
Received: from mails.dpdk.org (localhost [127.0.0.1])
	by mails.dpdk.org (Postfix) with ESMTP id 9ED66440A4;
	Sat, 27 Apr 2024 00:53:45 +0200 (CEST)
Received: from mail-ot1-f98.google.com (mail-ot1-f98.google.com
 [209.85.210.98]) by mails.dpdk.org (Postfix) with ESMTP id 8D0A84406D
 for <test-report@dpdk.org>; Sat, 27 Apr 2024 00:53:40 +0200 (CEST)
Received: by mail-ot1-f98.google.com with SMTP id
 46e09a7af769-6ea1a55b0c0so1448278a34.3
 for <test-report@dpdk.org>; Fri, 26 Apr 2024 15:53:40 -0700 (PDT)
DKIM-Signature: v=1; a=rsa-sha256; c=relaxed/relaxed;
 d=iol.unh.edu; s=unh-iol; t=1714172020; x=1714776820; darn=dpdk.org;
 h=references:in-reply-to:cc:to:from:subject:message-id:date:from:to
 :cc:subject:date:message-id:reply-to;
 bh=8I2VWT0fZw3KeiW3qn6vuO/c+1emqtcl7ZxlHtTV9S8=;
 b=F/hXXvUhhwwrKLZG6aVSXRljLxE6PH0s1hzyEKnp9xJT3Up+DBGNZVGC5wlfTc0YLt
 cFpLxlGG4yXwztkh2p0HwIN1Uof5AcZTCdBUylow1lB3BC+0/ZQcjwSs4rFRyfVwcnIP
 w9HXSiEKYxHfPwdbes82VmHDpS7gE+dxrx/ok=
X-Google-DKIM-Signature: v=1; a=rsa-sha256; c=relaxed/relaxed;
 d=1e100.net; s=20230601; t=1714172020; x=1714776820;
 h=references:in-reply-to:cc:to:from:subject:message-id:date
 :x-gm-message-state:from:to:cc:subject:date:message-id:reply-to;
 bh=8I2VWT0fZw3KeiW3qn6vuO/c+1emqtcl7ZxlHtTV9S8=;
 b=uL2DX30DSO4ranMcYVFCGrHc1k7YqL2DM6V43p+8LzMlIV3qcPb/PBex9cBpfX3KJJ
 TlA7ZNDGDCKiIvFC8RsVBuZe+JgSuIg3uo/ck6ZsLiGRc6kBIayTkB0S922WHOeUvxR7
 Kc1Z6HkPU9HlWReilxsjaonOU5O0Z0q6HEiOOjGYg6bvpms/kE3KMCUiVXQ0uVrns7oj
 3gQTe9lM2ALEHMJ1Hdk9p/TB0L3imv2OKYwejUqY3yqmrlc4GWpnbrie+0rEtfn48quX
 k3Lrl0AlvtfaqecPRkzil+q35uxqxXKneNks//3qiJZvG/v0i2nsEKuPXFAZZxyZYIns
 Xgvw==
X-Gm-Message-State: AOJu0YxnEJq8+IYYI0t3VKF76PmJG1lKp6gM143Qta3yBN+zIyA9RNL/
 dupeyN13klbk0sKhvD6HPd5H+m6/HmUe8Hctr+RcxvWHKSPElRQFtUOmI5HAjrPgfRcUKZuYSTV
 zp4GMaE93PFC5mmwwcXiYFYRJH5CXZok9nwJu1XelUGFmBF971pu4QItp
X-Google-Smtp-Source: AGHT+IEuMwrK6oKy+7c3d+Cf8MsJIL3i0HoDB3detJIch1VZqaCGXeZcoze4IV1b1hY8t4zce7DLR1GQUmmF
X-Received: by 2002:a9d:4809:0:b0:6eb:d54e:c544 with SMTP id
 c9-20020a9d4809000000b006ebd54ec544mr4494034otf.8.1714172019934; 
 Fri, 26 Apr 2024 15:53:39 -0700 (PDT)
Received: from postal.iol.unh.edu (postal.iol.unh.edu.
 [2606:4100:3880:1234::84]) by smtp-relay.gmail.com with ESMTPS id
 h15-20020a63384f000000b005f3b880d03bsm1117041pgn.7.2024.04.26.15.53.39
 (version=TLS1_2 cipher=ECDHE-ECDSA-AES128-GCM-SHA256 bits=128/128);
 Fri, 26 Apr 2024 15:53:39 -0700 (PDT)
X-Relaying-Domain: iol.unh.edu
Date: Fri, 26 Apr 2024 15:53:39 -0700 (PDT)
Message-ID: <662c3073.630a0220.328b5.be5bSMTPIN_ADDED_MISSING@mx.google.com>
Received: from [172.21.0.7] (unknown [172.18.0.240])
 by postal.iol.unh.edu (Postfix) with ESMTP id 2B06A604D420;
 Fri, 26 Apr 2024 18:53:39 -0400 (EDT)
Subject: |SUCCESS| pw139680 [PATCH] [v1,1/1] docs: af_xdp device plugin repo 
From: dpdklab@iol.unh.edu
To: Test Report <test-report@dpdk.org>
Cc: dpdk-test-reports@iol.unh.edu
In-Reply-To: <20240425150902.1364384-1-mtahhan@redhat.com>
References: <20240425150902.1364384-1-mtahhan@redhat.com>
Content-Type: text/plain
X-BeenThere: test-report@dpdk.org
X-Mailman-Version: 2.1.29
Precedence: list
List-Id: automatic DPDK test reports <test-report.dpdk.org>
List-Unsubscribe: <https://mails.dpdk.org/options/test-report>,
 <mailto:test-report-request@dpdk.org?subject=unsubscribe>
List-Archive: <http://mails.dpdk.org/archives/test-report/>
List-Post: <mailto:test-report@dpdk.org>
List-Help: <mailto:test-report-request@dpdk.org?subject=help>
List-Subscribe: <https://mails.dpdk.org/listinfo/test-report>,
 <mailto:test-report-request@dpdk.org?subject=subscribe>
Errors-To: test-report-bounces@dpdk.org

Test-Label: iol-compile-amd64-testing
Test-Status: SUCCESS
http://dpdk.org/patch/139680

_Testing PASS_

Submitter: Maryam Tahhan <mtahhan@redhat.com>
Date: Thursday, April 25 2024 15:08:59 
DPDK git baseline: Repo:dpdk
  Branch: master
  CommitID:7e06c0de1952d3109a5b0c4779d7e7d8059c9d78

139680 --> testing pass

Test environment and result as below:

+---------------------+--------------------+----------------------+-------------------+
|     Environment     | dpdk_meson_compile | dpdk_mingw64_compile | dpdk_msvc_compile |
+=====================+====================+======================+===================+
| FreeBSD 13.3        | PASS               | SKIPPED              | SKIPPED           |
+---------------------+--------------------+----------------------+-------------------+
| Windows Server 2019 | PASS               | PASS                 | SKIPPED           |
+---------------------+--------------------+----------------------+-------------------+
| Windows Server 2022 | PASS               | PASS                 | PASS              |
+---------------------+--------------------+----------------------+-------------------+
| Debian 12           | PASS               | SKIPPED              | SKIPPED           |
+---------------------+--------------------+----------------------+-------------------+
| CentOS Stream 8     | PASS               | SKIPPED              | SKIPPED           |
+---------------------+--------------------+----------------------+-------------------+
| Fedora 37           | PASS               | SKIPPED              | SKIPPED           |
+---------------------+--------------------+----------------------+-------------------+
| Fedora 38           | PASS               | SKIPPED              | SKIPPED           |
+---------------------+--------------------+----------------------+-------------------+
| CentOS Stream 9     | PASS               | SKIPPED              | SKIPPED           |
+---------------------+--------------------+----------------------+-------------------+
| Debian Bullseye     | PASS               | SKIPPED              | SKIPPED           |
+---------------------+--------------------+----------------------+-------------------+
| RHEL8               | PASS               | SKIPPED              | SKIPPED           |
+---------------------+--------------------+----------------------+-------------------+
| openSUSE Leap 15    | PASS               | SKIPPED              | SKIPPED           |
+---------------------+--------------------+----------------------+-------------------+
| Ubuntu 20.04        | PASS               | SKIPPED              | SKIPPED           |
+---------------------+--------------------+----------------------+-------------------+
| Ubuntu 22.04        | PASS               | SKIPPED              | SKIPPED           |
+---------------------+--------------------+----------------------+-------------------+
| Fedora 39           | PASS               | SKIPPED              | SKIPPED           |
+---------------------+--------------------+----------------------+-------------------+


FreeBSD 13.3
	Kernel: 13.3-RELEASE-p1
	Compiler: clang 17.0.6

Windows Server 2019
	Kernel: 10.0.17763
	Compiler: clang 14.0 and gcc 8.1.0 (MinGW)

Windows Server 2022
	Kernel: 10.0.20348.2031
	Compiler: clang 15.0.7, gcc 8.1.0 (MinGW), and MSVC VS 17.9

Debian 12
	Kernel: Container Host Kernel
	Compiler: gcc 10.2.1

CentOS Stream 8
	Kernel: 5.4.0-167-generic
	Compiler: gcc 8.5.0 20210514

Fedora 37
	Kernel: Depends on container host system
	Compiler: gcc 12.3.1

Fedora 38
	Kernel: Depends on container host
	Compiler: gcc 13.2.1

CentOS Stream 9
	Kernel: 5.4.0-167-generic
	Compiler: gcc 11.4.1 20230605

Debian Bullseye
	Kernel: 5.4.0-167-generic
	Compiler: gcc 10.2.1-6

RHEL8
	Kernel: 5.4.0-167-generic
	Compiler: gcc 8.5.0 20210514 (Red Hat 8.5.0-20)

openSUSE Leap 15
	Kernel: 5.4.0-167-generic
	Compiler: gcc 7.5.0

Ubuntu 20.04
	Kernel: 5.4.0-167-generic
	Compiler: gcc 9.4.0-1ubuntu1~20.04.1

Ubuntu 22.04
	Kernel: 5.4.0-167-generic
	Compiler: gcc 11.4.0

Fedora 39
	Kernel: Depends on container host
	Compiler: clang 17.0.6

To view detailed results, visit:
https://lab.dpdk.org/results/dashboard/patchsets/29856/

UNH-IOL DPDK Community Lab

To manage your email subscriptions, visit: 
https://lab.dpdk.org/results/dashboard/preferences/subscriptions/