From mboxrd@z Thu Jan  1 00:00:00 1970
Return-Path: <test-report-bounces@dpdk.org>
Received: from mails.dpdk.org (mails.dpdk.org [217.70.189.124])
	by inbox.dpdk.org (Postfix) with ESMTP id 5C55E43F1F
	for <public@inbox.dpdk.org>; Sat, 27 Apr 2024 01:05:33 +0200 (CEST)
Received: from mails.dpdk.org (localhost [127.0.0.1])
	by mails.dpdk.org (Postfix) with ESMTP id 33522440B2;
	Sat, 27 Apr 2024 01:05:33 +0200 (CEST)
Received: from mail-ot1-f100.google.com (mail-ot1-f100.google.com
 [209.85.210.100])
 by mails.dpdk.org (Postfix) with ESMTP id 1045A4406D
 for <test-report@dpdk.org>; Sat, 27 Apr 2024 01:05:31 +0200 (CEST)
Received: by mail-ot1-f100.google.com with SMTP id
 46e09a7af769-6eb96620559so1426565a34.1
 for <test-report@dpdk.org>; Fri, 26 Apr 2024 16:05:31 -0700 (PDT)
DKIM-Signature: v=1; a=rsa-sha256; c=relaxed/relaxed;
 d=iol.unh.edu; s=unh-iol; t=1714172730; x=1714777530; darn=dpdk.org;
 h=references:in-reply-to:cc:to:from:subject:message-id:date:from:to
 :cc:subject:date:message-id:reply-to;
 bh=gopZtXDxfjtuTCR0fvdZsuvl5ZgyMp1Q9BRzL+nOASw=;
 b=c4sJvMaH+P1MoUn6kigU+HfBR8x465x0f++A3z9VAqcOvAh2FenAYRjpF5knfJQ1OJ
 DyZMsVtyLDOH8CK8TT1QmFMIVfs6zpQauL9wtY9g0LSK2dfH1sL62nqGoTQiwB8WwiXT
 AMlsvSrQE6chIppVRo72OVxdod7VZcc5+mH94=
X-Google-DKIM-Signature: v=1; a=rsa-sha256; c=relaxed/relaxed;
 d=1e100.net; s=20230601; t=1714172730; x=1714777530;
 h=references:in-reply-to:cc:to:from:subject:message-id:date
 :x-gm-message-state:from:to:cc:subject:date:message-id:reply-to;
 bh=gopZtXDxfjtuTCR0fvdZsuvl5ZgyMp1Q9BRzL+nOASw=;
 b=SdGZ5p9ZIvpPXj/KeWmEjR7FnrdWsea8pyvs12WchWwpVBG5LTYrxMU/EOT+YiK8/D
 F5cAtusB3m6I0aawXMO0T0EdvcFeOJt5Y8Qbbtyt3T5vyy4rEdGzHuvvAPUG6vah+XYH
 Sh5YqGni2DQPOZmFf+mFkB9XFVdHGmoTe72bcM3FtwYECH33yy1llTL7dvg9bw7UnoqI
 rX/VqnAWvHcxsae22lthcjxC3GQI2MJBsp4W6yt5T7A9JFsforcFfKS4XKsJnLGcxSYC
 9VOIzqpaA1q9OvmY6m7U6LFPbJLsnMJo+f9sw5OsxLFxjDjrErmLhPcMOGxdC6/w0uCi
 0b5Q==
X-Gm-Message-State: AOJu0Yw2patdnUsWH7rTHfCydUEVVc2nq5O+h9CVnOPx8Xtgg3n9HAo9
 TxO/pukk5Y1fzSMO9oehjW8ABBh0EaNkJdZYSGiHNWNQoy+2PSdMHLh+T4KkmjkLa71MwDVOGPA
 RdJNM8S8XYcxaZwwHM+iKISCVMP7vQvuS2Op7OsAi
X-Google-Smtp-Source: AGHT+IFbSerjsWKOxHB9X0Wys07UWCjdcWCCo1L5YjWkxh6yeWf2XgbEn11OJHIrUbKctpZJ7rYHp7gZykaM
X-Received: by 2002:a05:6830:108b:b0:6eb:a637:97aa with SMTP id
 y11-20020a056830108b00b006eba63797aamr4475277oto.21.1714172730425; 
 Fri, 26 Apr 2024 16:05:30 -0700 (PDT)
Received: from postal.iol.unh.edu (postal.iol.unh.edu. [132.177.123.84])
 by smtp-relay.gmail.com with ESMTPS id
 r21-20020a05620a299500b0079087baa58dsm414504qkp.5.2024.04.26.16.05.30
 (version=TLS1_2 cipher=ECDHE-ECDSA-AES128-GCM-SHA256 bits=128/128);
 Fri, 26 Apr 2024 16:05:30 -0700 (PDT)
X-Relaying-Domain: iol.unh.edu
Date: Fri, 26 Apr 2024 16:05:30 -0700 (PDT)
Message-ID: <662c333a.050a0220.fcbf0.2609SMTPIN_ADDED_MISSING@mx.google.com>
Received: from [172.21.0.6] (unknown [172.18.0.240])
 by postal.iol.unh.edu (Postfix) with ESMTP id 16640604D420;
 Fri, 26 Apr 2024 19:05:30 -0400 (EDT)
Subject: |SUCCESS| pw139608 [PATCH] eal/linux: enhanced error handling for af
From: dpdklab@iol.unh.edu
To: Test Report <test-report@dpdk.org>
Cc: dpdk-test-reports@iol.unh.edu
In-Reply-To: <20240422134917.3740545-1-ferruh.yigit@amd.com>
References: <20240422134917.3740545-1-ferruh.yigit@amd.com>
Content-Type: text/plain
X-BeenThere: test-report@dpdk.org
X-Mailman-Version: 2.1.29
Precedence: list
List-Id: automatic DPDK test reports <test-report.dpdk.org>
List-Unsubscribe: <https://mails.dpdk.org/options/test-report>,
 <mailto:test-report-request@dpdk.org?subject=unsubscribe>
List-Archive: <http://mails.dpdk.org/archives/test-report/>
List-Post: <mailto:test-report@dpdk.org>
List-Help: <mailto:test-report-request@dpdk.org?subject=help>
List-Subscribe: <https://mails.dpdk.org/listinfo/test-report>,
 <mailto:test-report-request@dpdk.org?subject=subscribe>
Errors-To: test-report-bounces@dpdk.org

Test-Label: iol-compile-amd64-testing
Test-Status: SUCCESS
http://dpdk.org/patch/139608

_Testing PASS_

Submitter: Ferruh Yigit <ferruh.yigit@amd.com>
Date: Monday, April 22 2024 13:49:17 
DPDK git baseline: Repo:dpdk
  Branch: master
  CommitID:7e06c0de1952d3109a5b0c4779d7e7d8059c9d78

139608 --> testing pass

Test environment and result as below:

+---------------------+--------------------+----------------------+-------------------+
|     Environment     | dpdk_meson_compile | dpdk_mingw64_compile | dpdk_msvc_compile |
+=====================+====================+======================+===================+
| FreeBSD 13.3        | PASS               | SKIPPED              | SKIPPED           |
+---------------------+--------------------+----------------------+-------------------+
| Debian Bullseye     | PASS               | SKIPPED              | SKIPPED           |
+---------------------+--------------------+----------------------+-------------------+
| Windows Server 2022 | PASS               | PASS                 | PASS              |
+---------------------+--------------------+----------------------+-------------------+
| Debian 12           | PASS               | SKIPPED              | SKIPPED           |
+---------------------+--------------------+----------------------+-------------------+
| Windows Server 2019 | PASS               | PASS                 | SKIPPED           |
+---------------------+--------------------+----------------------+-------------------+
| CentOS Stream 8     | PASS               | SKIPPED              | SKIPPED           |
+---------------------+--------------------+----------------------+-------------------+
| CentOS Stream 9     | PASS               | SKIPPED              | SKIPPED           |
+---------------------+--------------------+----------------------+-------------------+
| Fedora 38           | PASS               | SKIPPED              | SKIPPED           |
+---------------------+--------------------+----------------------+-------------------+
| Fedora 39           | PASS               | SKIPPED              | SKIPPED           |
+---------------------+--------------------+----------------------+-------------------+
| RHEL8               | PASS               | SKIPPED              | SKIPPED           |
+---------------------+--------------------+----------------------+-------------------+
| Ubuntu 20.04        | PASS               | SKIPPED              | SKIPPED           |
+---------------------+--------------------+----------------------+-------------------+
| Ubuntu 22.04        | PASS               | SKIPPED              | SKIPPED           |
+---------------------+--------------------+----------------------+-------------------+
| Fedora 37           | PASS               | SKIPPED              | SKIPPED           |
+---------------------+--------------------+----------------------+-------------------+
| openSUSE Leap 15    | PASS               | SKIPPED              | SKIPPED           |
+---------------------+--------------------+----------------------+-------------------+
| Alpine              | PASS               | SKIPPED              | SKIPPED           |
+---------------------+--------------------+----------------------+-------------------+


FreeBSD 13.3
	Kernel: 13.3-RELEASE-p1
	Compiler: clang 17.0.6

Debian Bullseye
	Kernel: 5.4.0-167-generic
	Compiler: gcc 10.2.1-6

Windows Server 2022
	Kernel: 10.0.20348.2031
	Compiler: clang 15.0.7, gcc 8.1.0 (MinGW), and MSVC VS 17.9

Debian 12
	Kernel: Container Host Kernel
	Compiler: gcc 10.2.1

Windows Server 2019
	Kernel: 10.0.17763
	Compiler: clang 14.0 and gcc 8.1.0 (MinGW)

CentOS Stream 8
	Kernel: 5.4.0-167-generic
	Compiler: gcc 8.5.0 20210514

CentOS Stream 9
	Kernel: 5.4.0-167-generic
	Compiler: gcc 11.4.1 20230605

Fedora 38
	Kernel: Depends on container host
	Compiler: gcc 13.2.1

Fedora 39
	Kernel: Depends on container host
	Compiler: gcc 13.2.1

RHEL8
	Kernel: 5.4.0-167-generic
	Compiler: gcc 8.5.0 20210514 (Red Hat 8.5.0-20)

Ubuntu 20.04
	Kernel: 5.4.0-167-generic
	Compiler: gcc 9.4.0-1ubuntu1~20.04.1

Ubuntu 22.04
	Kernel: 5.4.0-167-generic
	Compiler: gcc 11.4.0

Fedora 37
	Kernel: Depends on container host system
	Compiler: gcc 12.3.1

openSUSE Leap 15
	Kernel: 5.4.0-167-generic
	Compiler: gcc 7.5.0

Alpine
	Kernel: 5.4.0-167-generic
	Compiler: gcc (Alpine 13.2.1_git20231014) 13.2.1 20231014

To view detailed results, visit:
https://lab.dpdk.org/results/dashboard/patchsets/29836/

UNH-IOL DPDK Community Lab

To manage your email subscriptions, visit: 
https://lab.dpdk.org/results/dashboard/preferences/subscriptions/