From mboxrd@z Thu Jan  1 00:00:00 1970
Return-Path: <test-report-bounces@dpdk.org>
Received: from mails.dpdk.org (mails.dpdk.org [217.70.189.124])
	by inbox.dpdk.org (Postfix) with ESMTP id DD3B743F1F
	for <public@inbox.dpdk.org>; Sat, 27 Apr 2024 01:17:45 +0200 (CEST)
Received: from mails.dpdk.org (localhost [127.0.0.1])
	by mails.dpdk.org (Postfix) with ESMTP id D3034440C1;
	Sat, 27 Apr 2024 01:17:45 +0200 (CEST)
Received: from mail-pf1-f225.google.com (mail-pf1-f225.google.com
 [209.85.210.225])
 by mails.dpdk.org (Postfix) with ESMTP id D8D0E4026A
 for <test-report@dpdk.org>; Sat, 27 Apr 2024 01:17:27 +0200 (CEST)
Received: by mail-pf1-f225.google.com with SMTP id
 d2e1a72fcca58-6ee13f19e7eso2617315b3a.1
 for <test-report@dpdk.org>; Fri, 26 Apr 2024 16:17:27 -0700 (PDT)
DKIM-Signature: v=1; a=rsa-sha256; c=relaxed/relaxed;
 d=iol.unh.edu; s=unh-iol; t=1714173447; x=1714778247; darn=dpdk.org;
 h=references:in-reply-to:cc:to:from:subject:message-id:date:from:to
 :cc:subject:date:message-id:reply-to;
 bh=u8iC9OQQ9EqGa4mOOARUiyqjCWh6uOGLlJLeVawkzzQ=;
 b=WtB1kws5f/HjAYBdrDTN913FW6cHSTPtRHoew676iYz5UbaCflNbH835iiXKlI+fqE
 dqYgZ8uTiJNq8ZjAm5s5kMaKXXi3JmaHo1qL9BMIzdz5ryHpgdl7yi0dCZ19pIGQlig6
 5ZhQ3dihHAp7fdv+I56BjFJvNnWP+RHm5yLXY=
X-Google-DKIM-Signature: v=1; a=rsa-sha256; c=relaxed/relaxed;
 d=1e100.net; s=20230601; t=1714173447; x=1714778247;
 h=references:in-reply-to:cc:to:from:subject:message-id:date
 :x-gm-message-state:from:to:cc:subject:date:message-id:reply-to;
 bh=u8iC9OQQ9EqGa4mOOARUiyqjCWh6uOGLlJLeVawkzzQ=;
 b=DPApNCMSaHto7oHBWhtOTlhojxqQxxQYcO6OZmPrjTq2BhRfLFy0Hq382PkyGJfI7t
 UBJ8WuviUAJ9ibsulfBQwah1Vkr2ZGmd7IYxOh6jr8Lmvh/+E9DFKW1SIaoRSqzjY6yE
 o1X+sDqmnyGBG2Q4GJ8zH6PxRMxW0VQ8lAqdOud4AwJzdjAlAkrjfdVM3t4Mzgygq9cl
 Y+xTNx/MqYBsJQdpDnDoW8mphnt3oOXYfBSFAIuc9t9uIwpXGw8Q0z08zhYPg5pelfGT
 knilKaYrUZSBmAIcq+U4eLkDaUwW0253crUSSEm+rbMW2hXEGLEDyoPM5EvKEdjZKzdD
 eVjA==
X-Gm-Message-State: AOJu0YyEiB+wxLyHdfITmt+Dg42Eq/1pwt/2IGZCA+GGYuYqUXzOSSlL
 KU/OR1xPx1bTQc3sN2bhbhNnABVy+VQfwkZlUMGXsTdPVtAE9D6WcAIy1NUFXf7MPCA3B6dMqA6
 Gv4prNgrZ6KcYtoXoNxIFApKWTWRxcQUZVIA19jjzMfOrTxd7gp0yH5Sr
X-Google-Smtp-Source: AGHT+IHy49yn/l/mFWBQDhmnbORFaYpE3qcJpt4FrdeKwLh2rOE3NvFml4XN6zaaDnqnbPIU4SheEJInZQCU
X-Received: by 2002:a05:6a00:3d11:b0:6f3:8468:f9d1 with SMTP id
 lo17-20020a056a003d1100b006f38468f9d1mr4644877pfb.14.1714173447166; 
 Fri, 26 Apr 2024 16:17:27 -0700 (PDT)
Received: from postal.iol.unh.edu (postal.iol.unh.edu.
 [2606:4100:3880:1234::84]) by smtp-relay.gmail.com with ESMTPS id
 w18-20020a63fb52000000b005dc4b34446csm611950pgj.31.2024.04.26.16.17.27
 (version=TLS1_2 cipher=ECDHE-ECDSA-AES128-GCM-SHA256 bits=128/128);
 Fri, 26 Apr 2024 16:17:27 -0700 (PDT)
X-Relaying-Domain: iol.unh.edu
Date: Fri, 26 Apr 2024 16:17:27 -0700 (PDT)
Message-ID: <662c3607.630a0220.18fa.e397SMTPIN_ADDED_MISSING@mx.google.com>
Received: from [172.21.0.6] (unknown [172.18.0.240])
 by postal.iol.unh.edu (Postfix) with ESMTP id 47F67604D420;
 Fri, 26 Apr 2024 19:17:26 -0400 (EDT)
Subject: |SUCCESS| pw139641 [PATCH] net/af_packet: cache align Rx/Tx structs
From: dpdklab@iol.unh.edu
To: Test Report <test-report@dpdk.org>
Cc: dpdk-test-reports@iol.unh.edu
In-Reply-To: <20240423090813.94110-1-mattias.ronnblom@ericsson.com>
References: <20240423090813.94110-1-mattias.ronnblom@ericsson.com>
Content-Type: text/plain
X-BeenThere: test-report@dpdk.org
X-Mailman-Version: 2.1.29
Precedence: list
List-Id: automatic DPDK test reports <test-report.dpdk.org>
List-Unsubscribe: <https://mails.dpdk.org/options/test-report>,
 <mailto:test-report-request@dpdk.org?subject=unsubscribe>
List-Archive: <http://mails.dpdk.org/archives/test-report/>
List-Post: <mailto:test-report@dpdk.org>
List-Help: <mailto:test-report-request@dpdk.org?subject=help>
List-Subscribe: <https://mails.dpdk.org/listinfo/test-report>,
 <mailto:test-report-request@dpdk.org?subject=subscribe>
Errors-To: test-report-bounces@dpdk.org

Test-Label: iol-compile-amd64-testing
Test-Status: SUCCESS
http://dpdk.org/patch/139641

_Testing PASS_

Submitter: Mattias Ronnblom <mattias.ronnblom@ericsson.com>
Date: Tuesday, April 23 2024 09:08:13 
DPDK git baseline: Repo:dpdk
  Branch: master
  CommitID:8841786ab4aa72d205f97528af8708a13a851f4f

139641 --> testing pass

Test environment and result as below:

+---------------------+--------------------+----------------------+-------------------+
|     Environment     | dpdk_meson_compile | dpdk_mingw64_compile | dpdk_msvc_compile |
+=====================+====================+======================+===================+
| FreeBSD 13.3        | PASS               | SKIPPED              | SKIPPED           |
+---------------------+--------------------+----------------------+-------------------+
| Windows Server 2019 | PASS               | PASS                 | SKIPPED           |
+---------------------+--------------------+----------------------+-------------------+
| Windows Server 2022 | PASS               | PASS                 | PASS              |
+---------------------+--------------------+----------------------+-------------------+
| CentOS Stream 9     | PASS               | SKIPPED              | SKIPPED           |
+---------------------+--------------------+----------------------+-------------------+
| Debian 12           | PASS               | SKIPPED              | SKIPPED           |
+---------------------+--------------------+----------------------+-------------------+
| CentOS Stream 8     | PASS               | SKIPPED              | SKIPPED           |
+---------------------+--------------------+----------------------+-------------------+
| Debian Bullseye     | PASS               | SKIPPED              | SKIPPED           |
+---------------------+--------------------+----------------------+-------------------+
| Fedora 39           | PASS               | SKIPPED              | SKIPPED           |
+---------------------+--------------------+----------------------+-------------------+
| Ubuntu 22.04        | PASS               | SKIPPED              | SKIPPED           |
+---------------------+--------------------+----------------------+-------------------+
| Fedora 37           | PASS               | SKIPPED              | SKIPPED           |
+---------------------+--------------------+----------------------+-------------------+
| Fedora 38           | PASS               | SKIPPED              | SKIPPED           |
+---------------------+--------------------+----------------------+-------------------+
| openSUSE Leap 15    | PASS               | SKIPPED              | SKIPPED           |
+---------------------+--------------------+----------------------+-------------------+
| Ubuntu 20.04        | PASS               | SKIPPED              | SKIPPED           |
+---------------------+--------------------+----------------------+-------------------+
| RHEL8               | PASS               | SKIPPED              | SKIPPED           |
+---------------------+--------------------+----------------------+-------------------+
| Alpine              | PASS               | SKIPPED              | SKIPPED           |
+---------------------+--------------------+----------------------+-------------------+


FreeBSD 13.3
	Kernel: 13.3-RELEASE-p1
	Compiler: clang 17.0.6

Windows Server 2019
	Kernel: 10.0.17763
	Compiler: clang 14.0 and gcc 8.1.0 (MinGW)

Windows Server 2022
	Kernel: 10.0.20348.2031
	Compiler: clang 15.0.7, gcc 8.1.0 (MinGW), and MSVC VS 17.9

CentOS Stream 9
	Kernel: 5.4.0-167-generic
	Compiler: gcc 11.4.1 20230605

Debian 12
	Kernel: Container Host Kernel
	Compiler: gcc 10.2.1

CentOS Stream 8
	Kernel: 5.4.0-167-generic
	Compiler: gcc 8.5.0 20210514

Debian Bullseye
	Kernel: 5.4.0-167-generic
	Compiler: gcc 10.2.1-6

Fedora 39
	Kernel: Depends on container host
	Compiler: gcc 13.2.1

Ubuntu 22.04
	Kernel: 5.4.0-167-generic
	Compiler: gcc 11.4.0

Fedora 37
	Kernel: Depends on container host system
	Compiler: gcc 12.3.1

Fedora 38
	Kernel: Depends on container host
	Compiler: gcc 13.2.1

openSUSE Leap 15
	Kernel: 5.4.0-167-generic
	Compiler: gcc 7.5.0

Ubuntu 20.04
	Kernel: 5.4.0-167-generic
	Compiler: gcc 9.4.0-1ubuntu1~20.04.1

RHEL8
	Kernel: 5.4.0-167-generic
	Compiler: gcc 8.5.0 20210514 (Red Hat 8.5.0-20)

Alpine
	Kernel: 5.4.0-167-generic
	Compiler: gcc (Alpine 13.2.1_git20231014) 13.2.1 20231014

To view detailed results, visit:
https://lab.dpdk.org/results/dashboard/patchsets/29844/

UNH-IOL DPDK Community Lab

To manage your email subscriptions, visit: 
https://lab.dpdk.org/results/dashboard/preferences/subscriptions/