From mboxrd@z Thu Jan  1 00:00:00 1970
Return-Path: <test-report-bounces@dpdk.org>
Received: from mails.dpdk.org (mails.dpdk.org [217.70.189.124])
	by inbox.dpdk.org (Postfix) with ESMTP id 677E443F1F
	for <public@inbox.dpdk.org>; Sat, 27 Apr 2024 01:20:57 +0200 (CEST)
Received: from mails.dpdk.org (localhost [127.0.0.1])
	by mails.dpdk.org (Postfix) with ESMTP id 532B1440CA;
	Sat, 27 Apr 2024 01:20:57 +0200 (CEST)
Received: from mail-oa1-f97.google.com (mail-oa1-f97.google.com
 [209.85.160.97]) by mails.dpdk.org (Postfix) with ESMTP id 62DA54026A
 for <test-report@dpdk.org>; Sat, 27 Apr 2024 01:19:51 +0200 (CEST)
Received: by mail-oa1-f97.google.com with SMTP id
 586e51a60fabf-23335730db1so1362909fac.2
 for <test-report@dpdk.org>; Fri, 26 Apr 2024 16:19:51 -0700 (PDT)
DKIM-Signature: v=1; a=rsa-sha256; c=relaxed/relaxed;
 d=iol.unh.edu; s=unh-iol; t=1714173590; x=1714778390; darn=dpdk.org;
 h=references:in-reply-to:cc:to:from:subject:message-id:date:from:to
 :cc:subject:date:message-id:reply-to;
 bh=u8iC9OQQ9EqGa4mOOARUiyqjCWh6uOGLlJLeVawkzzQ=;
 b=DFX+eVaU2VZYbfNmfXN2kbcsDqQt8IT64MYxJp4UgUunTXvrFZvvxe1xpNQn2lRpno
 8MhZ6D9aaIYxnx/ApYBsud49kjETj0H8eL/pR+t3F6YVoO/j3gB6mDwKzlCgbL7VX86j
 r+oSg51VqcWW3sZ4S2GDdPRV0kayA4q7XUUjQ=
X-Google-DKIM-Signature: v=1; a=rsa-sha256; c=relaxed/relaxed;
 d=1e100.net; s=20230601; t=1714173590; x=1714778390;
 h=references:in-reply-to:cc:to:from:subject:message-id:date
 :x-gm-message-state:from:to:cc:subject:date:message-id:reply-to;
 bh=u8iC9OQQ9EqGa4mOOARUiyqjCWh6uOGLlJLeVawkzzQ=;
 b=dpKiULLIQ39nMU31Hx86lfmjeO2TS3RPMyIaKd+J/v5QwOyTpzSyli03SXczf3fBuW
 bLyXloGim+r1ho/JQsF46E9qVZdhhksVGvXl2wXqkIGIz6bwovFnAP5fILYfaQXnPN2a
 BqehzAxjg/VGc5amCBTdhTqGvXeJtGqU0vYZVICwyDefxZrhUOKEK1BOU42pbzXr/jXP
 HCF+Gde9YgRA9CH5PCgM1zjCqQfvjTIMUaVcZzYzO3Q99mSp0DQpqZjoE+f/Tt7X6bLt
 qV3VkxBAZlmiMSoP7SbaeZaNlDprVXbyCiGvKMulbi14Q3i4XTznyOjco7Yh5I+Or6IB
 erkw==
X-Gm-Message-State: AOJu0YxqzEGiREwTfkrVdawk6HgMi0ORihOAZcIycLCy1lfhZbkrmP7A
 zNaCIrqYN/0H9aWDso3xVyFjAm74qJzLxAptOhDL3w8nWpdL4syJ4drZ7pcvpie+I6CUk/k9q0i
 12t5xE+5GzYLMUNnev23bywu/LM7FhJkLiE4SJ1MH
X-Google-Smtp-Source: AGHT+IFzSYUEWDITpOSMNhyRN0rVoLdj40Qu6y8UxbmlU3MMrVnU2+egD8klLtBIDzbYJbFI/ELkY/L92qYz
X-Received: by 2002:a05:6871:551:b0:239:5b8:5c9e with SMTP id
 t17-20020a056871055100b0023905b85c9emr1356434oal.11.1714173590745; 
 Fri, 26 Apr 2024 16:19:50 -0700 (PDT)
Received: from postal.iol.unh.edu (postal.iol.unh.edu. [132.177.123.84])
 by smtp-relay.gmail.com with ESMTPS id
 y18-20020a05663824d200b00487427eaa8csm130120jat.1.2024.04.26.16.19.50
 (version=TLS1_2 cipher=ECDHE-ECDSA-AES128-GCM-SHA256 bits=128/128);
 Fri, 26 Apr 2024 16:19:50 -0700 (PDT)
X-Relaying-Domain: iol.unh.edu
Date: Fri, 26 Apr 2024 16:19:50 -0700 (PDT)
Message-ID: <662c3696.050a0220.9a7ab.94b8SMTPIN_ADDED_MISSING@mx.google.com>
Received: from [172.21.0.6] (unknown [172.18.0.240])
 by postal.iol.unh.edu (Postfix) with ESMTP id 3C265604D420;
 Fri, 26 Apr 2024 19:19:50 -0400 (EDT)
Subject: |SUCCESS| pw139641 [PATCH] net/af_packet: cache align Rx/Tx structs
From: dpdklab@iol.unh.edu
To: Test Report <test-report@dpdk.org>
Cc: dpdk-test-reports@iol.unh.edu
In-Reply-To: <20240423090813.94110-1-mattias.ronnblom@ericsson.com>
References: <20240423090813.94110-1-mattias.ronnblom@ericsson.com>
Content-Type: text/plain
X-BeenThere: test-report@dpdk.org
X-Mailman-Version: 2.1.29
Precedence: list
List-Id: automatic DPDK test reports <test-report.dpdk.org>
List-Unsubscribe: <https://mails.dpdk.org/options/test-report>,
 <mailto:test-report-request@dpdk.org?subject=unsubscribe>
List-Archive: <http://mails.dpdk.org/archives/test-report/>
List-Post: <mailto:test-report@dpdk.org>
List-Help: <mailto:test-report-request@dpdk.org?subject=help>
List-Subscribe: <https://mails.dpdk.org/listinfo/test-report>,
 <mailto:test-report-request@dpdk.org?subject=subscribe>
Errors-To: test-report-bounces@dpdk.org

Test-Label: iol-compile-amd64-testing
Test-Status: SUCCESS
http://dpdk.org/patch/139641

_Testing PASS_

Submitter: Mattias Ronnblom <mattias.ronnblom@ericsson.com>
Date: Tuesday, April 23 2024 09:08:13 
DPDK git baseline: Repo:dpdk
  Branch: master
  CommitID:8841786ab4aa72d205f97528af8708a13a851f4f

139641 --> testing pass

Test environment and result as below:

+---------------------+--------------------+----------------------+-------------------+
|     Environment     | dpdk_meson_compile | dpdk_mingw64_compile | dpdk_msvc_compile |
+=====================+====================+======================+===================+
| FreeBSD 13.3        | PASS               | SKIPPED              | SKIPPED           |
+---------------------+--------------------+----------------------+-------------------+
| Windows Server 2019 | PASS               | PASS                 | SKIPPED           |
+---------------------+--------------------+----------------------+-------------------+
| Windows Server 2022 | PASS               | PASS                 | PASS              |
+---------------------+--------------------+----------------------+-------------------+
| CentOS Stream 9     | PASS               | SKIPPED              | SKIPPED           |
+---------------------+--------------------+----------------------+-------------------+
| Debian 12           | PASS               | SKIPPED              | SKIPPED           |
+---------------------+--------------------+----------------------+-------------------+
| CentOS Stream 8     | PASS               | SKIPPED              | SKIPPED           |
+---------------------+--------------------+----------------------+-------------------+
| Debian Bullseye     | PASS               | SKIPPED              | SKIPPED           |
+---------------------+--------------------+----------------------+-------------------+
| Fedora 39           | PASS               | SKIPPED              | SKIPPED           |
+---------------------+--------------------+----------------------+-------------------+
| Ubuntu 22.04        | PASS               | SKIPPED              | SKIPPED           |
+---------------------+--------------------+----------------------+-------------------+
| Fedora 37           | PASS               | SKIPPED              | SKIPPED           |
+---------------------+--------------------+----------------------+-------------------+
| Fedora 38           | PASS               | SKIPPED              | SKIPPED           |
+---------------------+--------------------+----------------------+-------------------+
| openSUSE Leap 15    | PASS               | SKIPPED              | SKIPPED           |
+---------------------+--------------------+----------------------+-------------------+
| Ubuntu 20.04        | PASS               | SKIPPED              | SKIPPED           |
+---------------------+--------------------+----------------------+-------------------+
| RHEL8               | PASS               | SKIPPED              | SKIPPED           |
+---------------------+--------------------+----------------------+-------------------+
| Alpine              | PASS               | SKIPPED              | SKIPPED           |
+---------------------+--------------------+----------------------+-------------------+


FreeBSD 13.3
	Kernel: 13.3-RELEASE-p1
	Compiler: clang 17.0.6

Windows Server 2019
	Kernel: 10.0.17763
	Compiler: clang 14.0 and gcc 8.1.0 (MinGW)

Windows Server 2022
	Kernel: 10.0.20348.2031
	Compiler: clang 15.0.7, gcc 8.1.0 (MinGW), and MSVC VS 17.9

CentOS Stream 9
	Kernel: 5.4.0-167-generic
	Compiler: gcc 11.4.1 20230605

Debian 12
	Kernel: Container Host Kernel
	Compiler: gcc 10.2.1

CentOS Stream 8
	Kernel: 5.4.0-167-generic
	Compiler: gcc 8.5.0 20210514

Debian Bullseye
	Kernel: 5.4.0-167-generic
	Compiler: gcc 10.2.1-6

Fedora 39
	Kernel: Depends on container host
	Compiler: gcc 13.2.1

Ubuntu 22.04
	Kernel: 5.4.0-167-generic
	Compiler: gcc 11.4.0

Fedora 37
	Kernel: Depends on container host system
	Compiler: gcc 12.3.1

Fedora 38
	Kernel: Depends on container host
	Compiler: gcc 13.2.1

openSUSE Leap 15
	Kernel: 5.4.0-167-generic
	Compiler: gcc 7.5.0

Ubuntu 20.04
	Kernel: 5.4.0-167-generic
	Compiler: gcc 9.4.0-1ubuntu1~20.04.1

RHEL8
	Kernel: 5.4.0-167-generic
	Compiler: gcc 8.5.0 20210514 (Red Hat 8.5.0-20)

Alpine
	Kernel: 5.4.0-167-generic
	Compiler: gcc (Alpine 13.2.1_git20231014) 13.2.1 20231014

To view detailed results, visit:
https://lab.dpdk.org/results/dashboard/patchsets/29844/

UNH-IOL DPDK Community Lab

To manage your email subscriptions, visit: 
https://lab.dpdk.org/results/dashboard/preferences/subscriptions/