From mboxrd@z Thu Jan  1 00:00:00 1970
Return-Path: <test-report-bounces@dpdk.org>
Received: from mails.dpdk.org (mails.dpdk.org [217.70.189.124])
	by inbox.dpdk.org (Postfix) with ESMTP id 474DF43F1F
	for <public@inbox.dpdk.org>; Sat, 27 Apr 2024 01:29:19 +0200 (CEST)
Received: from mails.dpdk.org (localhost [127.0.0.1])
	by mails.dpdk.org (Postfix) with ESMTP id 3BDD44026C;
	Sat, 27 Apr 2024 01:29:19 +0200 (CEST)
Received: from mail-yw1-f226.google.com (mail-yw1-f226.google.com
 [209.85.128.226])
 by mails.dpdk.org (Postfix) with ESMTP id 1B14D4026A
 for <test-report@dpdk.org>; Sat, 27 Apr 2024 01:29:07 +0200 (CEST)
Received: by mail-yw1-f226.google.com with SMTP id
 00721157ae682-61587aa956eso29589537b3.1
 for <test-report@dpdk.org>; Fri, 26 Apr 2024 16:29:07 -0700 (PDT)
DKIM-Signature: v=1; a=rsa-sha256; c=relaxed/relaxed;
 d=iol.unh.edu; s=unh-iol; t=1714174146; x=1714778946; darn=dpdk.org;
 h=references:in-reply-to:cc:to:from:subject:message-id:date:from:to
 :cc:subject:date:message-id:reply-to;
 bh=V/xCCrxo7WUYDyMqHOW5oxYAZKXRjHP7MYUwIFNf8co=;
 b=UTkLS02SVybxhvqMNx15t4WPpwHpDeeF6SSn1XQ+a6llx6mtDLn2paOb1sJnT6dZc9
 kyeumn3sGhePhjdVtPajH/4z/rPNiWNxE7zFNCtsdYiOJfd0UEE+Igo4WPc2DnQ0e5Vx
 g1ZdBf4A8Xx6oD2nJqfwyWAPRvGFWM5TpHsJ0=
X-Google-DKIM-Signature: v=1; a=rsa-sha256; c=relaxed/relaxed;
 d=1e100.net; s=20230601; t=1714174146; x=1714778946;
 h=references:in-reply-to:cc:to:from:subject:message-id:date
 :x-gm-message-state:from:to:cc:subject:date:message-id:reply-to;
 bh=V/xCCrxo7WUYDyMqHOW5oxYAZKXRjHP7MYUwIFNf8co=;
 b=M+iud4G6m8HwzsBJ+PTj7gu8qOa22u23jzJ/c605K+U+L1Q0u063MPHHf0hNWvZiIa
 hhcomcv9o5Y3pYKle6g6BASu8wkPHnJXuSgpT2anzH/nQMGkLGIBGqB5LjI6yC90qgLE
 jt0ck7MDzkE1jiXkMtrnST3AoAaVTaKHACo5lwW1M5WaLRp5N/jTBjvsBJWG3lCqyMR3
 VHOAKiCRlXwDT7q+riTQgMeRB5okj/UXe05pMUiOFvAsgsCCeypf37/ATaretXgwksnP
 /M+hhc+62WForVPtO2+AFQiv3TqkpGGdpOneA39DeaDrPLWObUkewEs5SpXuHFfAvBo0
 olFA==
X-Gm-Message-State: AOJu0YxzbpFV/PrgK4dqwTd7Ly4XDL+9QAeNEooCdowBytA5NWQiNUjo
 GRfl8nB4tN/Xfyd/XFtKXXOHKLwOQHKrAQ32wsIUMHAprDkpRLPqbi2Ta+XklUkIuM5J+Rj9vHs
 KUlvaVXteU/ASwy6c/sWFDpZMOG0WUJmEl0lOwhkc
X-Google-Smtp-Source: AGHT+IFw5eKgrRG/tL9hmuFyWUGQS0d31rUlCtwksYCB3luJj/2YdlgMy44iJLcsXTx5BKHZqBAc8BnWXsKr
X-Received: by 2002:a05:690c:6f8d:b0:610:e9b2:f84a with SMTP id
 je13-20020a05690c6f8d00b00610e9b2f84amr4787357ywb.26.1714174146430; 
 Fri, 26 Apr 2024 16:29:06 -0700 (PDT)
Received: from postal.iol.unh.edu (postal.iol.unh.edu. [132.177.123.84])
 by smtp-relay.gmail.com with ESMTPS id
 g126-20020a815284000000b0061aaf90393csm1412994ywb.8.2024.04.26.16.29.06
 (version=TLS1_2 cipher=ECDHE-ECDSA-AES128-GCM-SHA256 bits=128/128);
 Fri, 26 Apr 2024 16:29:06 -0700 (PDT)
X-Relaying-Domain: iol.unh.edu
Date: Fri, 26 Apr 2024 16:29:06 -0700 (PDT)
Message-ID: <662c38c2.810a0220.8b5ea.fe46SMTPIN_ADDED_MISSING@mx.google.com>
Received: from [172.21.0.7] (unknown [172.18.0.240])
 by postal.iol.unh.edu (Postfix) with ESMTP id 15D95604D420;
 Fri, 26 Apr 2024 19:29:06 -0400 (EDT)
Subject: |SUCCESS| pw139689-139698 [PATCH] [10/10] doc: update nfp document
From: dpdklab@iol.unh.edu
To: Test Report <test-report@dpdk.org>
Cc: dpdk-test-reports@iol.unh.edu
In-Reply-To: <20240426074831.1729792-11-chaoyong.he@corigine.com>
References: <20240426074831.1729792-11-chaoyong.he@corigine.com>
Content-Type: text/plain
X-BeenThere: test-report@dpdk.org
X-Mailman-Version: 2.1.29
Precedence: list
List-Id: automatic DPDK test reports <test-report.dpdk.org>
List-Unsubscribe: <https://mails.dpdk.org/options/test-report>,
 <mailto:test-report-request@dpdk.org?subject=unsubscribe>
List-Archive: <http://mails.dpdk.org/archives/test-report/>
List-Post: <mailto:test-report@dpdk.org>
List-Help: <mailto:test-report-request@dpdk.org?subject=help>
List-Subscribe: <https://mails.dpdk.org/listinfo/test-report>,
 <mailto:test-report-request@dpdk.org?subject=subscribe>
Errors-To: test-report-bounces@dpdk.org

Test-Label: iol-compile-amd64-testing
Test-Status: SUCCESS
http://dpdk.org/patch/139698

_Testing PASS_

Submitter: Chaoyong He <chaoyong.he@corigine.com>
Date: Friday, April 26 2024 07:48:31 
DPDK git baseline: Repo:dpdk
  Branch: master
  CommitID:8841786ab4aa72d205f97528af8708a13a851f4f

139689-139698 --> testing pass

Test environment and result as below:

+---------------------+--------------------+-------------------+----------------------+
|     Environment     | dpdk_meson_compile | dpdk_msvc_compile | dpdk_mingw64_compile |
+=====================+====================+===================+======================+
| Debian Bullseye     | PASS               | SKIPPED           | SKIPPED              |
+---------------------+--------------------+-------------------+----------------------+
| Fedora 37           | PASS               | SKIPPED           | SKIPPED              |
+---------------------+--------------------+-------------------+----------------------+
| CentOS Stream 9     | PASS               | SKIPPED           | SKIPPED              |
+---------------------+--------------------+-------------------+----------------------+
| CentOS Stream 8     | PASS               | SKIPPED           | SKIPPED              |
+---------------------+--------------------+-------------------+----------------------+
| FreeBSD 13.3        | PASS               | SKIPPED           | SKIPPED              |
+---------------------+--------------------+-------------------+----------------------+
| Fedora 38           | PASS               | SKIPPED           | SKIPPED              |
+---------------------+--------------------+-------------------+----------------------+
| Windows Server 2022 | PASS               | PASS              | PASS                 |
+---------------------+--------------------+-------------------+----------------------+
| Fedora 39           | PASS               | SKIPPED           | SKIPPED              |
+---------------------+--------------------+-------------------+----------------------+
| RHEL8               | PASS               | SKIPPED           | SKIPPED              |
+---------------------+--------------------+-------------------+----------------------+
| openSUSE Leap 15    | PASS               | SKIPPED           | SKIPPED              |
+---------------------+--------------------+-------------------+----------------------+
| Debian 12           | PASS               | SKIPPED           | SKIPPED              |
+---------------------+--------------------+-------------------+----------------------+
| Ubuntu 22.04        | PASS               | SKIPPED           | SKIPPED              |
+---------------------+--------------------+-------------------+----------------------+
| Ubuntu 20.04        | PASS               | SKIPPED           | SKIPPED              |
+---------------------+--------------------+-------------------+----------------------+
| Windows Server 2019 | PASS               | SKIPPED           | PASS                 |
+---------------------+--------------------+-------------------+----------------------+


Debian Bullseye
	Kernel: 5.4.0-167-generic
	Compiler: gcc 10.2.1-6

Fedora 37
	Kernel: Depends on container host system
	Compiler: gcc 12.3.1

CentOS Stream 9
	Kernel: 5.4.0-167-generic
	Compiler: gcc 11.4.1 20230605

CentOS Stream 8
	Kernel: 5.4.0-167-generic
	Compiler: gcc 8.5.0 20210514

FreeBSD 13.3
	Kernel: 13.3-RELEASE-p1
	Compiler: clang 17.0.6

Fedora 38
	Kernel: Depends on container host
	Compiler: gcc 13.2.1

Windows Server 2022
	Kernel: 10.0.20348.2031
	Compiler: clang 15.0.7, gcc 8.1.0 (MinGW), and MSVC VS 17.9

Fedora 39
	Kernel: Depends on container host
	Compiler: gcc 13.2.1

RHEL8
	Kernel: 5.4.0-167-generic
	Compiler: gcc 8.5.0 20210514 (Red Hat 8.5.0-20)

openSUSE Leap 15
	Kernel: 5.4.0-167-generic
	Compiler: gcc 7.5.0

Debian 12
	Kernel: Container Host Kernel
	Compiler: gcc 10.2.1

Ubuntu 22.04
	Kernel: 5.4.0-167-generic
	Compiler: gcc 11.4.0

Ubuntu 20.04
	Kernel: 5.4.0-167-generic
	Compiler: gcc 9.4.0-1ubuntu1~20.04.1

Windows Server 2019
	Kernel: 10.0.17763
	Compiler: clang 14.0 and gcc 8.1.0 (MinGW)

To view detailed results, visit:
https://lab.dpdk.org/results/dashboard/patchsets/29862/

UNH-IOL DPDK Community Lab

To manage your email subscriptions, visit: 
https://lab.dpdk.org/results/dashboard/preferences/subscriptions/