From mboxrd@z Thu Jan  1 00:00:00 1970
Return-Path: <test-report-bounces@dpdk.org>
Received: from mails.dpdk.org (mails.dpdk.org [217.70.189.124])
	by inbox.dpdk.org (Postfix) with ESMTP id 0D27543F1F
	for <public@inbox.dpdk.org>; Sat, 27 Apr 2024 01:38:48 +0200 (CEST)
Received: from mails.dpdk.org (localhost [127.0.0.1])
	by mails.dpdk.org (Postfix) with ESMTP id 087064026C;
	Sat, 27 Apr 2024 01:38:48 +0200 (CEST)
Received: from mail-ot1-f99.google.com (mail-ot1-f99.google.com
 [209.85.210.99]) by mails.dpdk.org (Postfix) with ESMTP id 77B2F4026A
 for <test-report@dpdk.org>; Sat, 27 Apr 2024 01:38:46 +0200 (CEST)
Received: by mail-ot1-f99.google.com with SMTP id
 46e09a7af769-6ea156bee62so1818076a34.0
 for <test-report@dpdk.org>; Fri, 26 Apr 2024 16:38:46 -0700 (PDT)
DKIM-Signature: v=1; a=rsa-sha256; c=relaxed/relaxed;
 d=iol.unh.edu; s=unh-iol; t=1714174725; x=1714779525; darn=dpdk.org;
 h=references:in-reply-to:cc:to:from:subject:message-id:date:from:to
 :cc:subject:date:message-id:reply-to;
 bh=V/xCCrxo7WUYDyMqHOW5oxYAZKXRjHP7MYUwIFNf8co=;
 b=HDCL4A0ZVhZyIDsss0/LaIgqKDhNqcmohgACMx0CASRLMAcsKPuDwV73EVBCsCHNmY
 Q3BdRRk54DPVeQfx1p/juUZw7RsLGztqyCocOdapMO15whu+5OlgofP94CHCa4EpK+j2
 3oTOalRiua/iWTUBTQr3B2L5cisgwCmpWM0xA=
X-Google-DKIM-Signature: v=1; a=rsa-sha256; c=relaxed/relaxed;
 d=1e100.net; s=20230601; t=1714174725; x=1714779525;
 h=references:in-reply-to:cc:to:from:subject:message-id:date
 :x-gm-message-state:from:to:cc:subject:date:message-id:reply-to;
 bh=V/xCCrxo7WUYDyMqHOW5oxYAZKXRjHP7MYUwIFNf8co=;
 b=Hp2x1xMPlwWONLbKgt1fNgiJN4JUVFVObUGJg5YmV3xx1QaU25p68v7omHNOSUqXF4
 F5HyZ+uxWhcj9IwwHC+sbv1SbEVGlpbrvM3kN2ux3MKF54pKr0RXvUCnsYQ8WUscgOae
 viG9RJZh3AcAHCR/8r2sWFFmu0P2k0fOukERUd74C+DiJo9lqkSsrCRcIjz9ifOp0hkH
 ohRtSw0PN5inCfp66Rdq/MfXJcoVFpEk7J3cZ1FkAVWgIkwJ0BIUChu2LR45v+ym4VYl
 ugQLP0O+I1JrNluQvVX8YeRS3NKwIlrFBpQE6wrVlwRtBoWrvVXDsmX5u+475888zPlO
 Tw4w==
X-Gm-Message-State: AOJu0YxbByi3qHL/R3ZkW2hBVgMHpd4HjQabuO0KPhhqhds+nPnBcOdW
 /ubaOKuJZE/APb9EgmVRPu/oAUhyb2c9HTKwL5vnBwDgF70GsEGIlKn6HgAxAloEgJIENG6JF5a
 iV94rqHcMe99MDrh6kbCdmP7gtMX96QcQgRL4JfY7nxrKCc3RrcEZl/zA
X-Google-Smtp-Source: AGHT+IF8UJrD9TsdCQVmd7HjmYqWRfkjf9GPvg/e312lEMIjh5sRaMSCYWxVg8pVBiBnSBomVw+3S9k1PC9a
X-Received: by 2002:a05:6808:210e:b0:3c8:4cdf:52f8 with SMTP id
 r14-20020a056808210e00b003c84cdf52f8mr688784oiw.0.1714174725736; 
 Fri, 26 Apr 2024 16:38:45 -0700 (PDT)
Received: from postal.iol.unh.edu (postal.iol.unh.edu.
 [2606:4100:3880:1234::84]) by smtp-relay.gmail.com with ESMTPS id
 bb38-20020a056820162600b005a7b1614139sm820235oob.6.2024.04.26.16.38.45
 (version=TLS1_2 cipher=ECDHE-ECDSA-AES128-GCM-SHA256 bits=128/128);
 Fri, 26 Apr 2024 16:38:45 -0700 (PDT)
X-Relaying-Domain: iol.unh.edu
Date: Fri, 26 Apr 2024 16:38:45 -0700 (PDT)
Message-ID: <662c3b05.050a0220.2ea9.382aSMTPIN_ADDED_MISSING@mx.google.com>
Received: from [172.21.0.6] (unknown [172.18.0.240])
 by postal.iol.unh.edu (Postfix) with ESMTP id 34283604D420;
 Fri, 26 Apr 2024 19:38:45 -0400 (EDT)
Subject: |SUCCESS| pw139689-139698 [PATCH] [10/10] doc: update nfp document
From: dpdklab@iol.unh.edu
To: Test Report <test-report@dpdk.org>
Cc: dpdk-test-reports@iol.unh.edu
In-Reply-To: <20240426074831.1729792-11-chaoyong.he@corigine.com>
References: <20240426074831.1729792-11-chaoyong.he@corigine.com>
Content-Type: text/plain
X-BeenThere: test-report@dpdk.org
X-Mailman-Version: 2.1.29
Precedence: list
List-Id: automatic DPDK test reports <test-report.dpdk.org>
List-Unsubscribe: <https://mails.dpdk.org/options/test-report>,
 <mailto:test-report-request@dpdk.org?subject=unsubscribe>
List-Archive: <http://mails.dpdk.org/archives/test-report/>
List-Post: <mailto:test-report@dpdk.org>
List-Help: <mailto:test-report-request@dpdk.org?subject=help>
List-Subscribe: <https://mails.dpdk.org/listinfo/test-report>,
 <mailto:test-report-request@dpdk.org?subject=subscribe>
Errors-To: test-report-bounces@dpdk.org

Test-Label: iol-compile-amd64-testing
Test-Status: SUCCESS
http://dpdk.org/patch/139698

_Testing PASS_

Submitter: Chaoyong He <chaoyong.he@corigine.com>
Date: Friday, April 26 2024 07:48:31 
DPDK git baseline: Repo:dpdk
  Branch: master
  CommitID:8841786ab4aa72d205f97528af8708a13a851f4f

139689-139698 --> testing pass

Test environment and result as below:

+---------------------+--------------------+-------------------+----------------------+
|     Environment     | dpdk_meson_compile | dpdk_msvc_compile | dpdk_mingw64_compile |
+=====================+====================+===================+======================+
| Debian Bullseye     | PASS               | SKIPPED           | SKIPPED              |
+---------------------+--------------------+-------------------+----------------------+
| Fedora 37           | PASS               | SKIPPED           | SKIPPED              |
+---------------------+--------------------+-------------------+----------------------+
| CentOS Stream 9     | PASS               | SKIPPED           | SKIPPED              |
+---------------------+--------------------+-------------------+----------------------+
| CentOS Stream 8     | PASS               | SKIPPED           | SKIPPED              |
+---------------------+--------------------+-------------------+----------------------+
| FreeBSD 13.3        | PASS               | SKIPPED           | SKIPPED              |
+---------------------+--------------------+-------------------+----------------------+
| Fedora 38           | PASS               | SKIPPED           | SKIPPED              |
+---------------------+--------------------+-------------------+----------------------+
| Windows Server 2022 | PASS               | PASS              | PASS                 |
+---------------------+--------------------+-------------------+----------------------+
| Fedora 39           | PASS               | SKIPPED           | SKIPPED              |
+---------------------+--------------------+-------------------+----------------------+
| RHEL8               | PASS               | SKIPPED           | SKIPPED              |
+---------------------+--------------------+-------------------+----------------------+
| openSUSE Leap 15    | PASS               | SKIPPED           | SKIPPED              |
+---------------------+--------------------+-------------------+----------------------+
| Debian 12           | PASS               | SKIPPED           | SKIPPED              |
+---------------------+--------------------+-------------------+----------------------+
| Ubuntu 22.04        | PASS               | SKIPPED           | SKIPPED              |
+---------------------+--------------------+-------------------+----------------------+
| Ubuntu 20.04        | PASS               | SKIPPED           | SKIPPED              |
+---------------------+--------------------+-------------------+----------------------+
| Windows Server 2019 | PASS               | SKIPPED           | PASS                 |
+---------------------+--------------------+-------------------+----------------------+


Debian Bullseye
	Kernel: 5.4.0-167-generic
	Compiler: gcc 10.2.1-6

Fedora 37
	Kernel: Depends on container host system
	Compiler: gcc 12.3.1

CentOS Stream 9
	Kernel: 5.4.0-167-generic
	Compiler: gcc 11.4.1 20230605

CentOS Stream 8
	Kernel: 5.4.0-167-generic
	Compiler: gcc 8.5.0 20210514

FreeBSD 13.3
	Kernel: 13.3-RELEASE-p1
	Compiler: clang 17.0.6

Fedora 38
	Kernel: Depends on container host
	Compiler: gcc 13.2.1

Windows Server 2022
	Kernel: 10.0.20348.2031
	Compiler: clang 15.0.7, gcc 8.1.0 (MinGW), and MSVC VS 17.9

Fedora 39
	Kernel: Depends on container host
	Compiler: gcc 13.2.1

RHEL8
	Kernel: 5.4.0-167-generic
	Compiler: gcc 8.5.0 20210514 (Red Hat 8.5.0-20)

openSUSE Leap 15
	Kernel: 5.4.0-167-generic
	Compiler: gcc 7.5.0

Debian 12
	Kernel: Container Host Kernel
	Compiler: gcc 10.2.1

Ubuntu 22.04
	Kernel: 5.4.0-167-generic
	Compiler: gcc 11.4.0

Ubuntu 20.04
	Kernel: 5.4.0-167-generic
	Compiler: gcc 9.4.0-1ubuntu1~20.04.1

Windows Server 2019
	Kernel: 10.0.17763
	Compiler: clang 14.0 and gcc 8.1.0 (MinGW)

To view detailed results, visit:
https://lab.dpdk.org/results/dashboard/patchsets/29862/

UNH-IOL DPDK Community Lab

To manage your email subscriptions, visit: 
https://lab.dpdk.org/results/dashboard/preferences/subscriptions/