From mboxrd@z Thu Jan  1 00:00:00 1970
Return-Path: <test-report-bounces@dpdk.org>
Received: from mails.dpdk.org (mails.dpdk.org [217.70.189.124])
	by inbox.dpdk.org (Postfix) with ESMTP id 16ECB43F27
	for <public@inbox.dpdk.org>; Sat, 27 Apr 2024 22:54:33 +0200 (CEST)
Received: from mails.dpdk.org (localhost [127.0.0.1])
	by mails.dpdk.org (Postfix) with ESMTP id 105ED40151;
	Sat, 27 Apr 2024 22:54:33 +0200 (CEST)
Received: from mail-qk1-f228.google.com (mail-qk1-f228.google.com
 [209.85.222.228])
 by mails.dpdk.org (Postfix) with ESMTP id D137E400D7
 for <test-report@dpdk.org>; Sat, 27 Apr 2024 22:54:31 +0200 (CEST)
Received: by mail-qk1-f228.google.com with SMTP id
 af79cd13be357-78f03917484so212856085a.3
 for <test-report@dpdk.org>; Sat, 27 Apr 2024 13:54:31 -0700 (PDT)
DKIM-Signature: v=1; a=rsa-sha256; c=relaxed/relaxed;
 d=iol.unh.edu; s=unh-iol; t=1714251271; x=1714856071; darn=dpdk.org;
 h=references:in-reply-to:cc:to:from:subject:message-id:date:from:to
 :cc:subject:date:message-id:reply-to;
 bh=uDDEhHtojAlB7Y8MMQOhsmsIIEraAxcJ+LAhOku0A4c=;
 b=Dp7YtG8WgGittiPrPLd5J30caBsak+NmG+PUBegcrwjwFUA17laLt5Yd/ZiO13FTFc
 S0tILScGsf/7+xkqvpp5e2YOMrz0+i8fxWwqsZuDNN35yhbcI0dYACwXCKBBo+ytqzBh
 nbasoTKT8CiHmPeg2RRlHZF8AaMJK5PYws/PA=
X-Google-DKIM-Signature: v=1; a=rsa-sha256; c=relaxed/relaxed;
 d=1e100.net; s=20230601; t=1714251271; x=1714856071;
 h=references:in-reply-to:cc:to:from:subject:message-id:date
 :x-gm-message-state:from:to:cc:subject:date:message-id:reply-to;
 bh=uDDEhHtojAlB7Y8MMQOhsmsIIEraAxcJ+LAhOku0A4c=;
 b=sfyvWzN/fuRZVAk0vcqgWgagXviTGsfs8D9kuZHdo75YpZKSHt2FD7lURYrdIIx0W+
 I4HWlBJUYXmhexO89WODt7Jv4uRcZR3xXktjnrOjPd3j+zlA9HaS01mmbBwN58rnDIi/
 +aqJiIQq7hdbNJ5ee2FLTLu1+wcR+5mYbokaXJb7RB6tkstbbNNb4JyUrFDF1pUW19dG
 remS3geoQ9Ja3jT1iXwTTJbeM/hDJqtyTWSjVnkDDfAH+XO8Tl7d4NaZNpgXdCMwJBL/
 tqmtaCsoj2ZH0Euz686LBwpLAadOYRyknTKhOqYpB14Q0jmRw5Gh7YzfCp7nNQyKco56
 MyLg==
X-Gm-Message-State: AOJu0YxUYrgqKhSGfq109rO3UX7iSwfzhbzAA2SuvG3UjXym+6f04AOC
 u88cEqHntxwj9Gaqeu2pdv6d16CUZGECcU2U5CpOA7Qt2PdYCFwR1Q/lVphas3SwfbDwvned844
 nRwn4PaHy/xmILT95M7jUgUXeUDDpVSw3ZQyJKtID
X-Google-Smtp-Source: AGHT+IHNxDcZrmqSuxoid/3ny39p23I4L7GVMOYEROO2+99DFhpLiS2gYhGjGe5ckyRMVRAmLiamb7n4A2pH
X-Received: by 2002:a05:6214:27c2:b0:6a0:5f8f:d753 with SMTP id
 ge2-20020a05621427c200b006a05f8fd753mr4736004qvb.49.1714251271286; 
 Sat, 27 Apr 2024 13:54:31 -0700 (PDT)
Received: from postal.iol.unh.edu (postal.iol.unh.edu. [132.177.123.84])
 by smtp-relay.gmail.com with ESMTPS id
 t15-20020a0ce58f000000b006a0c2de7285sm84544qvm.25.2024.04.27.13.54.31
 (version=TLS1_2 cipher=ECDHE-ECDSA-AES128-GCM-SHA256 bits=128/128);
 Sat, 27 Apr 2024 13:54:31 -0700 (PDT)
X-Relaying-Domain: iol.unh.edu
Date: Sat, 27 Apr 2024 13:54:31 -0700 (PDT)
Message-ID: <662d6607.0c0a0220.ac713.4a57SMTPIN_ADDED_MISSING@mx.google.com>
Received: from [172.17.0.3] (unknown [172.18.0.217])
 by postal.iol.unh.edu (Postfix) with ESMTP id F41F76052514;
 Sat, 27 Apr 2024 16:54:30 -0400 (EDT)
Subject: |SUCCESS| pw139715 [PATCH] [v5] lib/hash: add defer queue reclaim AP
From: dpdklab@iol.unh.edu
To: Test Report <test-report@dpdk.org>
Cc: dpdk-test-reports@iol.unh.edu
In-Reply-To: <20240427195418.1034591-1-aomeryamac@gmail.com>
References: <20240427195418.1034591-1-aomeryamac@gmail.com>
Content-Type: text/plain
X-BeenThere: test-report@dpdk.org
X-Mailman-Version: 2.1.29
Precedence: list
List-Id: automatic DPDK test reports <test-report.dpdk.org>
List-Unsubscribe: <https://mails.dpdk.org/options/test-report>,
 <mailto:test-report-request@dpdk.org?subject=unsubscribe>
List-Archive: <http://mails.dpdk.org/archives/test-report/>
List-Post: <mailto:test-report@dpdk.org>
List-Help: <mailto:test-report-request@dpdk.org?subject=help>
List-Subscribe: <https://mails.dpdk.org/listinfo/test-report>,
 <mailto:test-report-request@dpdk.org?subject=subscribe>
Errors-To: test-report-bounces@dpdk.org

Test-Label: iol-compile-amd64-testing
Test-Status: SUCCESS
http://dpdk.org/patch/139715

_Testing PASS_

Submitter: Abdullah Omer Yamac <aomeryamac@gmail.com>
Date: Saturday, April 27 2024 19:54:18 
DPDK git baseline: Repo:dpdk
  Branch: master
  CommitID:7e06c0de1952d3109a5b0c4779d7e7d8059c9d78

139715 --> testing pass

Test environment and result as below:

+---------------------+-------------------+--------------------+----------------------+
|     Environment     | dpdk_msvc_compile | dpdk_meson_compile | dpdk_mingw64_compile |
+=====================+===================+====================+======================+
| Windows Server 2022 | PASS              | PASS               | PASS                 |
+---------------------+-------------------+--------------------+----------------------+
| Windows Server 2019 | SKIPPED           | PASS               | PASS                 |
+---------------------+-------------------+--------------------+----------------------+
| CentOS Stream 8     | SKIPPED           | PASS               | SKIPPED              |
+---------------------+-------------------+--------------------+----------------------+
| FreeBSD 13.3        | SKIPPED           | PASS               | SKIPPED              |
+---------------------+-------------------+--------------------+----------------------+
| Debian 12           | SKIPPED           | PASS               | SKIPPED              |
+---------------------+-------------------+--------------------+----------------------+
| CentOS Stream 9     | SKIPPED           | PASS               | SKIPPED              |
+---------------------+-------------------+--------------------+----------------------+
| Fedora 38           | SKIPPED           | PASS               | SKIPPED              |
+---------------------+-------------------+--------------------+----------------------+
| Ubuntu 22.04        | SKIPPED           | PASS               | SKIPPED              |
+---------------------+-------------------+--------------------+----------------------+
| Ubuntu 20.04        | SKIPPED           | PASS               | SKIPPED              |
+---------------------+-------------------+--------------------+----------------------+
| Fedora 39           | SKIPPED           | PASS               | SKIPPED              |
+---------------------+-------------------+--------------------+----------------------+
| openSUSE Leap 15    | SKIPPED           | PASS               | SKIPPED              |
+---------------------+-------------------+--------------------+----------------------+
| RHEL8               | SKIPPED           | PASS               | SKIPPED              |
+---------------------+-------------------+--------------------+----------------------+
| Fedora 37           | SKIPPED           | PASS               | SKIPPED              |
+---------------------+-------------------+--------------------+----------------------+


Windows Server 2022
	Kernel: 10.0.20348.2031
	Compiler: clang 15.0.7, gcc 8.1.0 (MinGW), and MSVC VS 17.9

Windows Server 2019
	Kernel: 10.0.17763
	Compiler: clang 14.0 and gcc 8.1.0 (MinGW)

CentOS Stream 8
	Kernel: 5.4.0-167-generic
	Compiler: gcc 8.5.0 20210514

FreeBSD 13.3
	Kernel: 13.3-RELEASE-p1
	Compiler: clang 17.0.6

Debian 12
	Kernel: Container Host Kernel
	Compiler: gcc 10.2.1

CentOS Stream 9
	Kernel: 5.4.0-167-generic
	Compiler: gcc 11.4.1 20230605

Fedora 38
	Kernel: Depends on container host
	Compiler: gcc 13.2.1

Ubuntu 22.04
	Kernel: 5.4.0-167-generic
	Compiler: gcc 11.4.0

Ubuntu 20.04
	Kernel: 5.4.0-167-generic
	Compiler: gcc 9.4.0-1ubuntu1~20.04.1

Fedora 39
	Kernel: Depends on container host
	Compiler: gcc 13.2.1

openSUSE Leap 15
	Kernel: 5.4.0-167-generic
	Compiler: gcc 7.5.0

RHEL8
	Kernel: 5.4.0-167-generic
	Compiler: gcc 8.5.0 20210514 (Red Hat 8.5.0-20)

Fedora 37
	Kernel: Depends on container host system
	Compiler: gcc 12.3.1

To view detailed results, visit:
https://lab.dpdk.org/results/dashboard/patchsets/29870/

UNH-IOL DPDK Community Lab

To manage your email subscriptions, visit: 
https://lab.dpdk.org/results/dashboard/preferences/subscriptions/