From mboxrd@z Thu Jan  1 00:00:00 1970
Return-Path: <test-report-bounces@dpdk.org>
Received: from mails.dpdk.org (mails.dpdk.org [217.70.189.124])
	by inbox.dpdk.org (Postfix) with ESMTP id BDEA643F27
	for <public@inbox.dpdk.org>; Sat, 27 Apr 2024 22:58:30 +0200 (CEST)
Received: from mails.dpdk.org (localhost [127.0.0.1])
	by mails.dpdk.org (Postfix) with ESMTP id 8E67C40151;
	Sat, 27 Apr 2024 22:58:30 +0200 (CEST)
Received: from mail-yb1-f225.google.com (mail-yb1-f225.google.com
 [209.85.219.225])
 by mails.dpdk.org (Postfix) with ESMTP id 70D6B400D7
 for <test-report@dpdk.org>; Sat, 27 Apr 2024 22:58:29 +0200 (CEST)
Received: by mail-yb1-f225.google.com with SMTP id
 3f1490d57ef6-de469a634fbso3817314276.2
 for <test-report@dpdk.org>; Sat, 27 Apr 2024 13:58:29 -0700 (PDT)
DKIM-Signature: v=1; a=rsa-sha256; c=relaxed/relaxed;
 d=iol.unh.edu; s=unh-iol; t=1714251508; x=1714856308; darn=dpdk.org;
 h=references:in-reply-to:cc:to:from:subject:message-id:date:from:to
 :cc:subject:date:message-id:reply-to;
 bh=qI50F8nsBaIlR/lBeuJiGZYVr7/oBzu33Ihe+VhsKaI=;
 b=K05/BHAzEhTuPoQZtvvQEXepDOAwSr3DPWpjsQV7YL/IxIW3tYTvAA7YkSV8wY68Y2
 iWO5t8MUcCwn49utNm95MJCJsRWF/RNS4iy4FWTLiieVRVBpmGhZbYZQHYJx9q2l34KM
 dtQfhOu/M+ZdlIQ0yiNSdG3AP+oWEq2/xgia8=
X-Google-DKIM-Signature: v=1; a=rsa-sha256; c=relaxed/relaxed;
 d=1e100.net; s=20230601; t=1714251508; x=1714856308;
 h=references:in-reply-to:cc:to:from:subject:message-id:date
 :x-gm-message-state:from:to:cc:subject:date:message-id:reply-to;
 bh=qI50F8nsBaIlR/lBeuJiGZYVr7/oBzu33Ihe+VhsKaI=;
 b=AZttRr2We4rCoqByPCUvQfKScffqbgRYhlTBCFjvFYEhPJcTSh7U//8EkA+YohYDPw
 xcnwqO4tDKyjHi0qpJpN5KxjByN9pvbKk1anVv4t5LApd2XeQJ2KZ6O2IrmdM9uidcDk
 Aikn06san5eCy4ajyclhqMcVUKVm0JEpNPEcmtZ0sjQhWlaifDyMGA+QV3xp4e1QqMUw
 ohzeTlpbf3HOxpTADys9tDFa/38mvSNWLSt0U3ob1RfLc9I7OV/LtK6vVlVjICROh904
 Dsr+Mrc9NEkPdK9reYnfU8Ntgz800jbBtdPTKWmYdxqo6pfl+n6/ue0CpgshRh26svXJ
 wNGg==
X-Gm-Message-State: AOJu0Ywqe1NswcTBQnhRqQmSxP5c9rF1XIj9z3Q+5DyLz31ov3qb0qWq
 dsWsXr2DfjewWIzJ5Zljpo5lWg/5w+6O2hirvUT+UBh666xPyWvLTk89VROMp0LkjMxuoMEg3wv
 +dj4bp2JeCNYAizc2ko671F0WegaFJyQOBQXrgZEt
X-Google-Smtp-Source: AGHT+IECLH0ZYuqrsBM6QvYtL2V0PFzgmDlROyJeaIkNdcz+NB2T/htSDgAZoECNWkSQrcIo8bu3CrxaLWRv
X-Received: by 2002:a05:6902:1b03:b0:de4:603f:cc2a with SMTP id
 eh3-20020a0569021b0300b00de4603fcc2amr7070311ybb.45.1714251508717; 
 Sat, 27 Apr 2024 13:58:28 -0700 (PDT)
Received: from postal.iol.unh.edu (postal.iol.unh.edu. [132.177.123.84])
 by smtp-relay.gmail.com with ESMTPS id
 o6-20020a056902110600b00de5b32c5794sm147639ybu.10.2024.04.27.13.58.28
 (version=TLS1_2 cipher=ECDHE-ECDSA-AES128-GCM-SHA256 bits=128/128);
 Sat, 27 Apr 2024 13:58:28 -0700 (PDT)
X-Relaying-Domain: iol.unh.edu
Date: Sat, 27 Apr 2024 13:58:28 -0700 (PDT)
Message-ID: <662d66f4.050a0220.2b3dc.9773SMTPIN_ADDED_MISSING@mx.google.com>
Received: from [172.21.0.6] (unknown [172.18.0.240])
 by postal.iol.unh.edu (Postfix) with ESMTP id 57EE86052514;
 Sat, 27 Apr 2024 16:58:28 -0400 (EDT)
Subject: |SUCCESS| pw139715 [PATCH] [v5] lib/hash: add defer queue reclaim AP
From: dpdklab@iol.unh.edu
To: Test Report <test-report@dpdk.org>
Cc: dpdk-test-reports@iol.unh.edu
In-Reply-To: <20240427195418.1034591-1-aomeryamac@gmail.com>
References: <20240427195418.1034591-1-aomeryamac@gmail.com>
Content-Type: text/plain
X-BeenThere: test-report@dpdk.org
X-Mailman-Version: 2.1.29
Precedence: list
List-Id: automatic DPDK test reports <test-report.dpdk.org>
List-Unsubscribe: <https://mails.dpdk.org/options/test-report>,
 <mailto:test-report-request@dpdk.org?subject=unsubscribe>
List-Archive: <http://mails.dpdk.org/archives/test-report/>
List-Post: <mailto:test-report@dpdk.org>
List-Help: <mailto:test-report-request@dpdk.org?subject=help>
List-Subscribe: <https://mails.dpdk.org/listinfo/test-report>,
 <mailto:test-report-request@dpdk.org?subject=subscribe>
Errors-To: test-report-bounces@dpdk.org

Test-Label: iol-unit-arm64-testing
Test-Status: SUCCESS
http://dpdk.org/patch/139715

_Testing PASS_

Submitter: Abdullah Omer Yamac <aomeryamac@gmail.com>
Date: Saturday, April 27 2024 19:54:18 
DPDK git baseline: Repo:dpdk
  Branch: master
  CommitID:7e06c0de1952d3109a5b0c4779d7e7d8059c9d78

139715 --> testing pass

Test environment and result as below:

+--------------------------+----------------+------------------------------+---------------------------+
|       Environment        | dpdk_unit_test | cryptodev_sw_snow3g_autotest | cryptodev_sw_zuc_autotest |
+==========================+================+==============================+===========================+
| Debian 12 (arm)          | PASS           | PASS                         | PASS                      |
+--------------------------+----------------+------------------------------+---------------------------+
| Debian 11 (Buster) (ARM) | PASS           | SKIPPED                      | SKIPPED                   |
+--------------------------+----------------+------------------------------+---------------------------+
| CentOS Stream 9 (ARM)    | PASS           | SKIPPED                      | SKIPPED                   |
+--------------------------+----------------+------------------------------+---------------------------+
| Fedora 37 (ARM)          | PASS           | SKIPPED                      | SKIPPED                   |
+--------------------------+----------------+------------------------------+---------------------------+
| Fedora 39 (ARM)          | PASS           | SKIPPED                      | SKIPPED                   |
+--------------------------+----------------+------------------------------+---------------------------+
| Fedora 38 (ARM)          | PASS           | SKIPPED                      | SKIPPED                   |
+--------------------------+----------------+------------------------------+---------------------------+
| Ubuntu 20.04 (ARM)       | PASS           | SKIPPED                      | SKIPPED                   |
+--------------------------+----------------+------------------------------+---------------------------+


Debian 12 (arm)
	Kernel: Container Host Kernel
	Compiler: gcc 12.2.0

Debian 11 (Buster) (ARM)
	Kernel: Container Host Kernel
	Compiler: gcc 10.2.1

CentOS Stream 9 (ARM)
	Kernel: Container Host Kernel
	Compiler: gcc 11.4.1

Fedora 37 (ARM)
	Kernel: Depends on container host
	Compiler: gcc 12.3.1

Fedora 39 (ARM)
	Kernel: Depends on container host
	Compiler: gcc 13.2.1

Fedora 38 (ARM)
	Kernel: Depends on container host
	Compiler: gcc 13.2.1

Ubuntu 20.04 (ARM)
	Kernel: Container Host Kernel
	Compiler: gcc 9.4.0

To view detailed results, visit:
https://lab.dpdk.org/results/dashboard/patchsets/29870/

UNH-IOL DPDK Community Lab

To manage your email subscriptions, visit: 
https://lab.dpdk.org/results/dashboard/preferences/subscriptions/