From mboxrd@z Thu Jan  1 00:00:00 1970
Return-Path: <test-report-bounces@dpdk.org>
Received: from mails.dpdk.org (mails.dpdk.org [217.70.189.124])
	by inbox.dpdk.org (Postfix) with ESMTP id C659743F27
	for <public@inbox.dpdk.org>; Sat, 27 Apr 2024 22:58:54 +0200 (CEST)
Received: from mails.dpdk.org (localhost [127.0.0.1])
	by mails.dpdk.org (Postfix) with ESMTP id C1A3340151;
	Sat, 27 Apr 2024 22:58:54 +0200 (CEST)
Received: from mail-yw1-f225.google.com (mail-yw1-f225.google.com
 [209.85.128.225])
 by mails.dpdk.org (Postfix) with ESMTP id 2C640400D7
 for <test-report@dpdk.org>; Sat, 27 Apr 2024 22:58:53 +0200 (CEST)
Received: by mail-yw1-f225.google.com with SMTP id
 00721157ae682-61587aa9f4cso36897007b3.3
 for <test-report@dpdk.org>; Sat, 27 Apr 2024 13:58:53 -0700 (PDT)
DKIM-Signature: v=1; a=rsa-sha256; c=relaxed/relaxed;
 d=iol.unh.edu; s=unh-iol; t=1714251532; x=1714856332; darn=dpdk.org;
 h=references:in-reply-to:cc:to:from:subject:message-id:date:from:to
 :cc:subject:date:message-id:reply-to;
 bh=OLZAGEg7OvYmCeyYHMei/ILFWNFPMNfOfrR2oRj5gZw=;
 b=f3bJbpBNOIC8Umx/qT6LMNHw2ZnFriJJOY6BD87/ESS+EmdKndgmORc94tQlXo8UtY
 I4myAPNO/iNBb01NGmnBOJ96WCBdEMGQKWQmxKORPp3+vk6nYE6nQlL326VRobgjoQoo
 +zdXCEum73PLWEXUu5O29IHhvFILeasbCiGuk=
X-Google-DKIM-Signature: v=1; a=rsa-sha256; c=relaxed/relaxed;
 d=1e100.net; s=20230601; t=1714251532; x=1714856332;
 h=references:in-reply-to:cc:to:from:subject:message-id:date
 :x-gm-message-state:from:to:cc:subject:date:message-id:reply-to;
 bh=OLZAGEg7OvYmCeyYHMei/ILFWNFPMNfOfrR2oRj5gZw=;
 b=kEDmuhHxFvyZQYNPtFFQJCavuHQUxHJUexykCF0IysAaKGFi1w8C38CaE4/LEQ9LXg
 +dVnQ79zesQAoAJrhFFwD/Su7QA/qKvIrPjVqk8UyZh4JrHSjXpLJ3L2qFpqb4AemPv6
 HQ1+E/Z9iOWDDQX2BscXjIH+/lhd4W9SenK2ddeWU2b+gBTQ4b/UlyOjRsQvyAr5BOEU
 Iy2rhJfq7Zo3Ge2HKH6yY7W4osXo+tGUxkiTfAkkasKNJfZjVRUYOp/kd2+fsw2Wroqp
 mRigub47DoPAkbXkFPqHPW1pw8MDkYhuWp2Hg1VdSFJFWNeng2yEqCoJzr13xPI3/l7e
 lhGQ==
X-Gm-Message-State: AOJu0YxgGUVR/wrHxW2LWsW73xDMOUPp4xHIzgfRETIuIuvzKDmQ0CZQ
 lREAGex28JKUgHY7yvR99D2Mkrr3fwL8yi827pAHkI4nYSt1Ah1pBaMfG3NqFp7GpzYTgiRSbA3
 2ZOiHiDH76psEEdlSffI2QRg5UqwhlqgJJTC7vXAE
X-Google-Smtp-Source: AGHT+IE4nvlXLFcS3YiZRomzqc9eS+Hkd2rzmp4GiBfUG/AxoeChud1EGDIlG35iOgNGdwOopYTcIy5GKqzw
X-Received: by 2002:a05:690c:6487:b0:61a:e557:1abb with SMTP id
 hs7-20020a05690c648700b0061ae5571abbmr6433301ywb.24.1714251532470; 
 Sat, 27 Apr 2024 13:58:52 -0700 (PDT)
Received: from postal.iol.unh.edu (postal.iol.unh.edu. [132.177.123.84])
 by smtp-relay.gmail.com with ESMTPS id
 q129-20020a815c87000000b0061538cdc799sm1540031ywb.26.2024.04.27.13.58.52
 (version=TLS1_2 cipher=ECDHE-ECDSA-AES128-GCM-SHA256 bits=128/128);
 Sat, 27 Apr 2024 13:58:52 -0700 (PDT)
X-Relaying-Domain: iol.unh.edu
Date: Sat, 27 Apr 2024 13:58:52 -0700 (PDT)
Message-ID: <662d670c.810a0220.44234.5aa1SMTPIN_ADDED_MISSING@mx.google.com>
Received: from [172.21.0.6] (unknown [172.18.0.240])
 by postal.iol.unh.edu (Postfix) with ESMTP id E055F6052514;
 Sat, 27 Apr 2024 16:58:51 -0400 (EDT)
Subject: |SUCCESS| pw139715 [PATCH] [v5] lib/hash: add defer queue reclaim AP
From: dpdklab@iol.unh.edu
To: Test Report <test-report@dpdk.org>
Cc: dpdk-test-reports@iol.unh.edu
In-Reply-To: <20240427195418.1034591-1-aomeryamac@gmail.com>
References: <20240427195418.1034591-1-aomeryamac@gmail.com>
Content-Type: text/plain
X-BeenThere: test-report@dpdk.org
X-Mailman-Version: 2.1.29
Precedence: list
List-Id: automatic DPDK test reports <test-report.dpdk.org>
List-Unsubscribe: <https://mails.dpdk.org/options/test-report>,
 <mailto:test-report-request@dpdk.org?subject=unsubscribe>
List-Archive: <http://mails.dpdk.org/archives/test-report/>
List-Post: <mailto:test-report@dpdk.org>
List-Help: <mailto:test-report-request@dpdk.org?subject=help>
List-Subscribe: <https://mails.dpdk.org/listinfo/test-report>,
 <mailto:test-report-request@dpdk.org?subject=subscribe>
Errors-To: test-report-bounces@dpdk.org

Test-Label: iol-compile-amd64-testing
Test-Status: SUCCESS
http://dpdk.org/patch/139715

_Testing PASS_

Submitter: Abdullah Omer Yamac <aomeryamac@gmail.com>
Date: Saturday, April 27 2024 19:54:18 
DPDK git baseline: Repo:dpdk
  Branch: master
  CommitID:7e06c0de1952d3109a5b0c4779d7e7d8059c9d78

139715 --> testing pass

Test environment and result as below:

+---------------------+-------------------+--------------------+----------------------+
|     Environment     | dpdk_msvc_compile | dpdk_meson_compile | dpdk_mingw64_compile |
+=====================+===================+====================+======================+
| Windows Server 2022 | PASS              | PASS               | PASS                 |
+---------------------+-------------------+--------------------+----------------------+
| Windows Server 2019 | SKIPPED           | PASS               | PASS                 |
+---------------------+-------------------+--------------------+----------------------+
| CentOS Stream 8     | SKIPPED           | PASS               | SKIPPED              |
+---------------------+-------------------+--------------------+----------------------+
| FreeBSD 13.3        | SKIPPED           | PASS               | SKIPPED              |
+---------------------+-------------------+--------------------+----------------------+
| Debian 12           | SKIPPED           | PASS               | SKIPPED              |
+---------------------+-------------------+--------------------+----------------------+
| CentOS Stream 9     | SKIPPED           | PASS               | SKIPPED              |
+---------------------+-------------------+--------------------+----------------------+
| Fedora 38           | SKIPPED           | PASS               | SKIPPED              |
+---------------------+-------------------+--------------------+----------------------+
| Ubuntu 22.04        | SKIPPED           | PASS               | SKIPPED              |
+---------------------+-------------------+--------------------+----------------------+
| Ubuntu 20.04        | SKIPPED           | PASS               | SKIPPED              |
+---------------------+-------------------+--------------------+----------------------+
| Fedora 39           | SKIPPED           | PASS               | SKIPPED              |
+---------------------+-------------------+--------------------+----------------------+
| openSUSE Leap 15    | SKIPPED           | PASS               | SKIPPED              |
+---------------------+-------------------+--------------------+----------------------+
| RHEL8               | SKIPPED           | PASS               | SKIPPED              |
+---------------------+-------------------+--------------------+----------------------+
| Fedora 37           | SKIPPED           | PASS               | SKIPPED              |
+---------------------+-------------------+--------------------+----------------------+
| Debian Bullseye     | SKIPPED           | PASS               | SKIPPED              |
+---------------------+-------------------+--------------------+----------------------+


Windows Server 2022
	Kernel: 10.0.20348.2031
	Compiler: clang 15.0.7, gcc 8.1.0 (MinGW), and MSVC VS 17.9

Windows Server 2019
	Kernel: 10.0.17763
	Compiler: clang 14.0 and gcc 8.1.0 (MinGW)

CentOS Stream 8
	Kernel: 5.4.0-167-generic
	Compiler: gcc 8.5.0 20210514

FreeBSD 13.3
	Kernel: 13.3-RELEASE-p1
	Compiler: clang 17.0.6

Debian 12
	Kernel: Container Host Kernel
	Compiler: gcc 10.2.1

CentOS Stream 9
	Kernel: 5.4.0-167-generic
	Compiler: gcc 11.4.1 20230605

Fedora 38
	Kernel: Depends on container host
	Compiler: gcc 13.2.1

Ubuntu 22.04
	Kernel: 5.4.0-167-generic
	Compiler: gcc 11.4.0

Ubuntu 20.04
	Kernel: 5.4.0-167-generic
	Compiler: gcc 9.4.0-1ubuntu1~20.04.1

Fedora 39
	Kernel: Depends on container host
	Compiler: gcc 13.2.1

openSUSE Leap 15
	Kernel: 5.4.0-167-generic
	Compiler: gcc 7.5.0

RHEL8
	Kernel: 5.4.0-167-generic
	Compiler: gcc 8.5.0 20210514 (Red Hat 8.5.0-20)

Fedora 37
	Kernel: Depends on container host system
	Compiler: gcc 12.3.1

Debian Bullseye
	Kernel: 5.4.0-167-generic
	Compiler: gcc 10.2.1-6

To view detailed results, visit:
https://lab.dpdk.org/results/dashboard/patchsets/29870/

UNH-IOL DPDK Community Lab

To manage your email subscriptions, visit: 
https://lab.dpdk.org/results/dashboard/preferences/subscriptions/