From mboxrd@z Thu Jan  1 00:00:00 1970
Return-Path: <test-report-bounces@dpdk.org>
Received: from mails.dpdk.org (mails.dpdk.org [217.70.189.124])
	by inbox.dpdk.org (Postfix) with ESMTP id 5834C43F2E
	for <public@inbox.dpdk.org>; Sat, 27 Apr 2024 23:02:29 +0200 (CEST)
Received: from mails.dpdk.org (localhost [127.0.0.1])
	by mails.dpdk.org (Postfix) with ESMTP id 5456E40151;
	Sat, 27 Apr 2024 23:02:29 +0200 (CEST)
Received: from mail-qv1-f97.google.com (mail-qv1-f97.google.com
 [209.85.219.97]) by mails.dpdk.org (Postfix) with ESMTP id 51B1B400D7
 for <test-report@dpdk.org>; Sat, 27 Apr 2024 23:02:10 +0200 (CEST)
Received: by mail-qv1-f97.google.com with SMTP id
 6a1803df08f44-6a0b68733f5so9362406d6.1
 for <test-report@dpdk.org>; Sat, 27 Apr 2024 14:02:10 -0700 (PDT)
DKIM-Signature: v=1; a=rsa-sha256; c=relaxed/relaxed;
 d=iol.unh.edu; s=unh-iol; t=1714251729; x=1714856529; darn=dpdk.org;
 h=references:in-reply-to:cc:to:from:subject:message-id:date:from:to
 :cc:subject:date:message-id:reply-to;
 bh=OLZAGEg7OvYmCeyYHMei/ILFWNFPMNfOfrR2oRj5gZw=;
 b=B35dE2DFJVivWy80pXF5M02nAMgUW4LU7H8IUZXt2A8Dx2+W8q0x/Mx7JKgy+GPfw9
 f1ad4G2waoS28d8faOvWwTEm4K9cU9vqYfNj0BNb8naaZwb7uTdm7O3lqHGmB5UDBuQF
 bZ650NP5qEGCkLFRKAZR3al9o1J5/eMs3USdI=
X-Google-DKIM-Signature: v=1; a=rsa-sha256; c=relaxed/relaxed;
 d=1e100.net; s=20230601; t=1714251729; x=1714856529;
 h=references:in-reply-to:cc:to:from:subject:message-id:date
 :x-gm-message-state:from:to:cc:subject:date:message-id:reply-to;
 bh=OLZAGEg7OvYmCeyYHMei/ILFWNFPMNfOfrR2oRj5gZw=;
 b=wA5csDKLWkmrPbOflrFXxWt0w8bkcVr/qoLYMPss8OKOtElz8+Tbxwjf68mfcqbdVW
 k1kQRWzlWhQZQ8OYqvEE+yu0dHV+1Dt1lQHTJrUUZ4EGRIvEzRh8jiOasOcSv488RCD8
 cFg9ww0Z8eZUMcJOURBUz/1y6w5j1zhvMxqZ7wwMF2yKptQ6nHPI8rmuVqEEMdYRHpKT
 8F55tOlJaqmS36Jc8nX61XDQqrqG+jK0g9I9EKstl+ek11k5XAZ3PBhkhUlkSiBxBhuz
 TP/FKLoMmSZQfcbJbdZLqUniYUOqBG/v6XlqTmCA/kxM0HCIZinXZmNjB8KsNhbdhQ7N
 KpGA==
X-Gm-Message-State: AOJu0Yxh7KJMvIedWibM+I/kXllzPq9s1vxOdAnGWq7hzGpM1LoIALc9
 W3r2INlPFA/CbpKOIdN6mSgolxhZlEjm2XmaoIidaqOVgiz47Rt7/VB45XTaOA1QahsFnpDMQdZ
 dXtKs/QXziKNdntqJHh39Cm7ycpNP/O+lAJJfWX0vAntY+FsgvH8ZNbva
X-Google-Smtp-Source: AGHT+IG874qq28x+Zr+LZhXKIc1KkG9GZJRPPIq5eKLLy//Bx/UJRVFvpHASi16sHgGxRfA+EZG+HZYlXvgd
X-Received: by 2002:a05:6214:238c:b0:6a0:745b:f4fe with SMTP id
 fw12-20020a056214238c00b006a0745bf4femr6575164qvb.54.1714251729723; 
 Sat, 27 Apr 2024 14:02:09 -0700 (PDT)
Received: from postal.iol.unh.edu (postal.iol.unh.edu.
 [2606:4100:3880:1234::84]) by smtp-relay.gmail.com with ESMTPS id
 pn13-20020a056214130d00b0069b7e47015bsm1530608qvb.18.2024.04.27.14.02.09
 (version=TLS1_2 cipher=ECDHE-ECDSA-AES128-GCM-SHA256 bits=128/128);
 Sat, 27 Apr 2024 14:02:09 -0700 (PDT)
X-Relaying-Domain: iol.unh.edu
Date: Sat, 27 Apr 2024 14:02:09 -0700 (PDT)
Message-ID: <662d67d1.050a0220.c5ff7.11c9SMTPIN_ADDED_MISSING@mx.google.com>
Received: from [172.21.0.7] (unknown [172.18.0.240])
 by postal.iol.unh.edu (Postfix) with ESMTP id 6A95C6052514;
 Sat, 27 Apr 2024 17:02:09 -0400 (EDT)
Subject: |SUCCESS| pw139715 [PATCH] [v5] lib/hash: add defer queue reclaim AP
From: dpdklab@iol.unh.edu
To: Test Report <test-report@dpdk.org>
Cc: dpdk-test-reports@iol.unh.edu
In-Reply-To: <20240427195418.1034591-1-aomeryamac@gmail.com>
References: <20240427195418.1034591-1-aomeryamac@gmail.com>
Content-Type: text/plain
X-BeenThere: test-report@dpdk.org
X-Mailman-Version: 2.1.29
Precedence: list
List-Id: automatic DPDK test reports <test-report.dpdk.org>
List-Unsubscribe: <https://mails.dpdk.org/options/test-report>,
 <mailto:test-report-request@dpdk.org?subject=unsubscribe>
List-Archive: <http://mails.dpdk.org/archives/test-report/>
List-Post: <mailto:test-report@dpdk.org>
List-Help: <mailto:test-report-request@dpdk.org?subject=help>
List-Subscribe: <https://mails.dpdk.org/listinfo/test-report>,
 <mailto:test-report-request@dpdk.org?subject=subscribe>
Errors-To: test-report-bounces@dpdk.org

Test-Label: iol-compile-amd64-testing
Test-Status: SUCCESS
http://dpdk.org/patch/139715

_Testing PASS_

Submitter: Abdullah Omer Yamac <aomeryamac@gmail.com>
Date: Saturday, April 27 2024 19:54:18 
DPDK git baseline: Repo:dpdk
  Branch: master
  CommitID:7e06c0de1952d3109a5b0c4779d7e7d8059c9d78

139715 --> testing pass

Test environment and result as below:

+---------------------+-------------------+--------------------+----------------------+
|     Environment     | dpdk_msvc_compile | dpdk_meson_compile | dpdk_mingw64_compile |
+=====================+===================+====================+======================+
| Windows Server 2022 | PASS              | PASS               | PASS                 |
+---------------------+-------------------+--------------------+----------------------+
| Windows Server 2019 | SKIPPED           | PASS               | PASS                 |
+---------------------+-------------------+--------------------+----------------------+
| CentOS Stream 8     | SKIPPED           | PASS               | SKIPPED              |
+---------------------+-------------------+--------------------+----------------------+
| FreeBSD 13.3        | SKIPPED           | PASS               | SKIPPED              |
+---------------------+-------------------+--------------------+----------------------+
| Debian 12           | SKIPPED           | PASS               | SKIPPED              |
+---------------------+-------------------+--------------------+----------------------+
| CentOS Stream 9     | SKIPPED           | PASS               | SKIPPED              |
+---------------------+-------------------+--------------------+----------------------+
| Fedora 38           | SKIPPED           | PASS               | SKIPPED              |
+---------------------+-------------------+--------------------+----------------------+
| Ubuntu 22.04        | SKIPPED           | PASS               | SKIPPED              |
+---------------------+-------------------+--------------------+----------------------+
| Ubuntu 20.04        | SKIPPED           | PASS               | SKIPPED              |
+---------------------+-------------------+--------------------+----------------------+
| Fedora 39           | SKIPPED           | PASS               | SKIPPED              |
+---------------------+-------------------+--------------------+----------------------+
| openSUSE Leap 15    | SKIPPED           | PASS               | SKIPPED              |
+---------------------+-------------------+--------------------+----------------------+
| RHEL8               | SKIPPED           | PASS               | SKIPPED              |
+---------------------+-------------------+--------------------+----------------------+
| Fedora 37           | SKIPPED           | PASS               | SKIPPED              |
+---------------------+-------------------+--------------------+----------------------+
| Debian Bullseye     | SKIPPED           | PASS               | SKIPPED              |
+---------------------+-------------------+--------------------+----------------------+


Windows Server 2022
	Kernel: 10.0.20348.2031
	Compiler: clang 15.0.7, gcc 8.1.0 (MinGW), and MSVC VS 17.9

Windows Server 2019
	Kernel: 10.0.17763
	Compiler: clang 14.0 and gcc 8.1.0 (MinGW)

CentOS Stream 8
	Kernel: 5.4.0-167-generic
	Compiler: gcc 8.5.0 20210514

FreeBSD 13.3
	Kernel: 13.3-RELEASE-p1
	Compiler: clang 17.0.6

Debian 12
	Kernel: Container Host Kernel
	Compiler: gcc 10.2.1

CentOS Stream 9
	Kernel: 5.4.0-167-generic
	Compiler: gcc 11.4.1 20230605

Fedora 38
	Kernel: Depends on container host
	Compiler: gcc 13.2.1

Ubuntu 22.04
	Kernel: 5.4.0-167-generic
	Compiler: gcc 11.4.0

Ubuntu 20.04
	Kernel: 5.4.0-167-generic
	Compiler: gcc 9.4.0-1ubuntu1~20.04.1

Fedora 39
	Kernel: Depends on container host
	Compiler: gcc 13.2.1

openSUSE Leap 15
	Kernel: 5.4.0-167-generic
	Compiler: gcc 7.5.0

RHEL8
	Kernel: 5.4.0-167-generic
	Compiler: gcc 8.5.0 20210514 (Red Hat 8.5.0-20)

Fedora 37
	Kernel: Depends on container host system
	Compiler: gcc 12.3.1

Debian Bullseye
	Kernel: 5.4.0-167-generic
	Compiler: gcc 10.2.1-6

To view detailed results, visit:
https://lab.dpdk.org/results/dashboard/patchsets/29870/

UNH-IOL DPDK Community Lab

To manage your email subscriptions, visit: 
https://lab.dpdk.org/results/dashboard/preferences/subscriptions/