From mboxrd@z Thu Jan  1 00:00:00 1970
Return-Path: <test-report-bounces@dpdk.org>
Received: from mails.dpdk.org (mails.dpdk.org [217.70.189.124])
	by inbox.dpdk.org (Postfix) with ESMTP id D552243F27
	for <public@inbox.dpdk.org>; Sat, 27 Apr 2024 23:19:37 +0200 (CEST)
Received: from mails.dpdk.org (localhost [127.0.0.1])
	by mails.dpdk.org (Postfix) with ESMTP id C996240151;
	Sat, 27 Apr 2024 23:19:37 +0200 (CEST)
Received: from mail-pj1-f97.google.com (mail-pj1-f97.google.com
 [209.85.216.97]) by mails.dpdk.org (Postfix) with ESMTP id E08BB400D7
 for <test-report@dpdk.org>; Sat, 27 Apr 2024 23:19:35 +0200 (CEST)
Received: by mail-pj1-f97.google.com with SMTP id
 98e67ed59e1d1-2ac16b59fbeso2840923a91.2
 for <test-report@dpdk.org>; Sat, 27 Apr 2024 14:19:35 -0700 (PDT)
DKIM-Signature: v=1; a=rsa-sha256; c=relaxed/relaxed;
 d=iol.unh.edu; s=unh-iol; t=1714252775; x=1714857575; darn=dpdk.org;
 h=references:in-reply-to:cc:to:from:subject:message-id:date:from:to
 :cc:subject:date:message-id:reply-to;
 bh=cQa7PJVQs4Kc5DTwH8Tnbws+SGzm8I2Lz4euOshV6Ps=;
 b=AFom3LGdmCA/y4BMWZyCgWdapP5Ezie78YizCoOfULXIn+mrQlsoC94lxChTgUcUv+
 7o9FykkUbQg4jA8nn5nJjHMwpajZmFL3GuLstbMcxnfDWPwPWldKwwfWCA2Bz4XIhx+/
 TfSh8y+3MinNRAWxHgoausiyrQjSmVjtpnamY=
X-Google-DKIM-Signature: v=1; a=rsa-sha256; c=relaxed/relaxed;
 d=1e100.net; s=20230601; t=1714252775; x=1714857575;
 h=references:in-reply-to:cc:to:from:subject:message-id:date
 :x-gm-message-state:from:to:cc:subject:date:message-id:reply-to;
 bh=cQa7PJVQs4Kc5DTwH8Tnbws+SGzm8I2Lz4euOshV6Ps=;
 b=gYF5ztMPt2GnwT8G9fNAqt87k9QV4yFmcNF5uMGIE9lk001QrLLxUyACdCojHqa6PQ
 Mi3g3NxV9dNVvnD4l5jZvKrDyt2w9vcwpIfN+gtIlFBHGt7J++nA6BAVyc4TygkfBIas
 XpmwZodJfuAlGAdogpfdrkzxN1yK59EOpDxXyq+YZviVBsY8Srpyb9EH0+cIjqfDdpxB
 zx+CJy3K8tsT5kuyA4Oi682GMmIkAzmW0dGiuWfUpao1FpXcDcXye5OtsOyugUZ+7JTm
 si7SSXWwpBLv2sFPNVW239IR9pmmcUjoa2YpmSSYfn8eNm40jzgQpv0b0Ywa2LBHdlGv
 VR5g==
X-Gm-Message-State: AOJu0Ywmmm6UFVXN7poVKKEKDvhyMwN86XY8kY7JfnUDfJ6AL1h2NgZ2
 AkrA3C7Zq+yvQGh2cp68xrIe5Mwj5TmIFagrsdONuZtXMY27LANUSNki8FD2Q2OMjU/kRPg1eZE
 DR6Q7Q7+hLPVH/d8+5nN1urQUNjzoYz56v9BLB3r0OJ3OinrTa8g1daQn
X-Google-Smtp-Source: AGHT+IFd73BUsW93zWNRduA6/pt1w3M4oV8/j+GyVVq6ssVVV/57Klsdlknj3Gi7BtlDNVHDgxB7n90Gpe2F
X-Received: by 2002:a17:90b:78d:b0:2a5:badb:30ea with SMTP id
 l13-20020a17090b078d00b002a5badb30eamr5999066pjz.36.1714252775039; 
 Sat, 27 Apr 2024 14:19:35 -0700 (PDT)
Received: from postal.iol.unh.edu (postal.iol.unh.edu.
 [2606:4100:3880:1234::84]) by smtp-relay.gmail.com with ESMTPS id
 nl8-20020a17090b384800b002ae49e6bc4asm849612pjb.15.2024.04.27.14.19.34
 (version=TLS1_2 cipher=ECDHE-ECDSA-AES128-GCM-SHA256 bits=128/128);
 Sat, 27 Apr 2024 14:19:35 -0700 (PDT)
X-Relaying-Domain: iol.unh.edu
Date: Sat, 27 Apr 2024 14:19:35 -0700 (PDT)
Message-ID: <662d6be7.170a0220.ef63a.a25eSMTPIN_ADDED_MISSING@mx.google.com>
Received: from [172.21.0.6] (unknown [172.18.0.240])
 by postal.iol.unh.edu (Postfix) with ESMTP id 2239F6052514;
 Sat, 27 Apr 2024 17:19:34 -0400 (EDT)
Subject: |SUCCESS| pw139715 [PATCH] [v5] lib/hash: add defer queue reclaim AP
From: dpdklab@iol.unh.edu
To: Test Report <test-report@dpdk.org>
Cc: dpdk-test-reports@iol.unh.edu
In-Reply-To: <20240427195418.1034591-1-aomeryamac@gmail.com>
References: <20240427195418.1034591-1-aomeryamac@gmail.com>
Content-Type: text/plain
X-BeenThere: test-report@dpdk.org
X-Mailman-Version: 2.1.29
Precedence: list
List-Id: automatic DPDK test reports <test-report.dpdk.org>
List-Unsubscribe: <https://mails.dpdk.org/options/test-report>,
 <mailto:test-report-request@dpdk.org?subject=unsubscribe>
List-Archive: <http://mails.dpdk.org/archives/test-report/>
List-Post: <mailto:test-report@dpdk.org>
List-Help: <mailto:test-report-request@dpdk.org?subject=help>
List-Subscribe: <https://mails.dpdk.org/listinfo/test-report>,
 <mailto:test-report-request@dpdk.org?subject=subscribe>
Errors-To: test-report-bounces@dpdk.org

Test-Label: iol-unit-amd64-testing
Test-Status: SUCCESS
http://dpdk.org/patch/139715

_Testing PASS_

Submitter: Abdullah Omer Yamac <aomeryamac@gmail.com>
Date: Saturday, April 27 2024 19:54:18 
DPDK git baseline: Repo:dpdk
  Branch: master
  CommitID:7e06c0de1952d3109a5b0c4779d7e7d8059c9d78

139715 --> testing pass

Test environment and result as below:

+---------------------+----------------+
|     Environment     | dpdk_unit_test |
+=====================+================+
| CentOS Stream 8     | PASS           |
+---------------------+----------------+
| CentOS Stream 9     | PASS           |
+---------------------+----------------+
| Windows Server 2019 | PASS           |
+---------------------+----------------+
| Debian 12           | PASS           |
+---------------------+----------------+
| Debian Bullseye     | PASS           |
+---------------------+----------------+
| Fedora 38           | PASS           |
+---------------------+----------------+
| Fedora 37           | PASS           |
+---------------------+----------------+
| Fedora 39           | PASS           |
+---------------------+----------------+
| RHEL8               | PASS           |
+---------------------+----------------+
| openSUSE Leap 15    | PASS           |
+---------------------+----------------+
| Ubuntu 20.04        | PASS           |
+---------------------+----------------+
| Ubuntu 22.04        | PASS           |
+---------------------+----------------+
| Windows Server 2022 | PASS           |
+---------------------+----------------+


CentOS Stream 8
	Kernel: 5.4.0-167-generic
	Compiler: gcc 8.5.0 20210514

CentOS Stream 9
	Kernel: 5.4.0-167-generic
	Compiler: gcc 11.4.1 20230605

Windows Server 2019
	Kernel: 10.0.17763
	Compiler: clang 14.0 and gcc 8.1.0 (MinGW)

Debian 12
	Kernel: Container Host Kernel
	Compiler: gcc 10.2.1

Debian Bullseye
	Kernel: 5.4.0-167-generic
	Compiler: gcc 10.2.1-6

Fedora 38
	Kernel: Depends on container host
	Compiler: gcc 13.2.1

Fedora 37
	Kernel: Depends on container host system
	Compiler: gcc 12.3.1

Fedora 39
	Kernel: Depends on container host
	Compiler: gcc 13.2.1

RHEL8
	Kernel: 5.4.0-167-generic
	Compiler: gcc 8.5.0 20210514 (Red Hat 8.5.0-20)

openSUSE Leap 15
	Kernel: 5.4.0-167-generic
	Compiler: gcc 7.5.0

Ubuntu 20.04
	Kernel: 5.4.0-167-generic
	Compiler: gcc 9.4.0-1ubuntu1~20.04.1

Ubuntu 22.04
	Kernel: 5.4.0-167-generic
	Compiler: gcc 11.4.0

Windows Server 2022
	Kernel: 10.0.20348.2031
	Compiler: clang 15.0.7, gcc 8.1.0 (MinGW), and MSVC VS 17.9

To view detailed results, visit:
https://lab.dpdk.org/results/dashboard/patchsets/29870/

UNH-IOL DPDK Community Lab

To manage your email subscriptions, visit: 
https://lab.dpdk.org/results/dashboard/preferences/subscriptions/