From mboxrd@z Thu Jan  1 00:00:00 1970
Return-Path: <test-report-bounces@dpdk.org>
Received: from mails.dpdk.org (mails.dpdk.org [217.70.189.124])
	by inbox.dpdk.org (Postfix) with ESMTP id 7ED4743F27
	for <public@inbox.dpdk.org>; Sat, 27 Apr 2024 23:27:11 +0200 (CEST)
Received: from mails.dpdk.org (localhost [127.0.0.1])
	by mails.dpdk.org (Postfix) with ESMTP id 7A0BA40151;
	Sat, 27 Apr 2024 23:27:11 +0200 (CEST)
Received: from mail-pl1-f225.google.com (mail-pl1-f225.google.com
 [209.85.214.225])
 by mails.dpdk.org (Postfix) with ESMTP id B8083400D7
 for <test-report@dpdk.org>; Sat, 27 Apr 2024 23:27:04 +0200 (CEST)
Received: by mail-pl1-f225.google.com with SMTP id
 d9443c01a7336-1e2c725e234so34384675ad.1
 for <test-report@dpdk.org>; Sat, 27 Apr 2024 14:27:04 -0700 (PDT)
DKIM-Signature: v=1; a=rsa-sha256; c=relaxed/relaxed;
 d=iol.unh.edu; s=unh-iol; t=1714253224; x=1714858024; darn=dpdk.org;
 h=references:in-reply-to:cc:to:from:subject:message-id:date:from:to
 :cc:subject:date:message-id:reply-to;
 bh=HvBxzDOm1Fx/u4LhhHBVQ7mQqj8bWFmMVC+veYoAoAI=;
 b=CJBePeV9HM9VqHIbmfxDz4FRgapGND3xjgbtmLu9tXJNPGTxeXy6ZNPKFMbsbWLDtk
 fc4O8arV/5/FunTMqQ1OH7dG0FPQwzRd7xAVmAzN3FtQJ6H4VXSxDM+UlDXdzLP+H5JX
 jm2NZhYUk54kkdsEsgpZPJwBtLl3/Uq+UEAyY=
X-Google-DKIM-Signature: v=1; a=rsa-sha256; c=relaxed/relaxed;
 d=1e100.net; s=20230601; t=1714253224; x=1714858024;
 h=references:in-reply-to:cc:to:from:subject:message-id:date
 :x-gm-message-state:from:to:cc:subject:date:message-id:reply-to;
 bh=HvBxzDOm1Fx/u4LhhHBVQ7mQqj8bWFmMVC+veYoAoAI=;
 b=VNASOBTn9Pu1p1AXivJkNE07vfVd736JUNBIIj8hEcqEGT5iLduf7qdttYBje9nhW+
 BYIUogN3NSuT6GmYeMpXLSpy+N4ocCqOhB7Mp4xYRHpFjO/NhShGkuoW5yyH//aTjcxp
 leOih/oS+mOFhDUn13R9qGBw6bZORqgf8rSKDdxC8J71Nz7BUJI+Qz4Q0M4Nwmx384B9
 UxvHa8lp+VzJlIsgxUGlAgH1Bz7OXYEv3Z+ItnPM/01DHTfF7dbEJEkTkpsi0+66Ohiz
 pl6e47CTs4CgThjE4/R7jMdwtH8p1G+LPBNrjG9gnGXccp1RQG96uvnYoHKIfaNnweLa
 DHaA==
X-Gm-Message-State: AOJu0YxNJ9jqb2bsG3C23TNjJmhrNfE0O3ewX5Z0lCrgCVj9DgD9VAxo
 ToHV/16TFN0s6j6j1HKq1WotV3Xz3YkcC2qfbyQMgEWUaZaHgpTG0ZKmaY2HPuaF8r233isF6eB
 FdlHPZ3b0FSxaXEkAOKI2aVPInpll/nri6Jz97JJ/
X-Google-Smtp-Source: AGHT+IEu77oHibZg9NZSKWY/aehhfM6bQ7MfiFKchqDwP7xC6Czy6Tf5d5T+wiEE48pR3U86CpF03pVEcajF
X-Received: by 2002:a17:902:d2c2:b0:1e4:1fb8:321f with SMTP id
 n2-20020a170902d2c200b001e41fb8321fmr9646209plc.20.1714253223889; 
 Sat, 27 Apr 2024 14:27:03 -0700 (PDT)
Received: from postal.iol.unh.edu (postal.iol.unh.edu. [132.177.123.84])
 by smtp-relay.gmail.com with ESMTPS id
 lh4-20020a170903290400b001e2a0c8813fsm567702plb.36.2024.04.27.14.27.03
 (version=TLS1_2 cipher=ECDHE-ECDSA-AES128-GCM-SHA256 bits=128/128);
 Sat, 27 Apr 2024 14:27:03 -0700 (PDT)
X-Relaying-Domain: iol.unh.edu
Date: Sat, 27 Apr 2024 14:27:03 -0700 (PDT)
Message-ID: <662d6da7.170a0220.819ca.e5c5SMTPIN_ADDED_MISSING@mx.google.com>
Received: from [172.21.0.8] (unknown [172.18.0.240])
 by postal.iol.unh.edu (Postfix) with ESMTP id 0E3926052514;
 Sat, 27 Apr 2024 17:27:03 -0400 (EDT)
Subject: |SUCCESS| pw139706-139714 [PATCH] [v9,9/9] net/tap: simplify the int
From: dpdklab@iol.unh.edu
To: Test Report <test-report@dpdk.org>
Cc: dpdk-test-reports@iol.unh.edu
In-Reply-To: <20240426155125.125910-10-stephen@networkplumber.org>
References: <20240426155125.125910-10-stephen@networkplumber.org>
Content-Type: text/plain
X-BeenThere: test-report@dpdk.org
X-Mailman-Version: 2.1.29
Precedence: list
List-Id: automatic DPDK test reports <test-report.dpdk.org>
List-Unsubscribe: <https://mails.dpdk.org/options/test-report>,
 <mailto:test-report-request@dpdk.org?subject=unsubscribe>
List-Archive: <http://mails.dpdk.org/archives/test-report/>
List-Post: <mailto:test-report@dpdk.org>
List-Help: <mailto:test-report-request@dpdk.org?subject=help>
List-Subscribe: <https://mails.dpdk.org/listinfo/test-report>,
 <mailto:test-report-request@dpdk.org?subject=subscribe>
Errors-To: test-report-bounces@dpdk.org

Test-Label: iol-compile-arm64-testing
Test-Status: SUCCESS
http://dpdk.org/patch/139714

_Testing PASS_

Submitter: Stephen Hemminger <stephen@networkplumber.org>
Date: Friday, April 26 2024 15:48:59 
DPDK git baseline: Repo:dpdk
  Branch: master
  CommitID:7e06c0de1952d3109a5b0c4779d7e7d8059c9d78

139706-139714 --> testing pass

Test environment and result as below:

+----------------------+--------------------+
|     Environment      | dpdk_meson_compile |
+======================+====================+
| Ubuntu 20.04 ARM SVE | PASS               |
+----------------------+--------------------+
| Debian 12 with MUSDK | PASS               |
+----------------------+--------------------+
| Fedora 38 (ARM)      | PASS               |
+----------------------+--------------------+
| Debian 12 (arm)      | PASS               |
+----------------------+--------------------+


Ubuntu 20.04 ARM SVE
	Kernel: 5.4.0-167-generic
	Compiler: gcc (Ubuntu 10.5.0-1ubuntu1~20.04) 10.5.0

Debian 12 with MUSDK
	Kernel: Container Host Kernel
	Compiler: gcc 12.2.0

Fedora 38 (ARM)
	Kernel: Depends on container host
	Compiler: gcc 13.2.1

Debian 12 (arm)
	Kernel: Container Host Kernel
	Compiler: gcc 12.2.0

To view detailed results, visit:
https://lab.dpdk.org/results/dashboard/patchsets/29869/

UNH-IOL DPDK Community Lab

To manage your email subscriptions, visit: 
https://lab.dpdk.org/results/dashboard/preferences/subscriptions/