From mboxrd@z Thu Jan  1 00:00:00 1970
Return-Path: <test-report-bounces@dpdk.org>
Received: from mails.dpdk.org (mails.dpdk.org [217.70.189.124])
	by inbox.dpdk.org (Postfix) with ESMTP id EA18F43F27
	for <public@inbox.dpdk.org>; Sat, 27 Apr 2024 23:30:55 +0200 (CEST)
Received: from mails.dpdk.org (localhost [127.0.0.1])
	by mails.dpdk.org (Postfix) with ESMTP id E17DC402A2;
	Sat, 27 Apr 2024 23:30:55 +0200 (CEST)
Received: from mail-il1-f226.google.com (mail-il1-f226.google.com
 [209.85.166.226])
 by mails.dpdk.org (Postfix) with ESMTP id 3878140151
 for <test-report@dpdk.org>; Sat, 27 Apr 2024 23:30:54 +0200 (CEST)
Received: by mail-il1-f226.google.com with SMTP id
 e9e14a558f8ab-36a165b8845so10031875ab.1
 for <test-report@dpdk.org>; Sat, 27 Apr 2024 14:30:54 -0700 (PDT)
DKIM-Signature: v=1; a=rsa-sha256; c=relaxed/relaxed;
 d=iol.unh.edu; s=unh-iol; t=1714253453; x=1714858253; darn=dpdk.org;
 h=references:in-reply-to:cc:to:from:subject:message-id:date:from:to
 :cc:subject:date:message-id:reply-to;
 bh=6RkGFlqXmJ6izCj0/PI9hzneInlP33yyRFyi3N8oULc=;
 b=R1ueXySwgKZxVcuPmk6htZnpcI0RzP9DWqLFeb3wXD0GzLmRghHWx9GUGseeNQLHh5
 Bf4AssnTZX/PSa5uKdk3sa6ghMFztCOeIWykk2opptRUiJ1csI/DsdQp8vek2+8XsxeK
 FcTQYPucjxXqC8g1ycWynGevQxQY2GToKevk4=
X-Google-DKIM-Signature: v=1; a=rsa-sha256; c=relaxed/relaxed;
 d=1e100.net; s=20230601; t=1714253453; x=1714858253;
 h=references:in-reply-to:cc:to:from:subject:message-id:date
 :x-gm-message-state:from:to:cc:subject:date:message-id:reply-to;
 bh=6RkGFlqXmJ6izCj0/PI9hzneInlP33yyRFyi3N8oULc=;
 b=iDeX+VI50mVMQKV2TAHXQfQh16Hw7Wv5jzdB1hxxXgQFTKA8S9EVCNknoqlF1T7Smh
 5IneH78PpwSRmUIwNr/77hCBuXKqHFcEndvWKYO8k5wkmY1BA7ENVlnaA8Wj1CmnMtJD
 KWveMsld2LWjb9t950rztG7Ffxk7Aakkw706UKYt4dK1nM2seMEvxI2eVFx7JClKZ1nk
 Xir+fRuLQo9MwPrEIPGQHN0my7/sv+n/1Geddf3XU3nTj6C8rYItxiN9+l4KC74SO+RM
 WNtPZGlz3UGIdPKjf4MOomdsjzgNqVU1PbBIV8IdNgLal7RmjjKGMy2Ip95fZ5jm6foS
 ebRQ==
X-Gm-Message-State: AOJu0YwDOC1ZcYRkcOFYXeWH6RMJjbXgGcq8LfK2E5AOSWc3w6Cs3R4V
 2MlEh8mIXniqxCRBAN5RqHVdA8s4noWRt3cKUBMOI6HgE214ey9f3qSK57WhXXruIKcY1sz/CFi
 XdeGRehsW1WVcFc/lQWl1ZbnIl5P15rvlMiSthP8owIlPOlS1C7o1BZ0C
X-Google-Smtp-Source: AGHT+IHD3R1PFbtbgDqoIpMXvDEx5WfziW78H4qrvphXKgFLYCR4CsVSJzGqV+9gVvZqJIQqLEEEir0NcO1C
X-Received: by 2002:a05:6e02:154e:b0:36c:a38:2dc7 with SMTP id
 j14-20020a056e02154e00b0036c0a382dc7mr7486015ilu.13.1714253453586; 
 Sat, 27 Apr 2024 14:30:53 -0700 (PDT)
Received: from postal.iol.unh.edu (postal.iol.unh.edu.
 [2606:4100:3880:1234::84]) by smtp-relay.gmail.com with ESMTPS id
 o7-20020a92c047000000b00368737f7a81sm1090099ilf.41.2024.04.27.14.30.53
 (version=TLS1_2 cipher=ECDHE-ECDSA-AES128-GCM-SHA256 bits=128/128);
 Sat, 27 Apr 2024 14:30:53 -0700 (PDT)
X-Relaying-Domain: iol.unh.edu
Date: Sat, 27 Apr 2024 14:30:53 -0700 (PDT)
Message-ID: <662d6e8d.920a0220.7b3a1.9cbcSMTPIN_ADDED_MISSING@mx.google.com>
Received: from [172.21.0.6] (unknown [172.18.0.240])
 by postal.iol.unh.edu (Postfix) with ESMTP id 1F6856052514;
 Sat, 27 Apr 2024 17:30:53 -0400 (EDT)
Subject: |SUCCESS| pw139706-139714 [PATCH] [v9,9/9] net/tap: simplify the int
From: dpdklab@iol.unh.edu
To: Test Report <test-report@dpdk.org>
Cc: dpdk-test-reports@iol.unh.edu
In-Reply-To: <20240426155125.125910-10-stephen@networkplumber.org>
References: <20240426155125.125910-10-stephen@networkplumber.org>
Content-Type: text/plain
X-BeenThere: test-report@dpdk.org
X-Mailman-Version: 2.1.29
Precedence: list
List-Id: automatic DPDK test reports <test-report.dpdk.org>
List-Unsubscribe: <https://mails.dpdk.org/options/test-report>,
 <mailto:test-report-request@dpdk.org?subject=unsubscribe>
List-Archive: <http://mails.dpdk.org/archives/test-report/>
List-Post: <mailto:test-report@dpdk.org>
List-Help: <mailto:test-report-request@dpdk.org?subject=help>
List-Subscribe: <https://mails.dpdk.org/listinfo/test-report>,
 <mailto:test-report-request@dpdk.org?subject=subscribe>
Errors-To: test-report-bounces@dpdk.org

Test-Label: iol-compile-amd64-testing
Test-Status: SUCCESS
http://dpdk.org/patch/139714

_Testing PASS_

Submitter: Stephen Hemminger <stephen@networkplumber.org>
Date: Friday, April 26 2024 15:48:59 
DPDK git baseline: Repo:dpdk
  Branch: master
  CommitID:7e06c0de1952d3109a5b0c4779d7e7d8059c9d78

139706-139714 --> testing pass

Test environment and result as below:

+---------------------+--------------------+----------------------+-------------------+
|     Environment     | dpdk_meson_compile | dpdk_mingw64_compile | dpdk_msvc_compile |
+=====================+====================+======================+===================+
| FreeBSD 13.3        | PASS               | SKIPPED              | SKIPPED           |
+---------------------+--------------------+----------------------+-------------------+
| Windows Server 2019 | PASS               | PASS                 | SKIPPED           |
+---------------------+--------------------+----------------------+-------------------+
| Debian Bullseye     | PASS               | SKIPPED              | SKIPPED           |
+---------------------+--------------------+----------------------+-------------------+
| Fedora 37           | PASS               | SKIPPED              | SKIPPED           |
+---------------------+--------------------+----------------------+-------------------+
| Fedora 38           | PASS               | SKIPPED              | SKIPPED           |
+---------------------+--------------------+----------------------+-------------------+
| Ubuntu 22.04        | PASS               | SKIPPED              | SKIPPED           |
+---------------------+--------------------+----------------------+-------------------+
| Fedora 39           | PASS               | SKIPPED              | SKIPPED           |
+---------------------+--------------------+----------------------+-------------------+
| Debian 12           | PASS               | SKIPPED              | SKIPPED           |
+---------------------+--------------------+----------------------+-------------------+
| Windows Server 2022 | SKIPPED            | PASS                 | PASS              |
+---------------------+--------------------+----------------------+-------------------+


FreeBSD 13.3
	Kernel: 13.3-RELEASE-p1
	Compiler: clang 17.0.6

Windows Server 2019
	Kernel: 10.0.17763
	Compiler: clang 14.0 and gcc 8.1.0 (MinGW)

Debian Bullseye
	Kernel: 5.4.0-167-generic
	Compiler: gcc 10.2.1-6

Fedora 37
	Kernel: Depends on container host system
	Compiler: gcc 12.3.1

Fedora 38
	Kernel: Depends on container host
	Compiler: gcc 13.2.1

Ubuntu 22.04
	Kernel: 5.4.0-167-generic
	Compiler: gcc 11.4.0

Fedora 39
	Kernel: Depends on container host
	Compiler: gcc 13.2.1

Debian 12
	Kernel: Container Host Kernel
	Compiler: gcc 10.2.1

Windows Server 2022
	Kernel: 10.0.20348.2031
	Compiler: clang 15.0.7, gcc 8.1.0 (MinGW), and MSVC VS 17.9

To view detailed results, visit:
https://lab.dpdk.org/results/dashboard/patchsets/29869/

UNH-IOL DPDK Community Lab

To manage your email subscriptions, visit: 
https://lab.dpdk.org/results/dashboard/preferences/subscriptions/