From mboxrd@z Thu Jan  1 00:00:00 1970
Return-Path: <test-report-bounces@dpdk.org>
Received: from mails.dpdk.org (mails.dpdk.org [217.70.189.124])
	by inbox.dpdk.org (Postfix) with ESMTP id 3B62643F27
	for <public@inbox.dpdk.org>; Sat, 27 Apr 2024 23:32:22 +0200 (CEST)
Received: from mails.dpdk.org (localhost [127.0.0.1])
	by mails.dpdk.org (Postfix) with ESMTP id 32746402A2;
	Sat, 27 Apr 2024 23:32:22 +0200 (CEST)
Received: from mail-pj1-f97.google.com (mail-pj1-f97.google.com
 [209.85.216.97]) by mails.dpdk.org (Postfix) with ESMTP id 6C9A540151
 for <test-report@dpdk.org>; Sat, 27 Apr 2024 23:32:18 +0200 (CEST)
Received: by mail-pj1-f97.google.com with SMTP id
 98e67ed59e1d1-2ab791bce6fso2296805a91.1
 for <test-report@dpdk.org>; Sat, 27 Apr 2024 14:32:18 -0700 (PDT)
DKIM-Signature: v=1; a=rsa-sha256; c=relaxed/relaxed;
 d=iol.unh.edu; s=unh-iol; t=1714253537; x=1714858337; darn=dpdk.org;
 h=references:in-reply-to:cc:to:from:subject:message-id:date:from:to
 :cc:subject:date:message-id:reply-to;
 bh=ijFb0j7umOCchmVuGkOFes1CdZ8fpdTvfkCAIMXaLQA=;
 b=J7ws8ObigpqkuY8c84kjgl/iHoEsANialU9079tJiy0e1EEvhfK5vNMlwxsHDGD92s
 dGxzF0CTh0HZQcIs2leURq11rxrbb4fScSs76AKeGtMmGnIznOd+kSwg64RvIVcaLQeh
 lZZ30+/Tg1rbJYRSXRWoIv93Lz9hlq1xj66HU=
X-Google-DKIM-Signature: v=1; a=rsa-sha256; c=relaxed/relaxed;
 d=1e100.net; s=20230601; t=1714253537; x=1714858337;
 h=references:in-reply-to:cc:to:from:subject:message-id:date
 :x-gm-message-state:from:to:cc:subject:date:message-id:reply-to;
 bh=ijFb0j7umOCchmVuGkOFes1CdZ8fpdTvfkCAIMXaLQA=;
 b=sAlhYZHCo+hF0PpfaCzNIMHQJbuGmO5U/DxKSr+g2NRCxqSHOmoKu2Ni00m6Xnp2QC
 oxyZUc/fszIfZYw0qSWf0FzWzslxnDQXE+stygIHA+TPpOLYdnADfWnDacdwIDZ8llI+
 5QgTBEeVVPHB+xvMZ9kL5X1mJSq9mqinsFUhlbQJRHbToFwLWQdkewyf5haQ4TFfyU/n
 utgc9gJO5QMLRL8bzReW0Up3KVfOvC7fuLwkS2DNtSaTM8C7As12rI/Lh+fnyaYtZcz/
 hEp3P1yYpHorzeJJa4ajOyDixjtglT8dZAAGxInuxwprfeuTEchjFhSJAMtiPylX1koH
 n0Wg==
X-Gm-Message-State: AOJu0Ywueo7EbJDr7E0yZqeP5Mv0JyD9lm3lZDPb90z+NXvkmJbQKiHE
 Vv2DsGZBEEMQUgLKl9QBTBSN0nNOr1DEKisSvFGaEYv9E2ZDNZaeCoPjd6nfBEb8XTO8hBvK3O5
 17iY30a5HgL8lDM32uK6tdi8CZlOmT8OO1biRgp+f3/a+v60bYKFF32tD
X-Google-Smtp-Source: AGHT+IE21WjtK0oOhFbsivKkQZPNPIsQp3dJYTZa2p1X6weBUbhgi+1s6jBaoGGH6CyxqVD47DTQVzuBNBvd
X-Received: by 2002:a17:90a:f182:b0:2a2:adfc:6203 with SMTP id
 bv2-20020a17090af18200b002a2adfc6203mr7060218pjb.8.1714253537658; 
 Sat, 27 Apr 2024 14:32:17 -0700 (PDT)
Received: from postal.iol.unh.edu (postal.iol.unh.edu.
 [2606:4100:3880:1234::84]) by smtp-relay.gmail.com with ESMTPS id
 in2-20020a17090b438200b002b10050cf1csm108085pjb.10.2024.04.27.14.32.17
 (version=TLS1_2 cipher=ECDHE-ECDSA-AES128-GCM-SHA256 bits=128/128);
 Sat, 27 Apr 2024 14:32:17 -0700 (PDT)
X-Relaying-Domain: iol.unh.edu
Date: Sat, 27 Apr 2024 14:32:17 -0700 (PDT)
Message-ID: <662d6ee1.170a0220.9a9c8.6147SMTPIN_ADDED_MISSING@mx.google.com>
Received: from [172.21.0.6] (unknown [172.18.0.240])
 by postal.iol.unh.edu (Postfix) with ESMTP id CA3ED6052514;
 Sat, 27 Apr 2024 17:32:16 -0400 (EDT)
Subject: |SUCCESS| pw139706-139714 [PATCH] [v9,9/9] net/tap: simplify the int
From: dpdklab@iol.unh.edu
To: Test Report <test-report@dpdk.org>
Cc: dpdk-test-reports@iol.unh.edu
In-Reply-To: <20240426155125.125910-10-stephen@networkplumber.org>
References: <20240426155125.125910-10-stephen@networkplumber.org>
Content-Type: text/plain
X-BeenThere: test-report@dpdk.org
X-Mailman-Version: 2.1.29
Precedence: list
List-Id: automatic DPDK test reports <test-report.dpdk.org>
List-Unsubscribe: <https://mails.dpdk.org/options/test-report>,
 <mailto:test-report-request@dpdk.org?subject=unsubscribe>
List-Archive: <http://mails.dpdk.org/archives/test-report/>
List-Post: <mailto:test-report@dpdk.org>
List-Help: <mailto:test-report-request@dpdk.org?subject=help>
List-Subscribe: <https://mails.dpdk.org/listinfo/test-report>,
 <mailto:test-report-request@dpdk.org?subject=subscribe>
Errors-To: test-report-bounces@dpdk.org

Test-Label: iol-compile-arm64-testing
Test-Status: SUCCESS
http://dpdk.org/patch/139714

_Testing PASS_

Submitter: Stephen Hemminger <stephen@networkplumber.org>
Date: Friday, April 26 2024 15:48:59 
DPDK git baseline: Repo:dpdk
  Branch: master
  CommitID:7e06c0de1952d3109a5b0c4779d7e7d8059c9d78

139706-139714 --> testing pass

Test environment and result as below:

+--------------------------+--------------------+
|       Environment        | dpdk_meson_compile |
+==========================+====================+
| Ubuntu 20.04 ARM SVE     | PASS               |
+--------------------------+--------------------+
| Debian 12 with MUSDK     | PASS               |
+--------------------------+--------------------+
| Fedora 38 (ARM)          | PASS               |
+--------------------------+--------------------+
| Debian 12 (arm)          | PASS               |
+--------------------------+--------------------+
| Fedora 39 (ARM)          | PASS               |
+--------------------------+--------------------+
| Debian 11 (Buster) (ARM) | PASS               |
+--------------------------+--------------------+
| Fedora 37 (ARM)          | PASS               |
+--------------------------+--------------------+
| Ubuntu 20.04 (ARM)       | PASS               |
+--------------------------+--------------------+


Ubuntu 20.04 ARM SVE
	Kernel: 5.4.0-167-generic
	Compiler: gcc (Ubuntu 10.5.0-1ubuntu1~20.04) 10.5.0

Debian 12 with MUSDK
	Kernel: Container Host Kernel
	Compiler: gcc 12.2.0

Fedora 38 (ARM)
	Kernel: Depends on container host
	Compiler: gcc 13.2.1

Debian 12 (arm)
	Kernel: Container Host Kernel
	Compiler: gcc 12.2.0

Fedora 39 (ARM)
	Kernel: Depends on container host
	Compiler: gcc 13.2.1

Debian 11 (Buster) (ARM)
	Kernel: Container Host Kernel
	Compiler: gcc 10.2.1

Fedora 37 (ARM)
	Kernel: Depends on container host
	Compiler: gcc 12.3.1

Ubuntu 20.04 (ARM)
	Kernel: Container Host Kernel
	Compiler: gcc 9.4.0

To view detailed results, visit:
https://lab.dpdk.org/results/dashboard/patchsets/29869/

UNH-IOL DPDK Community Lab

To manage your email subscriptions, visit: 
https://lab.dpdk.org/results/dashboard/preferences/subscriptions/