From mboxrd@z Thu Jan  1 00:00:00 1970
Return-Path: <test-report-bounces@dpdk.org>
Received: from mails.dpdk.org (mails.dpdk.org [217.70.189.124])
	by inbox.dpdk.org (Postfix) with ESMTP id C260543F27
	for <public@inbox.dpdk.org>; Sat, 27 Apr 2024 23:34:55 +0200 (CEST)
Received: from mails.dpdk.org (localhost [127.0.0.1])
	by mails.dpdk.org (Postfix) with ESMTP id B892D402A2;
	Sat, 27 Apr 2024 23:34:55 +0200 (CEST)
Received: from mail-oo1-f97.google.com (mail-oo1-f97.google.com
 [209.85.161.97]) by mails.dpdk.org (Postfix) with ESMTP id E7307402CC
 for <test-report@dpdk.org>; Sat, 27 Apr 2024 23:34:43 +0200 (CEST)
Received: by mail-oo1-f97.google.com with SMTP id
 006d021491bc7-5aa26990d5aso2163142eaf.1
 for <test-report@dpdk.org>; Sat, 27 Apr 2024 14:34:43 -0700 (PDT)
DKIM-Signature: v=1; a=rsa-sha256; c=relaxed/relaxed;
 d=iol.unh.edu; s=unh-iol; t=1714253683; x=1714858483; darn=dpdk.org;
 h=references:in-reply-to:cc:to:from:subject:message-id:date:from:to
 :cc:subject:date:message-id:reply-to;
 bh=LcQRQ4lO0lMfLZc6jkmp8Jlb5sK01MQwmILneFI32ZE=;
 b=LVUawonvP9Ff+FqpvWSSjhHdddsaNJUx4kDARBmJ4NN0kHtCv6F70TsrIOFFITn91C
 4ZtJ7RIF88FWjp6CkAtJnBB92zsIV7JtfPX/IEEZLhPAt7gg/hQ93VWCNBgQ1q3w5Mup
 gtaksBPzgJuhclXow3oBnplczgNXKL29XhEAw=
X-Google-DKIM-Signature: v=1; a=rsa-sha256; c=relaxed/relaxed;
 d=1e100.net; s=20230601; t=1714253683; x=1714858483;
 h=references:in-reply-to:cc:to:from:subject:message-id:date
 :x-gm-message-state:from:to:cc:subject:date:message-id:reply-to;
 bh=LcQRQ4lO0lMfLZc6jkmp8Jlb5sK01MQwmILneFI32ZE=;
 b=a2F5amxDhptEytS6sOPint8/Q5CmnDYiucg9OBtZui0X/l4HsQxlQV6hoxdoh5RTkG
 zeHgXCQqW6kcEr6AUH9ZWCe8qBZ4db4Wqbls6EgpLbWRlPBJfQT5z2uR5g/+8mvliOuf
 2vQNuKgiM1JOanmO7sfuvDdr5nSpwi7AP/9ovjGH7zD0iEgEIM/F5nLhvb0X85+1S8OF
 K0KVaT3Mr1IodcBoYDUqNv+txwCC1bjMP/B2UtAi0eUzxgY2ueW09eW0Cenh64eyd/7C
 smyrL0sSrPcid0rf4ui6jBr/RvWVu10RZeVkh/clypz/RYnPxKSBV6rVw6Nqm17c9IfS
 vO7Q==
X-Gm-Message-State: AOJu0YxUlRFVzcfjLZEfjtlfuPI3VFt5EFiMreqbWkvrH3YwcdThF/Yo
 oZz/xnqSeUjCN82RRgs9dlyl4dB9zWWsutQawJWQDaikWXJw0H/RsGA0VWeU5WKo6natX5ehuv+
 8CRM2Fyebpsesrx7TDBKXhDHhV+X7jVZBBfpPe5JdU4RwWF0eScUPpwl6
X-Google-Smtp-Source: AGHT+IHtYXIj7Z5eIPUHjuDzBuETBVW1/K+vCFPatHeh2k/17BdpX4DzBHaemyFc6Pc04N5ycd+TGt2W4+WQ
X-Received: by 2002:a05:6358:6c0c:b0:181:6575:1b22 with SMTP id
 s12-20020a0563586c0c00b0018165751b22mr6724774rwh.6.1714253683317; 
 Sat, 27 Apr 2024 14:34:43 -0700 (PDT)
Received: from postal.iol.unh.edu (postal.iol.unh.edu.
 [2606:4100:3880:1234::84]) by smtp-relay.gmail.com with ESMTPS id
 a9-20020ad45c49000000b0069c5d4aef0bsm1623253qva.20.2024.04.27.14.34.43
 (version=TLS1_2 cipher=ECDHE-ECDSA-AES128-GCM-SHA256 bits=128/128);
 Sat, 27 Apr 2024 14:34:43 -0700 (PDT)
X-Relaying-Domain: iol.unh.edu
Date: Sat, 27 Apr 2024 14:34:43 -0700 (PDT)
Message-ID: <662d6f73.d40a0220.68bfd.98ebSMTPIN_ADDED_MISSING@mx.google.com>
Received: from [172.21.0.7] (unknown [172.18.0.240])
 by postal.iol.unh.edu (Postfix) with ESMTP id 0E02F6052514;
 Sat, 27 Apr 2024 17:34:43 -0400 (EDT)
Subject: |SUCCESS| pw139706-139714 [PATCH] [v9,9/9] net/tap: simplify the int
From: dpdklab@iol.unh.edu
To: Test Report <test-report@dpdk.org>
Cc: dpdk-test-reports@iol.unh.edu
In-Reply-To: <20240426155125.125910-10-stephen@networkplumber.org>
References: <20240426155125.125910-10-stephen@networkplumber.org>
Content-Type: text/plain
X-BeenThere: test-report@dpdk.org
X-Mailman-Version: 2.1.29
Precedence: list
List-Id: automatic DPDK test reports <test-report.dpdk.org>
List-Unsubscribe: <https://mails.dpdk.org/options/test-report>,
 <mailto:test-report-request@dpdk.org?subject=unsubscribe>
List-Archive: <http://mails.dpdk.org/archives/test-report/>
List-Post: <mailto:test-report@dpdk.org>
List-Help: <mailto:test-report-request@dpdk.org?subject=help>
List-Subscribe: <https://mails.dpdk.org/listinfo/test-report>,
 <mailto:test-report-request@dpdk.org?subject=subscribe>
Errors-To: test-report-bounces@dpdk.org

Test-Label: iol-abi-testing
Test-Status: SUCCESS
http://dpdk.org/patch/139714

_Testing PASS_

Submitter: Stephen Hemminger <stephen@networkplumber.org>
Date: Friday, April 26 2024 15:48:59 
DPDK git baseline: Repo:dpdk
  Branch: master
  CommitID:7e06c0de1952d3109a5b0c4779d7e7d8059c9d78

139706-139714 --> testing pass

Test environment and result as below:

+-----------------+----------+
|   Environment   | abi_test |
+=================+==========+
| Debian Bullseye | PASS     |
+-----------------+----------+
| Debian 12       | PASS     |
+-----------------+----------+
| Fedora 38       | PASS     |
+-----------------+----------+
| Fedora 39       | PASS     |
+-----------------+----------+


Debian Bullseye
	Kernel: 5.4.0-167-generic
	Compiler: gcc 10.2.1-6

Debian 12
	Kernel: Container Host Kernel
	Compiler: gcc 10.2.1

Fedora 38
	Kernel: Depends on container host
	Compiler: gcc 13.2.1

Fedora 39
	Kernel: Depends on container host
	Compiler: gcc 13.2.1

To view detailed results, visit:
https://lab.dpdk.org/results/dashboard/patchsets/29869/

UNH-IOL DPDK Community Lab

To manage your email subscriptions, visit: 
https://lab.dpdk.org/results/dashboard/preferences/subscriptions/