From mboxrd@z Thu Jan  1 00:00:00 1970
Return-Path: <test-report-bounces@dpdk.org>
Received: from mails.dpdk.org (mails.dpdk.org [217.70.189.124])
	by inbox.dpdk.org (Postfix) with ESMTP id A0C9543F27
	for <public@inbox.dpdk.org>; Sat, 27 Apr 2024 23:37:32 +0200 (CEST)
Received: from mails.dpdk.org (localhost [127.0.0.1])
	by mails.dpdk.org (Postfix) with ESMTP id 94FDE402A2;
	Sat, 27 Apr 2024 23:37:32 +0200 (CEST)
Received: from mail-io1-f100.google.com (mail-io1-f100.google.com
 [209.85.166.100])
 by mails.dpdk.org (Postfix) with ESMTP id 923BA40151
 for <test-report@dpdk.org>; Sat, 27 Apr 2024 23:37:30 +0200 (CEST)
Received: by mail-io1-f100.google.com with SMTP id
 ca18e2360f4ac-7d5e19d18fbso132305839f.2
 for <test-report@dpdk.org>; Sat, 27 Apr 2024 14:37:30 -0700 (PDT)
DKIM-Signature: v=1; a=rsa-sha256; c=relaxed/relaxed;
 d=iol.unh.edu; s=unh-iol; t=1714253850; x=1714858650; darn=dpdk.org;
 h=references:in-reply-to:cc:to:from:subject:message-id:date:from:to
 :cc:subject:date:message-id:reply-to;
 bh=6tHQvbZkUm1fwHi64CN8HbN4BkzAf4kRCFS05M6p+Q8=;
 b=DpULyiG9kbv1Z8J/W+Ncu0/os3MwJx5O8iM7B5qLaIig3ATe+I64sMPfE5wUNqKdT5
 0PiEFj1Q9E+WjeUcusbGEQZmvnuDOVuiCEGWCexg154hkZPfFqHTifWUBz53D2h7yP13
 NXtpAsAU6BK2Gf1QfHkObuxT6PZJcr9Eh6nP8=
X-Google-DKIM-Signature: v=1; a=rsa-sha256; c=relaxed/relaxed;
 d=1e100.net; s=20230601; t=1714253850; x=1714858650;
 h=references:in-reply-to:cc:to:from:subject:message-id:date
 :x-gm-message-state:from:to:cc:subject:date:message-id:reply-to;
 bh=6tHQvbZkUm1fwHi64CN8HbN4BkzAf4kRCFS05M6p+Q8=;
 b=X9OaNdNcUYg23TYCD0GBe9QvbmzFmrO3toqscLE99FAGimPUeh2X/xEb1BV9jLTlXL
 qdn2gQvSYrYeQa0MNMla2OhbTiZeS+RtykTYhSsjqNx5ws7W1yFxrrMkrNC+pEB9uVn6
 5z8pzFzI1Bjxq6d/7bHjqCM/hhI2zm+ZUcnIDFHNrVUPth9OE4BkN8qXdrkD5b2incHS
 UOxlFE00UCnvPV9qC0/RGvmQf6RF5xdnR0m2/+i5u/hNSqAUGrddZ43T1maMnKdBze77
 4i0C1yTxcpVFhnrY/0W2UtlkRGjkSG3wF4r0ja93GN6ziih/3NFmTvB/UbiTH8CPIp2l
 /cWQ==
X-Gm-Message-State: AOJu0Yy2f6Mgkf23DJ0MJuhMVcNeS1YqG1LBsm8Df7nnJZrVEPDj/Arr
 c7P4F8Deft95oj9JiIX5dkzE3UjaAGvQk90Gdr6UBDWPEdro/YBxpTmGQ7HaT92pmkom2JrLS2f
 xJd7LCfT0iub6xMI1WGCIaySsfhWSwHTogPT4H66x
X-Google-Smtp-Source: AGHT+IHmQ413YsWXOn7+wehTdvGkeOe7WJy6d0CwfxwRbgoyvhv9tQBI4yph+bsiqd+DJu1gMtOhJKE2EiMh
X-Received: by 2002:a92:cda1:0:b0:36b:3a3c:f1c5 with SMTP id
 g1-20020a92cda1000000b0036b3a3cf1c5mr4555780ild.30.1714253849959; 
 Sat, 27 Apr 2024 14:37:29 -0700 (PDT)
Received: from postal.iol.unh.edu (postal.iol.unh.edu. [132.177.123.84])
 by smtp-relay.gmail.com with ESMTPS id
 a64-20020a636643000000b00611def0ef4esm75252pgc.20.2024.04.27.14.37.29
 (version=TLS1_2 cipher=ECDHE-ECDSA-AES128-GCM-SHA256 bits=128/128);
 Sat, 27 Apr 2024 14:37:29 -0700 (PDT)
X-Relaying-Domain: iol.unh.edu
Date: Sat, 27 Apr 2024 14:37:29 -0700 (PDT)
Message-ID: <662d7019.630a0220.1d52e.3da9SMTPIN_ADDED_MISSING@mx.google.com>
Received: from [172.21.0.6] (unknown [172.18.0.240])
 by postal.iol.unh.edu (Postfix) with ESMTP id 33E5C6052514;
 Sat, 27 Apr 2024 17:37:29 -0400 (EDT)
Subject: |SUCCESS| pw139706-139714 [PATCH] [v9,9/9] net/tap: simplify the int
From: dpdklab@iol.unh.edu
To: Test Report <test-report@dpdk.org>
Cc: dpdk-test-reports@iol.unh.edu
In-Reply-To: <20240426155125.125910-10-stephen@networkplumber.org>
References: <20240426155125.125910-10-stephen@networkplumber.org>
Content-Type: text/plain
X-BeenThere: test-report@dpdk.org
X-Mailman-Version: 2.1.29
Precedence: list
List-Id: automatic DPDK test reports <test-report.dpdk.org>
List-Unsubscribe: <https://mails.dpdk.org/options/test-report>,
 <mailto:test-report-request@dpdk.org?subject=unsubscribe>
List-Archive: <http://mails.dpdk.org/archives/test-report/>
List-Post: <mailto:test-report@dpdk.org>
List-Help: <mailto:test-report-request@dpdk.org?subject=help>
List-Subscribe: <https://mails.dpdk.org/listinfo/test-report>,
 <mailto:test-report-request@dpdk.org?subject=subscribe>
Errors-To: test-report-bounces@dpdk.org

Test-Label: iol-unit-arm64-testing
Test-Status: SUCCESS
http://dpdk.org/patch/139714

_Testing PASS_

Submitter: Stephen Hemminger <stephen@networkplumber.org>
Date: Friday, April 26 2024 15:48:59 
DPDK git baseline: Repo:dpdk
  Branch: master
  CommitID:7e06c0de1952d3109a5b0c4779d7e7d8059c9d78

139706-139714 --> testing pass

Test environment and result as below:

+--------------------------+------------------------------+---------------------------+----------------+--------------+
|       Environment        | cryptodev_sw_snow3g_autotest | cryptodev_sw_zuc_autotest | dpdk_unit_test | lpm_autotest |
+==========================+==============================+===========================+================+==============+
| Debian 12 (arm)          | PASS                         | PASS                      | PASS           | SKIPPED      |
+--------------------------+------------------------------+---------------------------+----------------+--------------+
| CentOS Stream 9 (ARM)    | SKIPPED                      | SKIPPED                   | PASS           | SKIPPED      |
+--------------------------+------------------------------+---------------------------+----------------+--------------+
| Debian 11 (Buster) (ARM) | SKIPPED                      | SKIPPED                   | PASS           | SKIPPED      |
+--------------------------+------------------------------+---------------------------+----------------+--------------+
| Fedora 38 (ARM)          | SKIPPED                      | SKIPPED                   | PASS           | SKIPPED      |
+--------------------------+------------------------------+---------------------------+----------------+--------------+
| Fedora 37 (ARM)          | SKIPPED                      | SKIPPED                   | PASS           | SKIPPED      |
+--------------------------+------------------------------+---------------------------+----------------+--------------+
| Fedora 39 (ARM)          | SKIPPED                      | SKIPPED                   | PASS           | SKIPPED      |
+--------------------------+------------------------------+---------------------------+----------------+--------------+
| Ubuntu 20.04 ARM SVE     | SKIPPED                      | SKIPPED                   | SKIPPED        | PASS         |
+--------------------------+------------------------------+---------------------------+----------------+--------------+


Debian 12 (arm)
	Kernel: Container Host Kernel
	Compiler: gcc 12.2.0

CentOS Stream 9 (ARM)
	Kernel: Container Host Kernel
	Compiler: gcc 11.4.1

Debian 11 (Buster) (ARM)
	Kernel: Container Host Kernel
	Compiler: gcc 10.2.1

Fedora 38 (ARM)
	Kernel: Depends on container host
	Compiler: gcc 13.2.1

Fedora 37 (ARM)
	Kernel: Depends on container host
	Compiler: gcc 12.3.1

Fedora 39 (ARM)
	Kernel: Depends on container host
	Compiler: gcc 13.2.1

Ubuntu 20.04 ARM SVE
	Kernel: 5.4.0-167-generic
	Compiler: gcc (Ubuntu 10.5.0-1ubuntu1~20.04) 10.5.0

To view detailed results, visit:
https://lab.dpdk.org/results/dashboard/patchsets/29869/

UNH-IOL DPDK Community Lab

To manage your email subscriptions, visit: 
https://lab.dpdk.org/results/dashboard/preferences/subscriptions/