From mboxrd@z Thu Jan  1 00:00:00 1970
Return-Path: <test-report-bounces@dpdk.org>
Received: from mails.dpdk.org (mails.dpdk.org [217.70.189.124])
	by inbox.dpdk.org (Postfix) with ESMTP id 5F53D43F20
	for <public@inbox.dpdk.org>; Sun, 28 Apr 2024 00:05:23 +0200 (CEST)
Received: from mails.dpdk.org (localhost [127.0.0.1])
	by mails.dpdk.org (Postfix) with ESMTP id 40C93402B3;
	Sun, 28 Apr 2024 00:05:23 +0200 (CEST)
Received: from mail-yw1-f226.google.com (mail-yw1-f226.google.com
 [209.85.128.226])
 by mails.dpdk.org (Postfix) with ESMTP id 9C74C40279
 for <test-report@dpdk.org>; Sun, 28 Apr 2024 00:05:21 +0200 (CEST)
Received: by mail-yw1-f226.google.com with SMTP id
 00721157ae682-618769020bcso35646797b3.3
 for <test-report@dpdk.org>; Sat, 27 Apr 2024 15:05:21 -0700 (PDT)
DKIM-Signature: v=1; a=rsa-sha256; c=relaxed/relaxed;
 d=iol.unh.edu; s=unh-iol; t=1714255521; x=1714860321; darn=dpdk.org;
 h=references:in-reply-to:cc:to:from:subject:message-id:date:from:to
 :cc:subject:date:message-id:reply-to;
 bh=HkMjaHv4sc1EQRzU9p6xgoyfvmHaQy5xVNUK7L5ON6o=;
 b=KoWzylR93f+BebJGmcDJ6Wu6C+xHiFYvQzmWODfoQAcL+L4MUCdOn3f3bKewVwzF+R
 0hnv8M6S3Qope9BDR+lSSEF/5logfx/39o3okD7ZnPxU0ojSPPgo1SdijQ5jS55acSGa
 x1bTdl2DW/QzjW98nE0WnjU4iLTUdZdPjQgcg=
X-Google-DKIM-Signature: v=1; a=rsa-sha256; c=relaxed/relaxed;
 d=1e100.net; s=20230601; t=1714255521; x=1714860321;
 h=references:in-reply-to:cc:to:from:subject:message-id:date
 :x-gm-message-state:from:to:cc:subject:date:message-id:reply-to;
 bh=HkMjaHv4sc1EQRzU9p6xgoyfvmHaQy5xVNUK7L5ON6o=;
 b=Or8Lvg9Y9NNWx7K7NSl7c2rkaD7YgWvI9q1E15aXI3/7QOohnvzkef2S/uiK3sjsii
 pY1TcOXksqfnQq1p/DviE8TkTJjhG2g876+wXAkHUYGTu5wDLPea9849YROxBitT5CDl
 XUSOfXkrrFveRZFG/FgOcXmfURdUimRRI917fall+u1c3ykpJiCtEr4nskvkko25eIjc
 mtxuYW+cXQyIHdLhQBWIriBuU0vW+C09+j4ebVpJzQMTZuZn1U2x6P1OyTJFi2debfO0
 0rrGEBLmRJdDmKIxxL8ZjUyeRiimyPrNSoWaXzLkRa60fU8C298rzR6ceK7dOBsAnS9s
 d0wg==
X-Gm-Message-State: AOJu0YwWEz6Gk11mlS0SpElNjJphGK8nb0YHUFh4t9EOhUDsKD6z50Y2
 vfu0pgfjlh+6dqcXhARqAHmgGURd4Y86BLWxuBsbNR5wDsL9A24OX3AXM1kW9SCVd48lITuD0XH
 7zI1l/l1+5+yfugZ/xx7vt4pCgjNUVtM5fEaclo+C2Vdui8dObEbgkI1W
X-Google-Smtp-Source: AGHT+IEAJ0n0cfpdhQtitJ+lBApeZIFFx1F0CemqyhpSbuoUv7uCWqZmgbyLdfsS5sMYAT7ziRTIl/snEwhP
X-Received: by 2002:a05:690c:6910:b0:615:10f8:124a with SMTP id
 if16-20020a05690c691000b0061510f8124amr6772033ywb.29.1714255520847; 
 Sat, 27 Apr 2024 15:05:20 -0700 (PDT)
Received: from postal.iol.unh.edu (postal.iol.unh.edu.
 [2606:4100:3880:1234::84]) by smtp-relay.gmail.com with ESMTPS id
 h11-20020a816c0b000000b0061857dc2af7sm1560959ywc.69.2024.04.27.15.05.20
 (version=TLS1_2 cipher=ECDHE-ECDSA-AES128-GCM-SHA256 bits=128/128);
 Sat, 27 Apr 2024 15:05:20 -0700 (PDT)
X-Relaying-Domain: iol.unh.edu
Date: Sat, 27 Apr 2024 15:05:20 -0700 (PDT)
Message-ID: <662d76a0.810a0220.da218.6de8SMTPIN_ADDED_MISSING@mx.google.com>
Received: from [172.17.0.2] (unknown [172.18.0.217])
 by postal.iol.unh.edu (Postfix) with ESMTP id 74D656052514;
 Sat, 27 Apr 2024 18:05:20 -0400 (EDT)
Subject: |SUCCESS| pw139706-139714 [PATCH] [v9,9/9] net/tap: simplify the int
From: dpdklab@iol.unh.edu
To: Test Report <test-report@dpdk.org>
Cc: dpdk-test-reports@iol.unh.edu
In-Reply-To: <20240426155125.125910-10-stephen@networkplumber.org>
References: <20240426155125.125910-10-stephen@networkplumber.org>
Content-Type: text/plain
X-BeenThere: test-report@dpdk.org
X-Mailman-Version: 2.1.29
Precedence: list
List-Id: automatic DPDK test reports <test-report.dpdk.org>
List-Unsubscribe: <https://mails.dpdk.org/options/test-report>,
 <mailto:test-report-request@dpdk.org?subject=unsubscribe>
List-Archive: <http://mails.dpdk.org/archives/test-report/>
List-Post: <mailto:test-report@dpdk.org>
List-Help: <mailto:test-report-request@dpdk.org?subject=help>
List-Subscribe: <https://mails.dpdk.org/listinfo/test-report>,
 <mailto:test-report-request@dpdk.org?subject=subscribe>
Errors-To: test-report-bounces@dpdk.org

Test-Label: iol-unit-arm64-testing
Test-Status: SUCCESS
http://dpdk.org/patch/139714

_Testing PASS_

Submitter: Stephen Hemminger <stephen@networkplumber.org>
Date: Friday, April 26 2024 15:48:59 
DPDK git baseline: Repo:dpdk
  Branch: master
  CommitID:7e06c0de1952d3109a5b0c4779d7e7d8059c9d78

139706-139714 --> testing pass

Test environment and result as below:

+-----------------------------+------------------------------+---------------------------+----------------+--------------+
|         Environment         | cryptodev_sw_snow3g_autotest | cryptodev_sw_zuc_autotest | dpdk_unit_test | lpm_autotest |
+=============================+==============================+===========================+================+==============+
| Debian 12 (arm)             | PASS                         | PASS                      | PASS           | SKIPPED      |
+-----------------------------+------------------------------+---------------------------+----------------+--------------+
| CentOS Stream 9 (ARM)       | SKIPPED                      | SKIPPED                   | PASS           | SKIPPED      |
+-----------------------------+------------------------------+---------------------------+----------------+--------------+
| Debian 11 (Buster) (ARM)    | SKIPPED                      | SKIPPED                   | PASS           | SKIPPED      |
+-----------------------------+------------------------------+---------------------------+----------------+--------------+
| Fedora 38 (ARM)             | SKIPPED                      | SKIPPED                   | PASS           | SKIPPED      |
+-----------------------------+------------------------------+---------------------------+----------------+--------------+
| Fedora 37 (ARM)             | SKIPPED                      | SKIPPED                   | PASS           | SKIPPED      |
+-----------------------------+------------------------------+---------------------------+----------------+--------------+
| Fedora 39 (ARM)             | SKIPPED                      | SKIPPED                   | PASS           | SKIPPED      |
+-----------------------------+------------------------------+---------------------------+----------------+--------------+
| Ubuntu 20.04 (ARM)          | SKIPPED                      | SKIPPED                   | PASS           | SKIPPED      |
+-----------------------------+------------------------------+---------------------------+----------------+--------------+
| 32-bit Ubuntu 20.04.4 (ARM) | SKIPPED                      | SKIPPED                   | PASS           | SKIPPED      |
+-----------------------------+------------------------------+---------------------------+----------------+--------------+
| Fedora 38 (ARM Clang)       | SKIPPED                      | SKIPPED                   | PASS           | SKIPPED      |
+-----------------------------+------------------------------+---------------------------+----------------+--------------+
| Ubuntu 20.04 ARM SVE        | SKIPPED                      | SKIPPED                   | SKIPPED        | PASS         |
+-----------------------------+------------------------------+---------------------------+----------------+--------------+


Debian 12 (arm)
	Kernel: Container Host Kernel
	Compiler: gcc 12.2.0

CentOS Stream 9 (ARM)
	Kernel: Container Host Kernel
	Compiler: gcc 11.4.1

Debian 11 (Buster) (ARM)
	Kernel: Container Host Kernel
	Compiler: gcc 10.2.1

Fedora 38 (ARM)
	Kernel: Depends on container host
	Compiler: gcc 13.2.1

Fedora 37 (ARM)
	Kernel: Depends on container host
	Compiler: gcc 12.3.1

Fedora 39 (ARM)
	Kernel: Depends on container host
	Compiler: gcc 13.2.1

Ubuntu 20.04 (ARM)
	Kernel: Container Host Kernel
	Compiler: gcc 9.4.0

32-bit Ubuntu 20.04.4 (ARM)
	Kernel: 5.4.0-155-generic aarch64
	Compiler: gcc 9.4

Fedora 38 (ARM Clang)
	Kernel: Depends on container host
	Compiler: clang 16.0.6

Ubuntu 20.04 ARM SVE
	Kernel: 5.4.0-167-generic
	Compiler: gcc (Ubuntu 10.5.0-1ubuntu1~20.04) 10.5.0

To view detailed results, visit:
https://lab.dpdk.org/results/dashboard/patchsets/29869/

UNH-IOL DPDK Community Lab

To manage your email subscriptions, visit: 
https://lab.dpdk.org/results/dashboard/preferences/subscriptions/