From mboxrd@z Thu Jan  1 00:00:00 1970
Return-Path: <test-report-bounces@dpdk.org>
Received: from mails.dpdk.org (mails.dpdk.org [217.70.189.124])
	by inbox.dpdk.org (Postfix) with ESMTP id 21E6643F48
	for <public@inbox.dpdk.org>; Mon, 29 Apr 2024 11:57:13 +0200 (CEST)
Received: from mails.dpdk.org (localhost [127.0.0.1])
	by mails.dpdk.org (Postfix) with ESMTP id 179AC402A3;
	Mon, 29 Apr 2024 11:57:13 +0200 (CEST)
Received: from mail-yw1-f227.google.com (mail-yw1-f227.google.com
 [209.85.128.227])
 by mails.dpdk.org (Postfix) with ESMTP id 8795E4025C
 for <test-report@dpdk.org>; Mon, 29 Apr 2024 11:57:09 +0200 (CEST)
Received: by mail-yw1-f227.google.com with SMTP id
 00721157ae682-61b62005f38so42269637b3.2
 for <test-report@dpdk.org>; Mon, 29 Apr 2024 02:57:09 -0700 (PDT)
DKIM-Signature: v=1; a=rsa-sha256; c=relaxed/relaxed;
 d=iol.unh.edu; s=unh-iol; t=1714384629; x=1714989429; darn=dpdk.org;
 h=references:in-reply-to:cc:to:from:subject:message-id:date:from:to
 :cc:subject:date:message-id:reply-to;
 bh=PvEO8QdIXDfdCF9awy8MD42AsbwJZKk06UuL+ZGc8MM=;
 b=fYDQvfO8ceIGfSKN0dTUUDfY/7G1EK5mSFZ+rrnRLm61QTdvRwubUFVA/LY9XgfWuE
 USvNrOD7XbmNUAFjYCSR96pi0iY+Fy0znMyA7e+umq/VG3ySZR9W+NGQNjIISJef0apz
 PGv+f5ZtG2WVNV2ycVjqIXMqnpD2gISC8yAGY=
X-Google-DKIM-Signature: v=1; a=rsa-sha256; c=relaxed/relaxed;
 d=1e100.net; s=20230601; t=1714384629; x=1714989429;
 h=references:in-reply-to:cc:to:from:subject:message-id:date
 :x-gm-message-state:from:to:cc:subject:date:message-id:reply-to;
 bh=PvEO8QdIXDfdCF9awy8MD42AsbwJZKk06UuL+ZGc8MM=;
 b=U9t17owajBH5uInpzROq56Xg7CpA58nET1a6kXJ7x38N9RoNjHoQQwL2dxa0ZPQ3fK
 p0Aap8vgi5KaU+JJEacShLydzMM+XS8VN+GQTqQ5K/Ywwi6R6w2s4cfv3+F1lJAVI+vS
 GRogRTO4Fb/yaR0L6U16zLitBTOx7vIoYZDoMv3889B+Be4yIWEKSscwWMkb7drhxUTr
 AxBeM2l27fTLWeRMnJ9AVNCt5n+qNMBxID2Nxrib5VQWTMowDlzCMqexDvk4OPxbNYlp
 4CL54CSjtB6w1nWfka12tPFc5JwG2B5Ueu5Kr4Sj6uZXehysD6AxONs0eXej5YAxZ7GL
 5ffA==
X-Gm-Message-State: AOJu0Yz4V5Yu/XvTPk+ugoR6wVJWIYMnfChTRf6AEghX2b3YFzmzAEG7
 A2r5/fT8wqsPjcLNJSVu0CWAXCy2J6+Ch0f6RbiQHCoNlMtZOAgszQeglvP02c+8TBbO1bE3NGg
 YLZcyCjus7rtsGSoFUT7sjQbnYF+OFqaL8XeFQWFd
X-Google-Smtp-Source: AGHT+IEN2y55RtH6DlVgdmkH16wSQiRPKMVEAoPx3Cc50/+Kymr3rY0bNtiRxy9u8lmnINZHNjgP+YQCjPhV
X-Received: by 2002:a05:690c:6204:b0:61b:1be9:bbcb with SMTP id
 hl4-20020a05690c620400b0061b1be9bbcbmr12059347ywb.44.1714384628917; 
 Mon, 29 Apr 2024 02:57:08 -0700 (PDT)
Received: from postal.iol.unh.edu (postal.iol.unh.edu. [132.177.123.84])
 by smtp-relay.gmail.com with ESMTPS id
 o64-20020a0dcc43000000b0061890819c29sm1880267ywd.4.2024.04.29.02.57.08
 (version=TLS1_2 cipher=ECDHE-ECDSA-AES128-GCM-SHA256 bits=128/128);
 Mon, 29 Apr 2024 02:57:08 -0700 (PDT)
X-Relaying-Domain: iol.unh.edu
Date: Mon, 29 Apr 2024 02:57:08 -0700 (PDT)
Message-ID: <662f6ef4.0d0a0220.3d6b1.16d8SMTPIN_ADDED_MISSING@mx.google.com>
Received: from [172.21.0.6] (unknown [172.18.0.240])
 by postal.iol.unh.edu (Postfix) with ESMTP id 8D9846052514;
 Mon, 29 Apr 2024 05:57:08 -0400 (EDT)
Subject: |SUCCESS| pw139716 [PATCH] [v3] lib/vhost: add flag for async connec
From: dpdklab@iol.unh.edu
To: Test Report <test-report@dpdk.org>
Cc: dpdk-test-reports@iol.unh.edu
In-Reply-To: <20240426083838.704465-1-daniil.ushkov@yandex.ru>
References: <20240426083838.704465-1-daniil.ushkov@yandex.ru>
Content-Type: text/plain
X-BeenThere: test-report@dpdk.org
X-Mailman-Version: 2.1.29
Precedence: list
List-Id: automatic DPDK test reports <test-report.dpdk.org>
List-Unsubscribe: <https://mails.dpdk.org/options/test-report>,
 <mailto:test-report-request@dpdk.org?subject=unsubscribe>
List-Archive: <http://mails.dpdk.org/archives/test-report/>
List-Post: <mailto:test-report@dpdk.org>
List-Help: <mailto:test-report-request@dpdk.org?subject=help>
List-Subscribe: <https://mails.dpdk.org/listinfo/test-report>,
 <mailto:test-report-request@dpdk.org?subject=subscribe>
Errors-To: test-report-bounces@dpdk.org

Test-Label: iol-compile-amd64-testing
Test-Status: SUCCESS
http://dpdk.org/patch/139716

_Testing PASS_

Submitter: Daniil Ushkov <daniil.ushkov@yandex.ru>
Date: Friday, April 26 2024 08:38:38 
DPDK git baseline: Repo:dpdk
  Branch: master
  CommitID:deedfb86a7a6e10064d3cccd593f62072de96e36

139716 --> testing pass

Test environment and result as below:

+---------------------+--------------------+----------------------+-------------------+
|     Environment     | dpdk_meson_compile | dpdk_mingw64_compile | dpdk_msvc_compile |
+=====================+====================+======================+===================+
| FreeBSD 13.3        | PASS               | SKIPPED              | SKIPPED           |
+---------------------+--------------------+----------------------+-------------------+
| Windows Server 2022 | PASS               | PASS                 | PASS              |
+---------------------+--------------------+----------------------+-------------------+
| Windows Server 2019 | PASS               | PASS                 | SKIPPED           |
+---------------------+--------------------+----------------------+-------------------+
| Fedora 39           | PASS               | SKIPPED              | SKIPPED           |
+---------------------+--------------------+----------------------+-------------------+


FreeBSD 13.3
	Kernel: 13.3-RELEASE-p1
	Compiler: clang 17.0.6

Windows Server 2022
	Kernel: 10.0.20348.2031
	Compiler: clang 15.0.7, gcc 8.1.0 (MinGW), and MSVC VS 17.9

Windows Server 2019
	Kernel: 10.0.17763
	Compiler: clang 14.0 and gcc 8.1.0 (MinGW)

Fedora 39
	Kernel: Depends on container host
	Compiler: gcc 13.2.1

To view detailed results, visit:
https://lab.dpdk.org/results/dashboard/patchsets/29871/

UNH-IOL DPDK Community Lab

To manage your email subscriptions, visit: 
https://lab.dpdk.org/results/dashboard/preferences/subscriptions/