From mboxrd@z Thu Jan  1 00:00:00 1970
Return-Path: <test-report-bounces@dpdk.org>
Received: from mails.dpdk.org (mails.dpdk.org [217.70.189.124])
	by inbox.dpdk.org (Postfix) with ESMTP id 831A443F49
	for <public@inbox.dpdk.org>; Mon, 29 Apr 2024 12:09:52 +0200 (CEST)
Received: from mails.dpdk.org (localhost [127.0.0.1])
	by mails.dpdk.org (Postfix) with ESMTP id 7AC57402A3;
	Mon, 29 Apr 2024 12:09:52 +0200 (CEST)
Received: from mail-yw1-f226.google.com (mail-yw1-f226.google.com
 [209.85.128.226])
 by mails.dpdk.org (Postfix) with ESMTP id 532D24025C
 for <test-report@dpdk.org>; Mon, 29 Apr 2024 12:09:47 +0200 (CEST)
Received: by mail-yw1-f226.google.com with SMTP id
 00721157ae682-61b68644ab4so39789077b3.0
 for <test-report@dpdk.org>; Mon, 29 Apr 2024 03:09:47 -0700 (PDT)
DKIM-Signature: v=1; a=rsa-sha256; c=relaxed/relaxed;
 d=iol.unh.edu; s=unh-iol; t=1714385386; x=1714990186; darn=dpdk.org;
 h=references:in-reply-to:cc:to:from:subject:message-id:date:from:to
 :cc:subject:date:message-id:reply-to;
 bh=1CwMxAdlgXQjkNMTZhUN5LSgQEkpHVvB+Tz76qLEv+M=;
 b=ObsYkG2tz6NH5ca9kV9Xmhg5e/eOIfK149r/cUzYpUnPhvfzSS6NXBDsjsRwLlNBGX
 C4F1Ndd1+W5atBOU065Q2ISwvgkv43INTi4Fk9m+5Ro0PVL2RSLUiRRE5fcUQx9xLQvb
 kQkQDDSlm379Km4BRWaSc5ctvF2bCLvJble6U=
X-Google-DKIM-Signature: v=1; a=rsa-sha256; c=relaxed/relaxed;
 d=1e100.net; s=20230601; t=1714385386; x=1714990186;
 h=references:in-reply-to:cc:to:from:subject:message-id:date
 :x-gm-message-state:from:to:cc:subject:date:message-id:reply-to;
 bh=1CwMxAdlgXQjkNMTZhUN5LSgQEkpHVvB+Tz76qLEv+M=;
 b=h/HmzzLvHOHH0vrIgjLoiDWSib03/UQN+9qz9HSw/ChPt7aglmCh1SajZP7M9Mksu9
 FXEsMVUU/TXCqHDTvrMQ1w/5XhBRn5DbqL+JjUfJDq+3J+cKnJQp/wQQPCsRFhwKZ7TG
 WFBOikceOx2Uq6SuP9ae6PlBWE21heC8/OnVAcuqDusTTYX1oXYM9r6WdbbcNp0EVrVF
 IqtUvJkFhtRUXfwQzrGSsM/DP6rxK09rQn/5mVYPmPbSKqFckFZopDsMJaAd+VhCAPPB
 RCgBKUOPLkifHSTUyYuAFMnqGjd4xH3VgOYEVaoiSOk0v2UDa+Htk0c6Hf57YmQ3WLag
 B5VA==
X-Gm-Message-State: AOJu0Yy/6eSwgqjSoxHjYdOBigq0MFjcHipIL+49w+smblSSvIJfOWhf
 MACX+rfqd4OEfbMzva4aYi2SOPK/Lk17AW7V+B/KQSCmRxtrNB1qprkXa8LoPI/JDSAAj8zHi+L
 5cavvsSVplGcAa3w2Mu7K09rnJXJ18Xt5qgR3tncn
X-Google-Smtp-Source: AGHT+IExWpmZpWq37owkm5J4ijWyuR0Hpph3ZdT/+9gVR1hKtqNypp+jyEKn81rO94riOk4QzC5fHgYHTOuW
X-Received: by 2002:a05:690c:6ac9:b0:61b:bd7f:c62b with SMTP id
 ij9-20020a05690c6ac900b0061bbd7fc62bmr6487084ywb.2.1714385386671; 
 Mon, 29 Apr 2024 03:09:46 -0700 (PDT)
Received: from postal.iol.unh.edu (postal.iol.unh.edu. [132.177.123.84])
 by smtp-relay.gmail.com with ESMTPS id
 h4-20020a0df704000000b0061afb0c2509sm1894575ywf.25.2024.04.29.03.09.46
 (version=TLS1_2 cipher=ECDHE-ECDSA-AES128-GCM-SHA256 bits=128/128);
 Mon, 29 Apr 2024 03:09:46 -0700 (PDT)
X-Relaying-Domain: iol.unh.edu
Date: Mon, 29 Apr 2024 03:09:46 -0700 (PDT)
Message-ID: <662f71ea.0d0a0220.b0296.1657SMTPIN_ADDED_MISSING@mx.google.com>
Received: from [172.21.0.6] (unknown [172.18.0.240])
 by postal.iol.unh.edu (Postfix) with ESMTP id 537076052514;
 Mon, 29 Apr 2024 06:09:46 -0400 (EDT)
Subject: |SUCCESS| pw139716 [PATCH] [v3] lib/vhost: add flag for async connec
From: dpdklab@iol.unh.edu
To: Test Report <test-report@dpdk.org>
Cc: Daniil Ushkov <daniil.ushkov@yandex.ru>
In-Reply-To: <20240426083838.704465-1-daniil.ushkov@yandex.ru>
References: <20240426083838.704465-1-daniil.ushkov@yandex.ru>
Content-Type: text/plain
X-BeenThere: test-report@dpdk.org
X-Mailman-Version: 2.1.29
Precedence: list
List-Id: automatic DPDK test reports <test-report.dpdk.org>
List-Unsubscribe: <https://mails.dpdk.org/options/test-report>,
 <mailto:test-report-request@dpdk.org?subject=unsubscribe>
List-Archive: <http://mails.dpdk.org/archives/test-report/>
List-Post: <mailto:test-report@dpdk.org>
List-Help: <mailto:test-report-request@dpdk.org?subject=help>
List-Subscribe: <https://mails.dpdk.org/listinfo/test-report>,
 <mailto:test-report-request@dpdk.org?subject=subscribe>
Errors-To: test-report-bounces@dpdk.org

Test-Label: iol-abi-testing
Test-Status: SUCCESS
http://dpdk.org/patch/139716

_Testing PASS_

Submitter: Daniil Ushkov <daniil.ushkov@yandex.ru>
Date: Friday, April 26 2024 08:38:38 
DPDK git baseline: Repo:dpdk
  Branch: master
  CommitID:deedfb86a7a6e10064d3cccd593f62072de96e36

139716 --> testing pass

Test environment and result as below:

+------------------+----------+
|   Environment    | abi_test |
+==================+==========+
| CentOS Stream 8  | PASS     |
+------------------+----------+
| openSUSE Leap 15 | PASS     |
+------------------+----------+
| Debian Bullseye  | PASS     |
+------------------+----------+


CentOS Stream 8
	Kernel: 5.4.0-167-generic
	Compiler: gcc 8.5.0 20210514

openSUSE Leap 15
	Kernel: 5.4.0-167-generic
	Compiler: gcc 7.5.0

Debian Bullseye
	Kernel: 5.4.0-167-generic
	Compiler: gcc 10.2.1-6

To view detailed results, visit:
https://lab.dpdk.org/results/dashboard/patchsets/29871/

UNH-IOL DPDK Community Lab

To manage your email subscriptions, visit: 
https://lab.dpdk.org/results/dashboard/preferences/subscriptions/