From mboxrd@z Thu Jan  1 00:00:00 1970
Return-Path: <test-report-bounces@dpdk.org>
Received: from mails.dpdk.org (mails.dpdk.org [217.70.189.124])
	by inbox.dpdk.org (Postfix) with ESMTP id 95C4243F49
	for <public@inbox.dpdk.org>; Mon, 29 Apr 2024 12:18:13 +0200 (CEST)
Received: from mails.dpdk.org (localhost [127.0.0.1])
	by mails.dpdk.org (Postfix) with ESMTP id 90461402A3;
	Mon, 29 Apr 2024 12:18:13 +0200 (CEST)
Received: from mail-il1-f225.google.com (mail-il1-f225.google.com
 [209.85.166.225])
 by mails.dpdk.org (Postfix) with ESMTP id 5D5C64025C
 for <test-report@dpdk.org>; Mon, 29 Apr 2024 12:18:12 +0200 (CEST)
Received: by mail-il1-f225.google.com with SMTP id
 e9e14a558f8ab-36afb4b4a3eso19364595ab.3
 for <test-report@dpdk.org>; Mon, 29 Apr 2024 03:18:12 -0700 (PDT)
DKIM-Signature: v=1; a=rsa-sha256; c=relaxed/relaxed;
 d=iol.unh.edu; s=unh-iol; t=1714385891; x=1714990691; darn=dpdk.org;
 h=references:in-reply-to:cc:to:from:subject:message-id:date:from:to
 :cc:subject:date:message-id:reply-to;
 bh=Wlm3Bqjqj4/IFbIePT6zJRlQbNTPiegPiWmI5XBFZ+A=;
 b=SdQethfbHCy9NCV+yLG+6tOS2sZvxf2rBJ/8qK0Bjavqp7bDNHw1LhC2oSH2sgcMs1
 UV6a1WS2jhkbDBImakFNYTWJc+csKFYEj3UQGM9e/OlSrj8Iqr0aqZtKjSHVu08idn68
 jwIWE+EY0xzj61q1IQbrCBLLsPdRVsXyiQEHg=
X-Google-DKIM-Signature: v=1; a=rsa-sha256; c=relaxed/relaxed;
 d=1e100.net; s=20230601; t=1714385891; x=1714990691;
 h=references:in-reply-to:cc:to:from:subject:message-id:date
 :x-gm-message-state:from:to:cc:subject:date:message-id:reply-to;
 bh=Wlm3Bqjqj4/IFbIePT6zJRlQbNTPiegPiWmI5XBFZ+A=;
 b=A9eDM6ZXY/9yjRFC9ctXDby1gUY8YC3i19fD4/p8TzpSv0L/qH8+sHmHGD2CmzX1so
 LlsPTbdD6aCj95sqm2qfWCFuR9eVWUvqH1RVCSXOMfZugFq8BNX+vvg6gY54EScn8s37
 YXsV0c85Vza9PMrF0fGwvBWZxWTy52UXky5R0ohiHK2t2gRxvNOV0ctf5qPoznbBQpk6
 dnMSMkKDkp1CXZnA05Fs+TyVtlK6AQa0IOXjbwSBzvB/mW5QRHMPn1rY195CdOV/jVX8
 WYefiFhxGID2Y9GnLi03pZNBa0mjbFNBFVa77kYdtEdsGmecpv6sObL5U15YZv4nJxJO
 G7WA==
X-Gm-Message-State: AOJu0YxEV0Wc1JDTR0zizakJu97ihE4/7zQnllFLN0zqKN5KdBF5PLjl
 Yj97xSDkO3rThNvQLG17Oh0w8afW0PRKu7wAf/om6k09+G14Yatqfi4JPIu9JozxH87i3cDwt4x
 O5D3e0QBR2tlw5PrefYbwuJ+aQQJGdOx4TgZPNHGVii5pfrSlDI4STAHy
X-Google-Smtp-Source: AGHT+IHLAwT6U0dwRRGpN/xCU3trG4WCwm/ntvljI34wlI7EOC6F4j4DkFfq/+ntgEopXOOS8ySrFWfgsZq5
X-Received: by 2002:a92:cacb:0:b0:36c:514a:da22 with SMTP id
 m11-20020a92cacb000000b0036c514ada22mr1698114ilq.12.1714385891753; 
 Mon, 29 Apr 2024 03:18:11 -0700 (PDT)
Received: from postal.iol.unh.edu (postal.iol.unh.edu.
 [2606:4100:3880:1234::84]) by smtp-relay.gmail.com with ESMTPS id
 v5-20020a056e02164500b0036a38310394sm1233963ilu.60.2024.04.29.03.18.11
 (version=TLS1_2 cipher=ECDHE-ECDSA-AES128-GCM-SHA256 bits=128/128);
 Mon, 29 Apr 2024 03:18:11 -0700 (PDT)
X-Relaying-Domain: iol.unh.edu
Date: Mon, 29 Apr 2024 03:18:11 -0700 (PDT)
Message-ID: <662f73e3.050a0220.1dc33.9fc5SMTPIN_ADDED_MISSING@mx.google.com>
Received: from [172.21.0.7] (unknown [172.18.0.240])
 by postal.iol.unh.edu (Postfix) with ESMTP id 3CB006052514;
 Mon, 29 Apr 2024 06:18:11 -0400 (EDT)
Subject: |SUCCESS| pw139716 [PATCH] [v3] lib/vhost: add flag for async connec
From: dpdklab@iol.unh.edu
To: Test Report <test-report@dpdk.org>
Cc: dpdk-test-reports@iol.unh.edu
In-Reply-To: <20240426083838.704465-1-daniil.ushkov@yandex.ru>
References: <20240426083838.704465-1-daniil.ushkov@yandex.ru>
Content-Type: text/plain
X-BeenThere: test-report@dpdk.org
X-Mailman-Version: 2.1.29
Precedence: list
List-Id: automatic DPDK test reports <test-report.dpdk.org>
List-Unsubscribe: <https://mails.dpdk.org/options/test-report>,
 <mailto:test-report-request@dpdk.org?subject=unsubscribe>
List-Archive: <http://mails.dpdk.org/archives/test-report/>
List-Post: <mailto:test-report@dpdk.org>
List-Help: <mailto:test-report-request@dpdk.org?subject=help>
List-Subscribe: <https://mails.dpdk.org/listinfo/test-report>,
 <mailto:test-report-request@dpdk.org?subject=subscribe>
Errors-To: test-report-bounces@dpdk.org

Test-Label: iol-unit-arm64-testing
Test-Status: SUCCESS
http://dpdk.org/patch/139716

_Testing PASS_

Submitter: Daniil Ushkov <daniil.ushkov@yandex.ru>
Date: Friday, April 26 2024 08:38:38 
DPDK git baseline: Repo:dpdk
  Branch: master
  CommitID:deedfb86a7a6e10064d3cccd593f62072de96e36

139716 --> testing pass

Test environment and result as below:

+-----------------------------+----------------+---------------------------+
|         Environment         | dpdk_unit_test | cryptodev_sw_zuc_autotest |
+=============================+================+===========================+
| Debian 12 (arm)             | PASS           | PASS                      |
+-----------------------------+----------------+---------------------------+
| Fedora 37 (ARM)             | PASS           | SKIPPED                   |
+-----------------------------+----------------+---------------------------+
| CentOS Stream 9 (ARM)       | PASS           | SKIPPED                   |
+-----------------------------+----------------+---------------------------+
| Debian 11 (Buster) (ARM)    | PASS           | SKIPPED                   |
+-----------------------------+----------------+---------------------------+
| Fedora 38 (ARM)             | PASS           | SKIPPED                   |
+-----------------------------+----------------+---------------------------+
| Fedora 39 (ARM)             | PASS           | SKIPPED                   |
+-----------------------------+----------------+---------------------------+
| 32-bit Ubuntu 20.04.4 (ARM) | PASS           | SKIPPED                   |
+-----------------------------+----------------+---------------------------+


Debian 12 (arm)
	Kernel: Container Host Kernel
	Compiler: gcc 12.2.0

Fedora 37 (ARM)
	Kernel: Depends on container host
	Compiler: gcc 12.3.1

CentOS Stream 9 (ARM)
	Kernel: Container Host Kernel
	Compiler: gcc 11.4.1

Debian 11 (Buster) (ARM)
	Kernel: Container Host Kernel
	Compiler: gcc 10.2.1

Fedora 38 (ARM)
	Kernel: Depends on container host
	Compiler: gcc 13.2.1

Fedora 39 (ARM)
	Kernel: Depends on container host
	Compiler: gcc 13.2.1

32-bit Ubuntu 20.04.4 (ARM)
	Kernel: 5.4.0-155-generic aarch64
	Compiler: gcc 9.4

To view detailed results, visit:
https://lab.dpdk.org/results/dashboard/patchsets/29871/

UNH-IOL DPDK Community Lab

To manage your email subscriptions, visit: 
https://lab.dpdk.org/results/dashboard/preferences/subscriptions/