From mboxrd@z Thu Jan  1 00:00:00 1970
Return-Path: <test-report-bounces@dpdk.org>
Received: from mails.dpdk.org (mails.dpdk.org [217.70.189.124])
	by inbox.dpdk.org (Postfix) with ESMTP id 8A48E43F49
	for <public@inbox.dpdk.org>; Mon, 29 Apr 2024 12:58:02 +0200 (CEST)
Received: from mails.dpdk.org (localhost [127.0.0.1])
	by mails.dpdk.org (Postfix) with ESMTP id 6A863402A3;
	Mon, 29 Apr 2024 12:58:02 +0200 (CEST)
Received: from mail-pf1-f228.google.com (mail-pf1-f228.google.com
 [209.85.210.228])
 by mails.dpdk.org (Postfix) with ESMTP id 586B84025C
 for <test-report@dpdk.org>; Mon, 29 Apr 2024 12:58:01 +0200 (CEST)
Received: by mail-pf1-f228.google.com with SMTP id
 d2e1a72fcca58-6f0b9f943cbso3541065b3a.0
 for <test-report@dpdk.org>; Mon, 29 Apr 2024 03:58:01 -0700 (PDT)
DKIM-Signature: v=1; a=rsa-sha256; c=relaxed/relaxed;
 d=iol.unh.edu; s=unh-iol; t=1714388280; x=1714993080; darn=dpdk.org;
 h=references:in-reply-to:cc:to:from:subject:message-id:date:from:to
 :cc:subject:date:message-id:reply-to;
 bh=mUQq8wQgle2S+H7gQeYDyGWv5ARfSU2+iR0VWgmHGOo=;
 b=WxzWg21e4OmFmhvO+ugFmLHh23XjoOoENgljrAeN9Gexrwp6qr5R1GGLSih9kMJfDV
 Tfqnzws13oNn1bSHqIdKqNRQa6hhbxj9UKNhM6vbMHYorBncfsYy8mWaoNo0Jijrr+6o
 Vxmy4hob8riziMi0Xh36nA9DTjTmzvcRZqW34=
X-Google-DKIM-Signature: v=1; a=rsa-sha256; c=relaxed/relaxed;
 d=1e100.net; s=20230601; t=1714388280; x=1714993080;
 h=references:in-reply-to:cc:to:from:subject:message-id:date
 :x-gm-message-state:from:to:cc:subject:date:message-id:reply-to;
 bh=mUQq8wQgle2S+H7gQeYDyGWv5ARfSU2+iR0VWgmHGOo=;
 b=oDcPzn+0/RDl8yOpL8Tnl6d89xApvMWv4THobs8Ne5csSp37xCfNpGY0OaYikmeDv8
 D1d1DJYUz3u5kr4pmpQfr1V02psjTZbzbJ/SfVO8RzaR7xEIqG6zbOMsxhLn6Et/FI4a
 iNpMEZN1z6fyQlEq5BQRjj2p7SfhnKddguZBR4ajC3+jj2OYRQ9NpM1BxfkFcUpnzbmV
 EtNBXjLYUfK02YAMgP8BKaW0BCvzcgexJVBsgL7Keusz/xvrPWKgatU9t2QaYSma0rhx
 BUETy1hjxfhxIlgj3cxBuivWgBMYONPCbIYFo32vF1MHnRkSfSXtwU+VW1bmK5PoDtJS
 cZZw==
X-Gm-Message-State: AOJu0Yx3jLAqQANOMqWOnzoa6dgJg3aYMHsQ4zCyExZhLfYqtbQdMZUo
 fAUs+NmKHqzSY97S4Ja15WGuoEIj3ertFWd6nlOYDn+qC8oP8jvein7q2Zw0VDXKKIjnEsHY1+9
 I7Rw83SVHNiaR6KrQ72LM9+/8zdwQZhGKmkWEzw9G
X-Google-Smtp-Source: AGHT+IGp1LJvD2iiX9OP4DaslD11ABbpcY+yIO60rGme+UjzVuAEC3gVf3I2SXg5LQZ9V+Jyd//q5UIOPIoJ
X-Received: by 2002:a05:6a20:9f88:b0:1a9:499c:5778 with SMTP id
 mm8-20020a056a209f8800b001a9499c5778mr12594121pzb.35.1714388280479; 
 Mon, 29 Apr 2024 03:58:00 -0700 (PDT)
Received: from postal.iol.unh.edu (postal.iol.unh.edu. [132.177.123.84])
 by smtp-relay.gmail.com with ESMTPS id
 s36-20020a056a0017a400b006ed4265a33asm1743988pfg.20.2024.04.29.03.58.00
 (version=TLS1_2 cipher=ECDHE-ECDSA-AES128-GCM-SHA256 bits=128/128);
 Mon, 29 Apr 2024 03:58:00 -0700 (PDT)
X-Relaying-Domain: iol.unh.edu
Date: Mon, 29 Apr 2024 03:58:00 -0700 (PDT)
Message-ID: <662f7d38.050a0220.5f52.7485SMTPIN_ADDED_MISSING@mx.google.com>
Received: from [172.21.0.6] (unknown [172.18.0.240])
 by postal.iol.unh.edu (Postfix) with ESMTP id DEA496052514;
 Mon, 29 Apr 2024 06:57:58 -0400 (EDT)
Subject: |SUCCESS| pw139716 [PATCH] [v3] lib/vhost: add flag for async connec
From: dpdklab@iol.unh.edu
To: Test Report <test-report@dpdk.org>
Cc: dpdk-test-reports@iol.unh.edu
In-Reply-To: <20240426083838.704465-1-daniil.ushkov@yandex.ru>
References: <20240426083838.704465-1-daniil.ushkov@yandex.ru>
Content-Type: text/plain
X-BeenThere: test-report@dpdk.org
X-Mailman-Version: 2.1.29
Precedence: list
List-Id: automatic DPDK test reports <test-report.dpdk.org>
List-Unsubscribe: <https://mails.dpdk.org/options/test-report>,
 <mailto:test-report-request@dpdk.org?subject=unsubscribe>
List-Archive: <http://mails.dpdk.org/archives/test-report/>
List-Post: <mailto:test-report@dpdk.org>
List-Help: <mailto:test-report-request@dpdk.org?subject=help>
List-Subscribe: <https://mails.dpdk.org/listinfo/test-report>,
 <mailto:test-report-request@dpdk.org?subject=subscribe>
Errors-To: test-report-bounces@dpdk.org

Test-Label: iol-unit-amd64-testing
Test-Status: SUCCESS
http://dpdk.org/patch/139716

_Testing PASS_

Submitter: Daniil Ushkov <daniil.ushkov@yandex.ru>
Date: Friday, April 26 2024 08:38:38 
DPDK git baseline: Repo:dpdk
  Branch: master
  CommitID:deedfb86a7a6e10064d3cccd593f62072de96e36

139716 --> testing pass

Test environment and result as below:

+---------------------+----------------+
|     Environment     | dpdk_unit_test |
+=====================+================+
| Windows Server 2019 | PASS           |
+---------------------+----------------+
| Windows Server 2022 | PASS           |
+---------------------+----------------+
| Debian Bullseye     | PASS           |
+---------------------+----------------+
| Debian 12           | PASS           |
+---------------------+----------------+
| CentOS Stream 8     | PASS           |
+---------------------+----------------+
| CentOS Stream 9     | PASS           |
+---------------------+----------------+
| Fedora 38           | PASS           |
+---------------------+----------------+
| Fedora 37           | PASS           |
+---------------------+----------------+


Windows Server 2019
	Kernel: 10.0.17763
	Compiler: clang 14.0 and gcc 8.1.0 (MinGW)

Windows Server 2022
	Kernel: 10.0.20348.2031
	Compiler: clang 15.0.7, gcc 8.1.0 (MinGW), and MSVC VS 17.9

Debian Bullseye
	Kernel: 5.4.0-167-generic
	Compiler: gcc 10.2.1-6

Debian 12
	Kernel: Container Host Kernel
	Compiler: gcc 10.2.1

CentOS Stream 8
	Kernel: 5.4.0-167-generic
	Compiler: gcc 8.5.0 20210514

CentOS Stream 9
	Kernel: 5.4.0-167-generic
	Compiler: gcc 11.4.1 20230605

Fedora 38
	Kernel: Depends on container host
	Compiler: clang 16.0.6

Fedora 37
	Kernel: Depends on container host system
	Compiler: gcc 12.3.1

To view detailed results, visit:
https://lab.dpdk.org/results/dashboard/patchsets/29871/

UNH-IOL DPDK Community Lab

To manage your email subscriptions, visit: 
https://lab.dpdk.org/results/dashboard/preferences/subscriptions/