From mboxrd@z Thu Jan  1 00:00:00 1970
Return-Path: <test-report-bounces@dpdk.org>
Received: from mails.dpdk.org (mails.dpdk.org [217.70.189.124])
	by inbox.dpdk.org (Postfix) with ESMTP id 1842043F49
	for <public@inbox.dpdk.org>; Mon, 29 Apr 2024 12:59:23 +0200 (CEST)
Received: from mails.dpdk.org (localhost [127.0.0.1])
	by mails.dpdk.org (Postfix) with ESMTP id 12FD6402A3;
	Mon, 29 Apr 2024 12:59:23 +0200 (CEST)
Received: from mail-il1-f227.google.com (mail-il1-f227.google.com
 [209.85.166.227])
 by mails.dpdk.org (Postfix) with ESMTP id D2C814025C
 for <test-report@dpdk.org>; Mon, 29 Apr 2024 12:59:21 +0200 (CEST)
Received: by mail-il1-f227.google.com with SMTP id
 e9e14a558f8ab-36c551bf5e3so139935ab.1
 for <test-report@dpdk.org>; Mon, 29 Apr 2024 03:59:21 -0700 (PDT)
DKIM-Signature: v=1; a=rsa-sha256; c=relaxed/relaxed;
 d=iol.unh.edu; s=unh-iol; t=1714388361; x=1714993161; darn=dpdk.org;
 h=references:in-reply-to:cc:to:from:subject:message-id:date:from:to
 :cc:subject:date:message-id:reply-to;
 bh=Mx20U/C/6le+cwF4FfyfCwq2l/2jxUHjb62RFrK3dYM=;
 b=FVZSktg/1JiJAFaH+dyfZd014ersmNazzsCGmwdGD7dkaF5c8wqDUtiO7h46mrPLE9
 U4TzuQ903VPSUPJh0j9ioH1OYzkvHCMlmjwBsp5uoc3ZcyobYteC5d+aQDHUpQk1EgLL
 6NN0CBTAbEuuvWAPHrqiQiTH4RIUJ/YJf/SN8=
X-Google-DKIM-Signature: v=1; a=rsa-sha256; c=relaxed/relaxed;
 d=1e100.net; s=20230601; t=1714388361; x=1714993161;
 h=references:in-reply-to:cc:to:from:subject:message-id:date
 :x-gm-message-state:from:to:cc:subject:date:message-id:reply-to;
 bh=Mx20U/C/6le+cwF4FfyfCwq2l/2jxUHjb62RFrK3dYM=;
 b=xUUzgy+zD+NM/339v7JAsoUwoCsXPgPooREyRC8qTEVZxeUa7w9t3KTmALUCxSebh5
 IYwX+b8qt9G15Y5TQGqpKja658Eq1WSHqfTBtTw+I1PNUxJT9+ZNCWKj3OtGYb2/k0ri
 pBM+d7wDFxN6x92s7QVJqMH80PspC7FqQVhjOz2If35S5nrBCSp/sDhafYfJFiUYYESj
 eo5PCAjlIGw4surwJiu7qaKKGigD3fdCTLYE84gvqGDanOpMe/Fej6KH8xXdJwkPyxtM
 IOohIiSMsbtzxnwyDjOkFL9fcQFVrqOhnv74PRYvzGAqdWMYJd4UOWFe7rWC/CZF9jSA
 CJKA==
X-Gm-Message-State: AOJu0YzgKOaS5exyTC539EMRz5IfPsZoJhkYKE2fbiZTShOIMKvTjkit
 Thr3zAgRe2kW+gJ+f+KDJsIVH0pkjcTdITDCoxH8/z50khHjUK1gtqKwu8QeR81v1oPu5btE3Z3
 O7U64hztvIa/HibZiawKRAVbD1NIdz1Km0Y32+ea/iTw7B/LMc/yWq+3Y
X-Google-Smtp-Source: AGHT+IGZTStCOufVJp+GUP/zALIoI+vLdq1yqB+bVsjRWgFSL17/1MT51Z+Yj/8ok8cYm0lbTe8wDXaZ6XDv
X-Received: by 2002:a05:6e02:12c8:b0:36a:352c:44d6 with SMTP id
 i8-20020a056e0212c800b0036a352c44d6mr9849559ilm.13.1714388361320; 
 Mon, 29 Apr 2024 03:59:21 -0700 (PDT)
Received: from postal.iol.unh.edu (postal.iol.unh.edu.
 [2606:4100:3880:1234::84]) by smtp-relay.gmail.com with ESMTPS id
 h4-20020a056e0213a400b0036c4c5b0ceasm116651ilo.64.2024.04.29.03.59.21
 (version=TLS1_2 cipher=ECDHE-ECDSA-AES128-GCM-SHA256 bits=128/128);
 Mon, 29 Apr 2024 03:59:21 -0700 (PDT)
X-Relaying-Domain: iol.unh.edu
Date: Mon, 29 Apr 2024 03:59:21 -0700 (PDT)
Message-ID: <662f7d89.050a0220.887e5.4e8fSMTPIN_ADDED_MISSING@mx.google.com>
Received: from [172.21.0.6] (unknown [172.18.0.240])
 by postal.iol.unh.edu (Postfix) with ESMTP id EF5DF6052514;
 Mon, 29 Apr 2024 06:59:20 -0400 (EDT)
Subject: |SUCCESS| pw139717 [PATCH] bus/pci: fix build with musl 1.2.4 / Alpi
From: dpdklab@iol.unh.edu
To: Test Report <test-report@dpdk.org>
Cc: dpdk-test-reports@iol.unh.edu
In-Reply-To: <20240429100059.1316414-1-david.marchand@redhat.com>
References: <20240429100059.1316414-1-david.marchand@redhat.com>
Content-Type: text/plain
X-BeenThere: test-report@dpdk.org
X-Mailman-Version: 2.1.29
Precedence: list
List-Id: automatic DPDK test reports <test-report.dpdk.org>
List-Unsubscribe: <https://mails.dpdk.org/options/test-report>,
 <mailto:test-report-request@dpdk.org?subject=unsubscribe>
List-Archive: <http://mails.dpdk.org/archives/test-report/>
List-Post: <mailto:test-report@dpdk.org>
List-Help: <mailto:test-report-request@dpdk.org?subject=help>
List-Subscribe: <https://mails.dpdk.org/listinfo/test-report>,
 <mailto:test-report-request@dpdk.org?subject=subscribe>
Errors-To: test-report-bounces@dpdk.org

Test-Label: iol-compile-amd64-testing
Test-Status: SUCCESS
http://dpdk.org/patch/139717

_Testing PASS_

Submitter: David Marchand <david.marchand@redhat.com>
Date: Monday, April 29 2024 10:00:59 
DPDK git baseline: Repo:dpdk
  Branch: master
  CommitID:7e06c0de1952d3109a5b0c4779d7e7d8059c9d78

139717 --> testing pass

Test environment and result as below:

+---------------------+--------------------+----------------------+-------------------+
|     Environment     | dpdk_meson_compile | dpdk_mingw64_compile | dpdk_msvc_compile |
+=====================+====================+======================+===================+
| FreeBSD 13.3        | PASS               | SKIPPED              | SKIPPED           |
+---------------------+--------------------+----------------------+-------------------+
| Windows Server 2022 | PASS               | PASS                 | PASS              |
+---------------------+--------------------+----------------------+-------------------+
| Windows Server 2019 | PASS               | PASS                 | SKIPPED           |
+---------------------+--------------------+----------------------+-------------------+
| CentOS Stream 9     | PASS               | SKIPPED              | SKIPPED           |
+---------------------+--------------------+----------------------+-------------------+


FreeBSD 13.3
	Kernel: 13.3-RELEASE-p1
	Compiler: clang 17.0.6

Windows Server 2022
	Kernel: 10.0.20348.2031
	Compiler: clang 15.0.7, gcc 8.1.0 (MinGW), and MSVC VS 17.9

Windows Server 2019
	Kernel: 10.0.17763
	Compiler: clang 14.0 and gcc 8.1.0 (MinGW)

CentOS Stream 9
	Kernel: 5.4.0-167-generic
	Compiler: gcc 11.4.1 20230605

To view detailed results, visit:
https://lab.dpdk.org/results/dashboard/patchsets/29872/

UNH-IOL DPDK Community Lab

To manage your email subscriptions, visit: 
https://lab.dpdk.org/results/dashboard/preferences/subscriptions/