From mboxrd@z Thu Jan  1 00:00:00 1970
Return-Path: <test-report-bounces@dpdk.org>
Received: from mails.dpdk.org (mails.dpdk.org [217.70.189.124])
	by inbox.dpdk.org (Postfix) with ESMTP id 0217E43F49
	for <public@inbox.dpdk.org>; Mon, 29 Apr 2024 13:08:25 +0200 (CEST)
Received: from mails.dpdk.org (localhost [127.0.0.1])
	by mails.dpdk.org (Postfix) with ESMTP id F17E4402A3;
	Mon, 29 Apr 2024 13:08:24 +0200 (CEST)
Received: from mail-pg1-f227.google.com (mail-pg1-f227.google.com
 [209.85.215.227])
 by mails.dpdk.org (Postfix) with ESMTP id 04DF94025C
 for <test-report@dpdk.org>; Mon, 29 Apr 2024 13:08:24 +0200 (CEST)
Received: by mail-pg1-f227.google.com with SMTP id
 41be03b00d2f7-6001399f22bso2904380a12.0
 for <test-report@dpdk.org>; Mon, 29 Apr 2024 04:08:23 -0700 (PDT)
DKIM-Signature: v=1; a=rsa-sha256; c=relaxed/relaxed;
 d=iol.unh.edu; s=unh-iol; t=1714388903; x=1714993703; darn=dpdk.org;
 h=references:in-reply-to:cc:to:from:subject:message-id:date:from:to
 :cc:subject:date:message-id:reply-to;
 bh=XLcohwskpgRqU4br6j5z9xcMC/iS1IPLOd8hNRAzhdc=;
 b=hT0kKpmnbAdIfw5yOi2gAr0nDJehbwRjWqPmQIBKa9MynpAAYS/gMlZIfCM7NCBVil
 MdFT2P8DiyxuwpWYuJyFwN34Ubg8HTbXl+J/URyhtBVhPYYDZC4UQE1dL4bS+508CB/D
 GGlIc+NAlvW4AzTpJ85jGi3pNFlARmn8IbHN0=
X-Google-DKIM-Signature: v=1; a=rsa-sha256; c=relaxed/relaxed;
 d=1e100.net; s=20230601; t=1714388903; x=1714993703;
 h=references:in-reply-to:cc:to:from:subject:message-id:date
 :x-gm-message-state:from:to:cc:subject:date:message-id:reply-to;
 bh=XLcohwskpgRqU4br6j5z9xcMC/iS1IPLOd8hNRAzhdc=;
 b=Z2NwqfK29Z83kDGVbqcBIlM+wJ/f4PXroxvPObh3vRht559QClHmdev47kRXOj2m8O
 fPYPX5O0Sh8xOIEu0IdSs3QMRjWLcDv+VdINcOgKHPSCjpyAmPZSAQAh9EpH297f83WP
 +pLsU6kPVWqKENJ/ZoPpq00I2OQRh6290RishzJMUvDD0xKeiyaK0OuHCvhKC/H9H9cX
 voUu08Az2I8Al5N205eDEB0ITtFmAwJyaSkqnmvfGSh+UEw1uzn2658gp7emutXaDmYQ
 YHaTtiAzvWtEAy//h4QM5rYvqxM5F0hrISU5FBRA3CZifxnHFw+QI/cuQSWC4wuuqocE
 Xf/g==
X-Gm-Message-State: AOJu0Yw+Mp6PcucHeD1whwIMdZqlPidSJduAax6EHPgECd4CNhtvcnLN
 u7+winzhgCKc4MhNx7mLEnrY6XHlDR5lMQ9pGDGR7s9ygTIuOz6c0kNFG2vJBADT2zPkiIcE6Rw
 u8f3ehQRIQ+hh+WvVMZJ+piRgtQLBUHhqLXnw8EHm
X-Google-Smtp-Source: AGHT+IFMLbp0ymHHjfpw+CLjOAqPR4ZrxZjr38bnta+KyUwjmJ3NxalIWT4XSsXm9+SRnSdn/kFXNj0yTR4P
X-Received: by 2002:a17:90b:3d86:b0:2a7:7cae:8ec9 with SMTP id
 pq6-20020a17090b3d8600b002a77cae8ec9mr8639999pjb.7.1714388902882; 
 Mon, 29 Apr 2024 04:08:22 -0700 (PDT)
Received: from postal.iol.unh.edu (postal.iol.unh.edu. [132.177.123.84])
 by smtp-relay.gmail.com with ESMTPS id
 lb18-20020a17090b4a5200b002af0c64e12fsm966660pjb.16.2024.04.29.04.08.22
 (version=TLS1_2 cipher=ECDHE-ECDSA-AES128-GCM-SHA256 bits=128/128);
 Mon, 29 Apr 2024 04:08:22 -0700 (PDT)
X-Relaying-Domain: iol.unh.edu
Date: Mon, 29 Apr 2024 04:08:22 -0700 (PDT)
Message-ID: <662f7fa6.170a0220.c809d.cf7cSMTPIN_ADDED_MISSING@mx.google.com>
Received: from [172.21.0.6] (unknown [172.18.0.240])
 by postal.iol.unh.edu (Postfix) with ESMTP id A92126052514;
 Mon, 29 Apr 2024 07:08:21 -0400 (EDT)
Subject: |SUCCESS| pw139716 [PATCH] [v3] lib/vhost: add flag for async connec
From: dpdklab@iol.unh.edu
To: Test Report <test-report@dpdk.org>
Cc: dpdk-test-reports@iol.unh.edu
In-Reply-To: <20240426083838.704465-1-daniil.ushkov@yandex.ru>
References: <20240426083838.704465-1-daniil.ushkov@yandex.ru>
Content-Type: text/plain
X-BeenThere: test-report@dpdk.org
X-Mailman-Version: 2.1.29
Precedence: list
List-Id: automatic DPDK test reports <test-report.dpdk.org>
List-Unsubscribe: <https://mails.dpdk.org/options/test-report>,
 <mailto:test-report-request@dpdk.org?subject=unsubscribe>
List-Archive: <http://mails.dpdk.org/archives/test-report/>
List-Post: <mailto:test-report@dpdk.org>
List-Help: <mailto:test-report-request@dpdk.org?subject=help>
List-Subscribe: <https://mails.dpdk.org/listinfo/test-report>,
 <mailto:test-report-request@dpdk.org?subject=subscribe>
Errors-To: test-report-bounces@dpdk.org

Test-Label: iol-unit-arm64-testing
Test-Status: SUCCESS
http://dpdk.org/patch/139716

_Testing PASS_

Submitter: Daniil Ushkov <daniil.ushkov@yandex.ru>
Date: Friday, April 26 2024 08:38:38 
DPDK git baseline: Repo:dpdk
  Branch: master
  CommitID:deedfb86a7a6e10064d3cccd593f62072de96e36

139716 --> testing pass

Test environment and result as below:

+-----------------------------+----------------+---------------------------+------------------------------+
|         Environment         | dpdk_unit_test | cryptodev_sw_zuc_autotest | cryptodev_sw_snow3g_autotest |
+=============================+================+===========================+==============================+
| Debian 12 (arm)             | PASS           | PASS                      | PASS                         |
+-----------------------------+----------------+---------------------------+------------------------------+
| Fedora 37 (ARM)             | PASS           | SKIPPED                   | SKIPPED                      |
+-----------------------------+----------------+---------------------------+------------------------------+
| CentOS Stream 9 (ARM)       | PASS           | SKIPPED                   | SKIPPED                      |
+-----------------------------+----------------+---------------------------+------------------------------+
| Debian 11 (Buster) (ARM)    | PASS           | SKIPPED                   | SKIPPED                      |
+-----------------------------+----------------+---------------------------+------------------------------+
| Fedora 38 (ARM)             | PASS           | SKIPPED                   | SKIPPED                      |
+-----------------------------+----------------+---------------------------+------------------------------+
| Fedora 39 (ARM)             | PASS           | SKIPPED                   | SKIPPED                      |
+-----------------------------+----------------+---------------------------+------------------------------+
| 32-bit Ubuntu 20.04.4 (ARM) | PASS           | SKIPPED                   | SKIPPED                      |
+-----------------------------+----------------+---------------------------+------------------------------+
| Fedora 38 (ARM Clang)       | PASS           | SKIPPED                   | SKIPPED                      |
+-----------------------------+----------------+---------------------------+------------------------------+
| Ubuntu 20.04 (ARM)          | PASS           | SKIPPED                   | SKIPPED                      |
+-----------------------------+----------------+---------------------------+------------------------------+
| Fedora 39 (ARM Clang)       | PASS           | SKIPPED                   | SKIPPED                      |
+-----------------------------+----------------+---------------------------+------------------------------+


Debian 12 (arm)
	Kernel: Container Host Kernel
	Compiler: gcc 12.2.0

Fedora 37 (ARM)
	Kernel: Depends on container host
	Compiler: gcc 12.3.1

CentOS Stream 9 (ARM)
	Kernel: Container Host Kernel
	Compiler: gcc 11.4.1

Debian 11 (Buster) (ARM)
	Kernel: Container Host Kernel
	Compiler: gcc 10.2.1

Fedora 38 (ARM)
	Kernel: Depends on container host
	Compiler: gcc 13.2.1

Fedora 39 (ARM)
	Kernel: Depends on container host
	Compiler: gcc 13.2.1

32-bit Ubuntu 20.04.4 (ARM)
	Kernel: 5.4.0-155-generic aarch64
	Compiler: gcc 9.4

Fedora 38 (ARM Clang)
	Kernel: Depends on container host
	Compiler: clang 16.0.6

Ubuntu 20.04 (ARM)
	Kernel: Container Host Kernel
	Compiler: gcc 9.4.0

Fedora 39 (ARM Clang)
	Kernel: Depends on container host
	Compiler: clang 17.0.6

To view detailed results, visit:
https://lab.dpdk.org/results/dashboard/patchsets/29871/

UNH-IOL DPDK Community Lab

To manage your email subscriptions, visit: 
https://lab.dpdk.org/results/dashboard/preferences/subscriptions/