From mboxrd@z Thu Jan  1 00:00:00 1970
Return-Path: <test-report-bounces@dpdk.org>
Received: from mails.dpdk.org (mails.dpdk.org [217.70.189.124])
	by inbox.dpdk.org (Postfix) with ESMTP id 8F68043F49
	for <public@inbox.dpdk.org>; Mon, 29 Apr 2024 13:18:56 +0200 (CEST)
Received: from mails.dpdk.org (localhost [127.0.0.1])
	by mails.dpdk.org (Postfix) with ESMTP id 8B21B402BA;
	Mon, 29 Apr 2024 13:18:56 +0200 (CEST)
Received: from mail-yw1-f225.google.com (mail-yw1-f225.google.com
 [209.85.128.225])
 by mails.dpdk.org (Postfix) with ESMTP id 1BA764025C
 for <test-report@dpdk.org>; Mon, 29 Apr 2024 13:18:49 +0200 (CEST)
Received: by mail-yw1-f225.google.com with SMTP id
 00721157ae682-61804067da0so40208517b3.0
 for <test-report@dpdk.org>; Mon, 29 Apr 2024 04:18:49 -0700 (PDT)
DKIM-Signature: v=1; a=rsa-sha256; c=relaxed/relaxed;
 d=iol.unh.edu; s=unh-iol; t=1714389528; x=1714994328; darn=dpdk.org;
 h=references:in-reply-to:cc:to:from:subject:message-id:date:from:to
 :cc:subject:date:message-id:reply-to;
 bh=q6MXbeuuz5e+9gnwJWrAf9Y/sIcNvdFWNDA1j38vkB8=;
 b=ZKMG3lrFTGQ8WBeeNYtvNOk8wijH0fhu6erj1iKpnr8/R257XOyoUMfP4rlmX1RlNZ
 5QD5HgHQXjuxSyZEb7u+XHYZ1PDgzs80d2WpSW7btkjC6wApeqLi6Q2lUWGTdXO2A6F7
 9kqy6Dnufbpni3AXkof9y20zarL8yKJIY271Y=
X-Google-DKIM-Signature: v=1; a=rsa-sha256; c=relaxed/relaxed;
 d=1e100.net; s=20230601; t=1714389528; x=1714994328;
 h=references:in-reply-to:cc:to:from:subject:message-id:date
 :x-gm-message-state:from:to:cc:subject:date:message-id:reply-to;
 bh=q6MXbeuuz5e+9gnwJWrAf9Y/sIcNvdFWNDA1j38vkB8=;
 b=JeN09FIAieTclhLHjl3sO6a0aJLkVBFlmuDWWacESmqlzcAtH5GnFpQV5IWGSlg7c6
 LebCjH4dBtAImBFFiB1j0xQeDiuifNMnUpOP0PgymNv4dY0aHgb68Zp2c0TuMIvZyz9m
 3CApka36zOD21+FlaPgSGNrljreDmC4Du9SJkGrVopj4P4tdEnZz3ZHDriWvXgMy9RX0
 nni4Kf6yuHA+FAhUDadq4PDZv3X494nznuAlPPW9rJYpQlKf3qFqrqpd9ffaagyAfJtP
 TTZymUVWVAccVhrH/MGOn7xpQurBFAljAwMcCYzinG5X0pqAJF939FDlqby8AvsdRhcQ
 AFzQ==
X-Gm-Message-State: AOJu0YzoPqOChPh6amRfYv9RJ1uOg9dnPS3SYzwAxcD6AhfmMNf2qLso
 8xE5D7U9QfSi8tyNbAv073M9zfWb2oylbV8sNV+/U7hF62auUCDG6fXgAHSuxNA9mdaQioiskDF
 yj81uV+ewZhML/aPacXCHeaf/cvbrKtWKCW1Z1DNWT416qDKSnHnCvPku
X-Google-Smtp-Source: AGHT+IHEzmR3vkmY/spF6ORyKrpmXlki3E2GiA46SiH2g7AhXBvF/QfZeCnNU6M5Gw5iHE8w2kySHPRkfwi9
X-Received: by 2002:a05:690c:3589:b0:61b:df5:7871 with SMTP id
 fr9-20020a05690c358900b0061b0df57871mr6076587ywb.16.1714389528604; 
 Mon, 29 Apr 2024 04:18:48 -0700 (PDT)
Received: from postal.iol.unh.edu (postal.iol.unh.edu.
 [2606:4100:3880:1234::84]) by smtp-relay.gmail.com with ESMTPS id
 bf9-20020a05690c028900b0061bcb7cd1a2sm287457ywb.75.2024.04.29.04.18.48
 (version=TLS1_2 cipher=ECDHE-ECDSA-AES128-GCM-SHA256 bits=128/128);
 Mon, 29 Apr 2024 04:18:48 -0700 (PDT)
X-Relaying-Domain: iol.unh.edu
Date: Mon, 29 Apr 2024 04:18:48 -0700 (PDT)
Message-ID: <662f8218.050a0220.1fff6.7cf3SMTPIN_ADDED_MISSING@mx.google.com>
Received: from [172.21.0.6] (unknown [172.18.0.240])
 by postal.iol.unh.edu (Postfix) with ESMTP id 4EAC96052514;
 Mon, 29 Apr 2024 07:18:48 -0400 (EDT)
Subject: |SUCCESS| pw139717 [PATCH] bus/pci: fix build with musl 1.2.4 / Alpi
From: dpdklab@iol.unh.edu
To: Test Report <test-report@dpdk.org>
Cc: dpdk-test-reports@iol.unh.edu
In-Reply-To: <20240429100059.1316414-1-david.marchand@redhat.com>
References: <20240429100059.1316414-1-david.marchand@redhat.com>
Content-Type: text/plain
X-BeenThere: test-report@dpdk.org
X-Mailman-Version: 2.1.29
Precedence: list
List-Id: automatic DPDK test reports <test-report.dpdk.org>
List-Unsubscribe: <https://mails.dpdk.org/options/test-report>,
 <mailto:test-report-request@dpdk.org?subject=unsubscribe>
List-Archive: <http://mails.dpdk.org/archives/test-report/>
List-Post: <mailto:test-report@dpdk.org>
List-Help: <mailto:test-report-request@dpdk.org?subject=help>
List-Subscribe: <https://mails.dpdk.org/listinfo/test-report>,
 <mailto:test-report-request@dpdk.org?subject=subscribe>
Errors-To: test-report-bounces@dpdk.org

Test-Label: iol-abi-testing
Test-Status: SUCCESS
http://dpdk.org/patch/139717

_Testing PASS_

Submitter: David Marchand <david.marchand@redhat.com>
Date: Monday, April 29 2024 10:00:59 
DPDK git baseline: Repo:dpdk
  Branch: master
  CommitID:7e06c0de1952d3109a5b0c4779d7e7d8059c9d78

139717 --> testing pass

Test environment and result as below:

+-----------------+----------+
|   Environment   | abi_test |
+=================+==========+
| CentOS Stream 9 | PASS     |
+-----------------+----------+
| Fedora 39       | PASS     |
+-----------------+----------+
| Debian Bullseye | PASS     |
+-----------------+----------+
| Ubuntu 22.04    | PASS     |
+-----------------+----------+
| Fedora 37       | PASS     |
+-----------------+----------+
| CentOS Stream 8 | PASS     |
+-----------------+----------+
| Debian 12       | PASS     |
+-----------------+----------+
| RHEL8           | PASS     |
+-----------------+----------+
| Fedora 38       | PASS     |
+-----------------+----------+


CentOS Stream 9
	Kernel: 5.4.0-167-generic
	Compiler: gcc 11.4.1 20230605

Fedora 39
	Kernel: Depends on container host
	Compiler: gcc 13.2.1

Debian Bullseye
	Kernel: 5.4.0-167-generic
	Compiler: gcc 10.2.1-6

Ubuntu 22.04
	Kernel: 5.4.0-167-generic
	Compiler: gcc 11.4.0

Fedora 37
	Kernel: Depends on container host system
	Compiler: gcc 12.3.1

CentOS Stream 8
	Kernel: 5.4.0-167-generic
	Compiler: gcc 8.5.0 20210514

Debian 12
	Kernel: Container Host Kernel
	Compiler: gcc 10.2.1

RHEL8
	Kernel: 5.4.0-167-generic
	Compiler: gcc 8.5.0 20210514 (Red Hat 8.5.0-20)

Fedora 38
	Kernel: Depends on container host
	Compiler: clang 16.0.6

To view detailed results, visit:
https://lab.dpdk.org/results/dashboard/patchsets/29872/

UNH-IOL DPDK Community Lab

To manage your email subscriptions, visit: 
https://lab.dpdk.org/results/dashboard/preferences/subscriptions/