From mboxrd@z Thu Jan  1 00:00:00 1970
Return-Path: <test-report-bounces@dpdk.org>
Received: from mails.dpdk.org (mails.dpdk.org [217.70.189.124])
	by inbox.dpdk.org (Postfix) with ESMTP id D8B8843F49
	for <public@inbox.dpdk.org>; Mon, 29 Apr 2024 13:22:54 +0200 (CEST)
Received: from mails.dpdk.org (localhost [127.0.0.1])
	by mails.dpdk.org (Postfix) with ESMTP id D477E402A3;
	Mon, 29 Apr 2024 13:22:54 +0200 (CEST)
Received: from mail-yb1-f227.google.com (mail-yb1-f227.google.com
 [209.85.219.227])
 by mails.dpdk.org (Postfix) with ESMTP id 288EC4025C
 for <test-report@dpdk.org>; Mon, 29 Apr 2024 13:22:53 +0200 (CEST)
Received: by mail-yb1-f227.google.com with SMTP id
 3f1490d57ef6-de60380c04aso190537276.2
 for <test-report@dpdk.org>; Mon, 29 Apr 2024 04:22:53 -0700 (PDT)
DKIM-Signature: v=1; a=rsa-sha256; c=relaxed/relaxed;
 d=iol.unh.edu; s=unh-iol; t=1714389772; x=1714994572; darn=dpdk.org;
 h=references:in-reply-to:cc:to:from:subject:message-id:date:from:to
 :cc:subject:date:message-id:reply-to;
 bh=fb0IzxxvqZ9zLaSjz25+S8qZ/5G4637+23uChTIc1Mk=;
 b=CisbUQFtQxNVfa/uCSdnPPz5q19whFVmp9FW8TT192DavDVUVms4tp17R4CtVIEsOS
 bui9lK30nJhEAK/bwEqo+GaRjNGPntlvKnuiHG5kwI+JVl3fbt0PiTYpqyRag9HKZJjP
 nATKawnhXOTh58SgYfPbW8YbgB7goi46bW1Fo=
X-Google-DKIM-Signature: v=1; a=rsa-sha256; c=relaxed/relaxed;
 d=1e100.net; s=20230601; t=1714389772; x=1714994572;
 h=references:in-reply-to:cc:to:from:subject:message-id:date
 :x-gm-message-state:from:to:cc:subject:date:message-id:reply-to;
 bh=fb0IzxxvqZ9zLaSjz25+S8qZ/5G4637+23uChTIc1Mk=;
 b=uIbFdki58PZbJZgyc9Y7qfAgxm1F9fSvWgvoQ/k/R0MPFy+c0fgmWMeobmuOVBzaV3
 Ax1APEZOtCtTqu0GVoTut3LxjTX2QSg0vDzdNqIW6ctCdt4VdwEXgqsEUIEZOVkDNFLH
 SKPb3yYZuK7SMDZUAWvom4tRcOuQFxTtXQddz6Awl+mjtsWUfUKDn89VclfTZKvAwvc0
 3Z0GoR9Z5vw8ivvaTrR+QIS+Ba+oKO7EFJfXqmkFTcx7Wr86tg+3DrhRIBy16dU+HBQ8
 LOPrhJTnVvlkJWi4msaEY2WOzIw4bZaah4KK4zhQE6OWSXOqBTfWC0apcgGpHT3csxkH
 gKlg==
X-Gm-Message-State: AOJu0Yyf+yybJ0eHYs7TwCJCv/q+1LWXHQrCime7LxyykinV9qvU5n0Y
 +9JaJxudJtWuM9VLZLkesTSTPJQEuADLm7qJaNeplDVA2s4bSiZjDjEVFrYxDE7pvs5vE67VB4D
 LsiI7TmUWqyonh7sD0yYnCGvKduk7D74CE97BTV8Y
X-Google-Smtp-Source: AGHT+IGppc59Olw1Mh8+sv7N7/SZnt2AcQRd0DjJwe9mpJVLo09Tc6/KVWFd2Odx1o8szP/lfV06bHNkgJiu
X-Received: by 2002:a05:6902:230e:b0:de4:7831:919 with SMTP id
 do14-20020a056902230e00b00de478310919mr12036562ybb.38.1714389772517; 
 Mon, 29 Apr 2024 04:22:52 -0700 (PDT)
Received: from postal.iol.unh.edu (postal.iol.unh.edu. [132.177.123.84])
 by smtp-relay.gmail.com with ESMTPS id
 w3-20020a056902100300b00de50ee1736dsm1043763ybt.24.2024.04.29.04.22.52
 (version=TLS1_2 cipher=ECDHE-ECDSA-AES128-GCM-SHA256 bits=128/128);
 Mon, 29 Apr 2024 04:22:52 -0700 (PDT)
X-Relaying-Domain: iol.unh.edu
Date: Mon, 29 Apr 2024 04:22:52 -0700 (PDT)
Message-ID: <662f830c.050a0220.c4fcd.e10fSMTPIN_ADDED_MISSING@mx.google.com>
Received: from [172.21.0.6] (unknown [172.18.0.240])
 by postal.iol.unh.edu (Postfix) with ESMTP id 294C06052514;
 Mon, 29 Apr 2024 07:22:52 -0400 (EDT)
Subject: |SUCCESS| pw139717 [PATCH] bus/pci: fix build with musl 1.2.4 / Alpi
From: dpdklab@iol.unh.edu
To: Test Report <test-report@dpdk.org>
Cc: dpdk-test-reports@iol.unh.edu
In-Reply-To: <20240429100059.1316414-1-david.marchand@redhat.com>
References: <20240429100059.1316414-1-david.marchand@redhat.com>
Content-Type: text/plain
X-BeenThere: test-report@dpdk.org
X-Mailman-Version: 2.1.29
Precedence: list
List-Id: automatic DPDK test reports <test-report.dpdk.org>
List-Unsubscribe: <https://mails.dpdk.org/options/test-report>,
 <mailto:test-report-request@dpdk.org?subject=unsubscribe>
List-Archive: <http://mails.dpdk.org/archives/test-report/>
List-Post: <mailto:test-report@dpdk.org>
List-Help: <mailto:test-report-request@dpdk.org?subject=help>
List-Subscribe: <https://mails.dpdk.org/listinfo/test-report>,
 <mailto:test-report-request@dpdk.org?subject=subscribe>
Errors-To: test-report-bounces@dpdk.org

Test-Label: iol-compile-amd64-testing
Test-Status: SUCCESS
http://dpdk.org/patch/139717

_Testing PASS_

Submitter: David Marchand <david.marchand@redhat.com>
Date: Monday, April 29 2024 10:00:59 
DPDK git baseline: Repo:dpdk
  Branch: master
  CommitID:7e06c0de1952d3109a5b0c4779d7e7d8059c9d78

139717 --> testing pass

Test environment and result as below:

+---------------------+--------------------+----------------------+-------------------+
|     Environment     | dpdk_meson_compile | dpdk_mingw64_compile | dpdk_msvc_compile |
+=====================+====================+======================+===================+
| FreeBSD 13.3        | PASS               | SKIPPED              | SKIPPED           |
+---------------------+--------------------+----------------------+-------------------+
| Windows Server 2022 | PASS               | PASS                 | PASS              |
+---------------------+--------------------+----------------------+-------------------+
| Windows Server 2019 | PASS               | PASS                 | SKIPPED           |
+---------------------+--------------------+----------------------+-------------------+
| CentOS Stream 9     | PASS               | SKIPPED              | SKIPPED           |
+---------------------+--------------------+----------------------+-------------------+
| CentOS Stream 8     | PASS               | SKIPPED              | SKIPPED           |
+---------------------+--------------------+----------------------+-------------------+
| openSUSE Leap 15    | PASS               | SKIPPED              | SKIPPED           |
+---------------------+--------------------+----------------------+-------------------+
| Fedora 39           | PASS               | SKIPPED              | SKIPPED           |
+---------------------+--------------------+----------------------+-------------------+
| RHEL8               | PASS               | SKIPPED              | SKIPPED           |
+---------------------+--------------------+----------------------+-------------------+
| Ubuntu 20.04        | PASS               | SKIPPED              | SKIPPED           |
+---------------------+--------------------+----------------------+-------------------+
| Ubuntu 22.04        | PASS               | SKIPPED              | SKIPPED           |
+---------------------+--------------------+----------------------+-------------------+


FreeBSD 13.3
	Kernel: 13.3-RELEASE-p1
	Compiler: clang 17.0.6

Windows Server 2022
	Kernel: 10.0.20348.2031
	Compiler: clang 15.0.7, gcc 8.1.0 (MinGW), and MSVC VS 17.9

Windows Server 2019
	Kernel: 10.0.17763
	Compiler: clang 14.0 and gcc 8.1.0 (MinGW)

CentOS Stream 9
	Kernel: 5.4.0-167-generic
	Compiler: gcc 11.4.1 20230605

CentOS Stream 8
	Kernel: 5.4.0-167-generic
	Compiler: gcc 8.5.0 20210514

openSUSE Leap 15
	Kernel: 5.4.0-167-generic
	Compiler: gcc 7.5.0

Fedora 39
	Kernel: Depends on container host
	Compiler: gcc 13.2.1

RHEL8
	Kernel: 5.4.0-167-generic
	Compiler: gcc 8.5.0 20210514 (Red Hat 8.5.0-20)

Ubuntu 20.04
	Kernel: 5.4.0-167-generic
	Compiler: gcc 9.4.0-1ubuntu1~20.04.1

Ubuntu 22.04
	Kernel: 5.4.0-167-generic
	Compiler: gcc 11.4.0

To view detailed results, visit:
https://lab.dpdk.org/results/dashboard/patchsets/29872/

UNH-IOL DPDK Community Lab

To manage your email subscriptions, visit: 
https://lab.dpdk.org/results/dashboard/preferences/subscriptions/