From mboxrd@z Thu Jan  1 00:00:00 1970
Return-Path: <test-report-bounces@dpdk.org>
Received: from mails.dpdk.org (mails.dpdk.org [217.70.189.124])
	by inbox.dpdk.org (Postfix) with ESMTP id DF23043F46
	for <public@inbox.dpdk.org>; Mon, 29 Apr 2024 13:55:02 +0200 (CEST)
Received: from mails.dpdk.org (localhost [127.0.0.1])
	by mails.dpdk.org (Postfix) with ESMTP id C0D2D402A3;
	Mon, 29 Apr 2024 13:55:02 +0200 (CEST)
Received: from mail-pl1-f225.google.com (mail-pl1-f225.google.com
 [209.85.214.225])
 by mails.dpdk.org (Postfix) with ESMTP id 167904025C
 for <test-report@dpdk.org>; Mon, 29 Apr 2024 13:55:02 +0200 (CEST)
Received: by mail-pl1-f225.google.com with SMTP id
 d9443c01a7336-1e4266673bbso38056855ad.2
 for <test-report@dpdk.org>; Mon, 29 Apr 2024 04:55:01 -0700 (PDT)
DKIM-Signature: v=1; a=rsa-sha256; c=relaxed/relaxed;
 d=iol.unh.edu; s=unh-iol; t=1714391701; x=1714996501; darn=dpdk.org;
 h=references:in-reply-to:cc:to:from:subject:message-id:date:from:to
 :cc:subject:date:message-id:reply-to;
 bh=2Xq6nrUOZK37CKFqHBDUYEodKGDDlbqtoBdM5sgJkPk=;
 b=Q7dbqhJredc9fp9EqjUVntT4fN8R8qeCPr4OkQzn/uSrfTC0ZFYc19yNu0oGrG/cUr
 gmNuk1vs/beQitPM9M9/A2WGktyi34y+ywZe8/O47u6y19mymu6lX6U5kTc3cT4q+bun
 ZzZfnqlQEWJqRFlOeLAcOryoHLdpuWlEMkWZk=
X-Google-DKIM-Signature: v=1; a=rsa-sha256; c=relaxed/relaxed;
 d=1e100.net; s=20230601; t=1714391701; x=1714996501;
 h=references:in-reply-to:cc:to:from:subject:message-id:date
 :x-gm-message-state:from:to:cc:subject:date:message-id:reply-to;
 bh=2Xq6nrUOZK37CKFqHBDUYEodKGDDlbqtoBdM5sgJkPk=;
 b=vEWdXUEqYFasSYHyHfECMeZLqtoFReiRqPumrJj+FS4iREQbQsxkHuTyhBiBGXYwbG
 vcTiETR2htr2UAo6uFWonN+sY3QsrmxMlaEMBuQVmyJuBi+IkgEJqTegrZn/EZa6Lt7e
 2YqQa7NyLRD+cE1/UNyxh2v2LJTMUpqxf1vqXTMCVOjdo9sf+H8SaNjmd28CD5KkgVRC
 WAooQL4XgLGvJnAZBqdF+CiG1AyGIDqn3eDbBC5YaUU9dR0Ka9oI5Ijcy/UFONvxVrje
 aQ95H9wi6N0ZviBoOJj/gE6GQA5LJ41vLpTtjIze26yfXHNOkwbrFGuxHSsA39bp+dPh
 fWXw==
X-Gm-Message-State: AOJu0YyCsnP2lDVguEmcGBoRNrsrhwfGwSncpODD6vQ5VXx4utLkmsC/
 5a0fH03XKGM7PyvjfxsV3fOXrEJ3LKw2VHBStNcT5CVS5lW8XDOFfNvtQPKJMio2C/b5Sg5j331
 JA4Av5T7TZz9Wzn7KIjDOtK2RZfauBY9lSOa/ToVe
X-Google-Smtp-Source: AGHT+IEWSUN3K8uA/eysicUNwfLYVfK96REVJ4PKxSbuuJ1MDcExpoqxv8e0lUnqXytJONNLyzr1lz26Haid
X-Received: by 2002:a17:902:f681:b0:1e3:c9f6:c4b with SMTP id
 l1-20020a170902f68100b001e3c9f60c4bmr12939389plg.10.1714391701239; 
 Mon, 29 Apr 2024 04:55:01 -0700 (PDT)
Received: from postal.iol.unh.edu (postal.iol.unh.edu. [132.177.123.84])
 by smtp-relay.gmail.com with ESMTPS id
 q20-20020a170902bd9400b001e85371d3a6sm651733pls.123.2024.04.29.04.55.00
 (version=TLS1_2 cipher=ECDHE-ECDSA-AES128-GCM-SHA256 bits=128/128);
 Mon, 29 Apr 2024 04:55:01 -0700 (PDT)
X-Relaying-Domain: iol.unh.edu
Date: Mon, 29 Apr 2024 04:55:01 -0700 (PDT)
Message-ID: <662f8a95.170a0220.eb12c.e082SMTPIN_ADDED_MISSING@mx.google.com>
Received: from [172.17.0.3] (unknown [172.18.0.217])
 by postal.iol.unh.edu (Postfix) with ESMTP id E60CB6052514;
 Mon, 29 Apr 2024 07:54:59 -0400 (EDT)
Subject: |SUCCESS| pw139717 [PATCH] bus/pci: fix build with musl 1.2.4 / Alpi
From: dpdklab@iol.unh.edu
To: Test Report <test-report@dpdk.org>
Cc: dpdk-test-reports@iol.unh.edu
In-Reply-To: <20240429100059.1316414-1-david.marchand@redhat.com>
References: <20240429100059.1316414-1-david.marchand@redhat.com>
Content-Type: text/plain
X-BeenThere: test-report@dpdk.org
X-Mailman-Version: 2.1.29
Precedence: list
List-Id: automatic DPDK test reports <test-report.dpdk.org>
List-Unsubscribe: <https://mails.dpdk.org/options/test-report>,
 <mailto:test-report-request@dpdk.org?subject=unsubscribe>
List-Archive: <http://mails.dpdk.org/archives/test-report/>
List-Post: <mailto:test-report@dpdk.org>
List-Help: <mailto:test-report-request@dpdk.org?subject=help>
List-Subscribe: <https://mails.dpdk.org/listinfo/test-report>,
 <mailto:test-report-request@dpdk.org?subject=subscribe>
Errors-To: test-report-bounces@dpdk.org

Test-Label: iol-unit-arm64-testing
Test-Status: SUCCESS
http://dpdk.org/patch/139717

_Testing PASS_

Submitter: David Marchand <david.marchand@redhat.com>
Date: Monday, April 29 2024 10:00:59 
DPDK git baseline: Repo:dpdk
  Branch: master
  CommitID:7e06c0de1952d3109a5b0c4779d7e7d8059c9d78

139717 --> testing pass

Test environment and result as below:

+-----------------------------+------------------------------+---------------------------+----------------+
|         Environment         | cryptodev_sw_snow3g_autotest | cryptodev_sw_zuc_autotest | dpdk_unit_test |
+=============================+==============================+===========================+================+
| Debian 12 (arm)             | PASS                         | PASS                      | PASS           |
+-----------------------------+------------------------------+---------------------------+----------------+
| CentOS Stream 9 (ARM)       | SKIPPED                      | SKIPPED                   | PASS           |
+-----------------------------+------------------------------+---------------------------+----------------+
| Debian 11 (Buster) (ARM)    | SKIPPED                      | SKIPPED                   | PASS           |
+-----------------------------+------------------------------+---------------------------+----------------+
| Fedora 37 (ARM)             | SKIPPED                      | SKIPPED                   | PASS           |
+-----------------------------+------------------------------+---------------------------+----------------+
| Fedora 38 (ARM)             | SKIPPED                      | SKIPPED                   | PASS           |
+-----------------------------+------------------------------+---------------------------+----------------+
| Fedora 39 (ARM)             | SKIPPED                      | SKIPPED                   | PASS           |
+-----------------------------+------------------------------+---------------------------+----------------+
| 32-bit Ubuntu 20.04.4 (ARM) | SKIPPED                      | SKIPPED                   | PASS           |
+-----------------------------+------------------------------+---------------------------+----------------+
| Ubuntu 20.04 (ARM)          | SKIPPED                      | SKIPPED                   | PASS           |
+-----------------------------+------------------------------+---------------------------+----------------+
| Fedora 39 (ARM Clang)       | SKIPPED                      | SKIPPED                   | PASS           |
+-----------------------------+------------------------------+---------------------------+----------------+


Debian 12 (arm)
	Kernel: Container Host Kernel
	Compiler: gcc 12.2.0

CentOS Stream 9 (ARM)
	Kernel: Container Host Kernel
	Compiler: gcc 11.4.1

Debian 11 (Buster) (ARM)
	Kernel: Container Host Kernel
	Compiler: gcc 10.2.1

Fedora 37 (ARM)
	Kernel: Depends on container host
	Compiler: gcc 12.3.1

Fedora 38 (ARM)
	Kernel: Depends on container host
	Compiler: gcc 13.2.1

Fedora 39 (ARM)
	Kernel: Depends on container host
	Compiler: gcc 13.2.1

32-bit Ubuntu 20.04.4 (ARM)
	Kernel: 5.4.0-155-generic aarch64
	Compiler: gcc 9.4

Ubuntu 20.04 (ARM)
	Kernel: Container Host Kernel
	Compiler: gcc 9.4.0

Fedora 39 (ARM Clang)
	Kernel: Depends on container host
	Compiler: clang 17.0.6

To view detailed results, visit:
https://lab.dpdk.org/results/dashboard/patchsets/29872/

UNH-IOL DPDK Community Lab

To manage your email subscriptions, visit: 
https://lab.dpdk.org/results/dashboard/preferences/subscriptions/