From mboxrd@z Thu Jan  1 00:00:00 1970
Return-Path: <test-report-bounces@dpdk.org>
Received: from mails.dpdk.org (mails.dpdk.org [217.70.189.124])
	by inbox.dpdk.org (Postfix) with ESMTP id E329343F47
	for <public@inbox.dpdk.org>; Mon, 29 Apr 2024 15:43:16 +0200 (CEST)
Received: from mails.dpdk.org (localhost [127.0.0.1])
	by mails.dpdk.org (Postfix) with ESMTP id DE11F4025C;
	Mon, 29 Apr 2024 15:43:16 +0200 (CEST)
Received: from mail-il1-f225.google.com (mail-il1-f225.google.com
 [209.85.166.225])
 by mails.dpdk.org (Postfix) with ESMTP id EEF7E400D6
 for <test-report@dpdk.org>; Mon, 29 Apr 2024 15:43:15 +0200 (CEST)
Received: by mail-il1-f225.google.com with SMTP id
 e9e14a558f8ab-36c4f2fea65so4630235ab.1
 for <test-report@dpdk.org>; Mon, 29 Apr 2024 06:43:15 -0700 (PDT)
DKIM-Signature: v=1; a=rsa-sha256; c=relaxed/relaxed;
 d=iol.unh.edu; s=unh-iol; t=1714398195; x=1715002995; darn=dpdk.org;
 h=references:in-reply-to:cc:to:from:subject:message-id:date:from:to
 :cc:subject:date:message-id:reply-to;
 bh=HT7aFsud2vAlu3K20iiTJGVwKinIwiQLb9NlPGKY+Yk=;
 b=BY1ejnpIMt11vIjKKIvZ2j/SpQ5lTKJFFGMoO5363IIYfHyBLV74nfsbPpkstPkNh6
 Vg1b8JTciCFwCu2xYB6M4K3SI2rxvDFCy620rw5d1UM6vNcQXyovCQOiO0SihKx2gjQM
 +uafdRN94TRdjohvTX0h+Di7dp1C/41twRMhU=
X-Google-DKIM-Signature: v=1; a=rsa-sha256; c=relaxed/relaxed;
 d=1e100.net; s=20230601; t=1714398195; x=1715002995;
 h=references:in-reply-to:cc:to:from:subject:message-id:date
 :x-gm-message-state:from:to:cc:subject:date:message-id:reply-to;
 bh=HT7aFsud2vAlu3K20iiTJGVwKinIwiQLb9NlPGKY+Yk=;
 b=ejay7QqZGI1OmdtH+4oTOwHZ1yxxYKKB5D6wsmdEtgkdJr6KJ0lDzkG37qJi1+Vqvo
 uu6+kB2Yu5ufi+D2SXO4iBRuOcZ/TEtZJefsqcqbFO+KtfvQXBJUbJNUMjTIwpGlN+IS
 MYgHVJDCNKGDHBGH5IiMz8hgaEx+hL+ibfPmIhzNSCr8jx9v8r7L9Vahb3UCHOmAgrC8
 +Vvf63Vq7AhvswA0XoSphpHMZ69kNaYJ950EwbzKwVNz7LCyNj7v6XVHPWs6TVemsW45
 Y5ZdVU4dF13clrxKeBqZgQ1CHXJn3vD4iMW7tubV9Q37/osPuU4vfZYwUPZR1TyJe47i
 nL3w==
X-Gm-Message-State: AOJu0YzI5aByLw8douzhD5r6lQVmOesOEbP83ev4eB68I4HJFciHZGMs
 LBEVjkXQFiRIKtnkjziFAr5ogVy4gUHcOG15MtikdpMnH4e0gxTX/iCUW0dZ3XsJ0pul+bnBNfq
 PExnh1sqKnIxY6kUkzFUFX5f4Gds1uomB51o5BY1OvOlW4Z1uahvbPEgH
X-Google-Smtp-Source: AGHT+IEHzwFQlwP2v1xpFXLltAVW4JQM1s7kV0E1XTouUoJ5fR5ZpJTBhGC+vLvaW/6+UDX8Bc7pol1Uu+sP
X-Received: by 2002:a05:6e02:1588:b0:36a:1e55:5358 with SMTP id
 m8-20020a056e02158800b0036a1e555358mr13205092ilu.18.1714398195429; 
 Mon, 29 Apr 2024 06:43:15 -0700 (PDT)
Received: from postal.iol.unh.edu (postal.iol.unh.edu.
 [2606:4100:3880:1234::84]) by smtp-relay.gmail.com with ESMTPS id
 h4-20020a056e0213a400b0036c4c5b0ceasm161593ilo.64.2024.04.29.06.43.15
 (version=TLS1_2 cipher=ECDHE-ECDSA-AES128-GCM-SHA256 bits=128/128);
 Mon, 29 Apr 2024 06:43:15 -0700 (PDT)
X-Relaying-Domain: iol.unh.edu
Date: Mon, 29 Apr 2024 06:43:15 -0700 (PDT)
Message-ID: <662fa3f3.050a0220.887e5.5e08SMTPIN_ADDED_MISSING@mx.google.com>
Received: from [172.21.0.6] (unknown [172.18.0.240])
 by postal.iol.unh.edu (Postfix) with ESMTP id 065006050A62;
 Mon, 29 Apr 2024 09:43:15 -0400 (EDT)
Subject: |SUCCESS| pw139717 [PATCH] bus/pci: fix build with musl 1.2.4 / Alpi
From: dpdklab@iol.unh.edu
To: Test Report <test-report@dpdk.org>
Cc: dpdk-test-reports@iol.unh.edu
In-Reply-To: <20240429100059.1316414-1-david.marchand@redhat.com>
References: <20240429100059.1316414-1-david.marchand@redhat.com>
Content-Type: text/plain
X-BeenThere: test-report@dpdk.org
X-Mailman-Version: 2.1.29
Precedence: list
List-Id: automatic DPDK test reports <test-report.dpdk.org>
List-Unsubscribe: <https://mails.dpdk.org/options/test-report>,
 <mailto:test-report-request@dpdk.org?subject=unsubscribe>
List-Archive: <http://mails.dpdk.org/archives/test-report/>
List-Post: <mailto:test-report@dpdk.org>
List-Help: <mailto:test-report-request@dpdk.org?subject=help>
List-Subscribe: <https://mails.dpdk.org/listinfo/test-report>,
 <mailto:test-report-request@dpdk.org?subject=subscribe>
Errors-To: test-report-bounces@dpdk.org

Test-Label: iol-compile-arm64-testing
Test-Status: SUCCESS
http://dpdk.org/patch/139717

_Testing PASS_

Submitter: David Marchand <david.marchand@redhat.com>
Date: Monday, April 29 2024 10:00:59 
DPDK git baseline: Repo:dpdk
  Branch: master
  CommitID:7e06c0de1952d3109a5b0c4779d7e7d8059c9d78

139717 --> testing pass

Test environment and result as below:

+----------------------------------------+--------------------+
|              Environment               | dpdk_meson_compile |
+========================================+====================+
| Ubuntu 20.04 ARM SVE                   | PASS               |
+----------------------------------------+--------------------+
| Debian 12 with MUSDK                   | PASS               |
+----------------------------------------+--------------------+
| Fedora 38 (ARM)                        | PASS               |
+----------------------------------------+--------------------+
| Fedora 39 (ARM)                        | PASS               |
+----------------------------------------+--------------------+
| Ubuntu 20.04 (ARM)                     | PASS               |
+----------------------------------------+--------------------+
| Fedora 37 (ARM)                        | PASS               |
+----------------------------------------+--------------------+
| Debian 11 (Buster) (ARM)               | PASS               |
+----------------------------------------+--------------------+
| Debian 12 (arm)                        | PASS               |
+----------------------------------------+--------------------+
| CentOS Stream 9 (ARM)                  | PASS               |
+----------------------------------------+--------------------+
| Ubuntu 20.04 aarch32 GCC Cross Compile | PASS               |
+----------------------------------------+--------------------+
| Ubuntu 20.04 ARM Clang Cross Compile   | PASS               |
+----------------------------------------+--------------------+
| Ubuntu 20.04 ARM GCC Cross Compile     | PASS               |
+----------------------------------------+--------------------+
| Fedora 38 (ARM Clang)                  | PASS               |
+----------------------------------------+--------------------+
| Fedora 39 (ARM Clang)                  | PASS               |
+----------------------------------------+--------------------+


Ubuntu 20.04 ARM SVE
	Kernel: 5.4.0-167-generic
	Compiler: gcc (Ubuntu 10.5.0-1ubuntu1~20.04) 10.5.0

Debian 12 with MUSDK
	Kernel: Container Host Kernel
	Compiler: gcc 12.2.0

Fedora 38 (ARM)
	Kernel: Depends on container host
	Compiler: gcc 13.2.1

Fedora 39 (ARM)
	Kernel: Depends on container host
	Compiler: gcc 13.2.1

Ubuntu 20.04 (ARM)
	Kernel: Container Host Kernel
	Compiler: gcc 9.4.0

Fedora 37 (ARM)
	Kernel: Depends on container host
	Compiler: gcc 12.3.1

Debian 11 (Buster) (ARM)
	Kernel: Container Host Kernel
	Compiler: gcc 10.2.1

Debian 12 (arm)
	Kernel: Container Host Kernel
	Compiler: gcc 12.2.0

CentOS Stream 9 (ARM)
	Kernel: Container Host Kernel
	Compiler: gcc 11.4.1

Ubuntu 20.04 aarch32 GCC Cross Compile
	Kernel: 5.4.0-167-generic
	Compiler: gcc 9.4.0

Ubuntu 20.04 ARM Clang Cross Compile
	Kernel: 5.4.0-72-generic
	Compiler: clang 10.0.0-4ubuntu1

Ubuntu 20.04 ARM GCC Cross Compile
	Kernel: 5.4.0-167-generic
	Compiler: aarch64-linux-gnu-gcc (Ubuntu 9.4.0-1ubuntu1~20.04.2) 9.4.0

Fedora 38 (ARM Clang)
	Kernel: Depends on container host
	Compiler: clang 16.0.6

Fedora 39 (ARM Clang)
	Kernel: Depends on container host
	Compiler: clang 17.0.6

To view detailed results, visit:
https://lab.dpdk.org/results/dashboard/patchsets/29872/

UNH-IOL DPDK Community Lab

To manage your email subscriptions, visit: 
https://lab.dpdk.org/results/dashboard/preferences/subscriptions/