From mboxrd@z Thu Jan  1 00:00:00 1970
Return-Path: <test-report-bounces@dpdk.org>
Received: from mails.dpdk.org (mails.dpdk.org [217.70.189.124])
	by inbox.dpdk.org (Postfix) with ESMTP id 461DA43F47
	for <public@inbox.dpdk.org>; Mon, 29 Apr 2024 15:43:40 +0200 (CEST)
Received: from mails.dpdk.org (localhost [127.0.0.1])
	by mails.dpdk.org (Postfix) with ESMTP id 36EAB402B3;
	Mon, 29 Apr 2024 15:43:40 +0200 (CEST)
Received: from mail-io1-f97.google.com (mail-io1-f97.google.com
 [209.85.166.97]) by mails.dpdk.org (Postfix) with ESMTP id BE5D1400D6
 for <test-report@dpdk.org>; Mon, 29 Apr 2024 15:43:37 +0200 (CEST)
Received: by mail-io1-f97.google.com with SMTP id
 ca18e2360f4ac-7d5e93b40feso203893039f.2
 for <test-report@dpdk.org>; Mon, 29 Apr 2024 06:43:37 -0700 (PDT)
DKIM-Signature: v=1; a=rsa-sha256; c=relaxed/relaxed;
 d=iol.unh.edu; s=unh-iol; t=1714398217; x=1715003017; darn=dpdk.org;
 h=references:in-reply-to:cc:to:from:subject:message-id:date:from:to
 :cc:subject:date:message-id:reply-to;
 bh=12hLk7Un+2XbKZW7b7jhAIzAmJBki5g1jPd1cNGckLo=;
 b=Y/PA+ZRQ5rMSYbzex4JXZ00nHWjjS1pP7XIljqPaSTkapZiXDxQQI/VHBZ1P9BSMu7
 lWgSTLmniZgZwr9VkaZqprKFTfvT9W5ZBDrMNMqJc5HvFbeUFmVqEW05bsxbQug2CcoX
 eXykaH0cC0n7rq90RQ9gokjVLV8pHjgj8VuzQ=
X-Google-DKIM-Signature: v=1; a=rsa-sha256; c=relaxed/relaxed;
 d=1e100.net; s=20230601; t=1714398217; x=1715003017;
 h=references:in-reply-to:cc:to:from:subject:message-id:date
 :x-gm-message-state:from:to:cc:subject:date:message-id:reply-to;
 bh=12hLk7Un+2XbKZW7b7jhAIzAmJBki5g1jPd1cNGckLo=;
 b=rtYSMKGyfbkMs8NwBo2JGbifk5fLtsO6tRhzjyxgICLAt3GizBkWPctCGvZXL4z/ih
 kWPzy+IlDF8lvKWQPj5Hy2eMAxv3VQK5UUAepN8oQXeg1zZ9imZ1A0mHndpco3FszClU
 /DHEoj4vkLq3rg3/XcKpw7qrYDXLM07TUueEFvc+doJojzPzIcmSkpnoNLISdq5vSanu
 pjWr5U3ox98URAzmsR3+ThZ9p+d6YLNV3DctGWA9RwPVi/S6OwqXUgoo9TqQDwPCXby6
 NVjkfBgDMMjr3VlklMQKl6W62ZK5GDxFamTlN33KUbqYeLZOxd5vCZkFKD6OwmCHSwMN
 lb6w==
X-Gm-Message-State: AOJu0Yw4Iig/35La3lE6ktuLZFNDTTxNmeSfW0o/WQBueI80PAbeMSc7
 xwDF2SI0fxWvkJlYFScxjddJZrVTdx2UAlgIakixBjvtecmxooBe19CSLmkmHc/kYshBQ7tQUYh
 dC3KNMT47HFDrALcOihLN2wp+KUDLAHG1uS+t6gH7X/nzlZH87NpD+MpS
X-Google-Smtp-Source: AGHT+IGe/Z/aWvUX40Xcbupv02pKqUG/+WNF32l+kGe5Qc1VQ9zzLhzbXMtFRrhqK7gS1KobH5HKXZmogyZF
X-Received: by 2002:a05:6602:f4c:b0:7d6:991a:ef19 with SMTP id
 hm12-20020a0566020f4c00b007d6991aef19mr11989208iob.8.1714398217225; 
 Mon, 29 Apr 2024 06:43:37 -0700 (PDT)
Received: from postal.iol.unh.edu (postal.iol.unh.edu.
 [2606:4100:3880:1234::84]) by smtp-relay.gmail.com with ESMTPS id
 ht5-20020a0566386bc500b0048787fe9ad1sm506507jab.8.2024.04.29.06.43.37
 (version=TLS1_2 cipher=ECDHE-ECDSA-AES128-GCM-SHA256 bits=128/128);
 Mon, 29 Apr 2024 06:43:37 -0700 (PDT)
X-Relaying-Domain: iol.unh.edu
Date: Mon, 29 Apr 2024 06:43:37 -0700 (PDT)
Message-ID: <662fa409.050a0220.24fb9.201fSMTPIN_ADDED_MISSING@mx.google.com>
Received: from [172.21.0.6] (unknown [172.18.0.240])
 by postal.iol.unh.edu (Postfix) with ESMTP id AFF596050A62;
 Mon, 29 Apr 2024 09:43:36 -0400 (EDT)
Subject: |SUCCESS| pw139724 [PATCH] devtools: add .clang-format file
From: dpdklab@iol.unh.edu
To: Test Report <test-report@dpdk.org>
Cc: dpdk-test-reports@iol.unh.edu
In-Reply-To: <20240429130414.1049310-1-aomeryamac@gmail.com>
References: <20240429130414.1049310-1-aomeryamac@gmail.com>
Content-Type: text/plain
X-BeenThere: test-report@dpdk.org
X-Mailman-Version: 2.1.29
Precedence: list
List-Id: automatic DPDK test reports <test-report.dpdk.org>
List-Unsubscribe: <https://mails.dpdk.org/options/test-report>,
 <mailto:test-report-request@dpdk.org?subject=unsubscribe>
List-Archive: <http://mails.dpdk.org/archives/test-report/>
List-Post: <mailto:test-report@dpdk.org>
List-Help: <mailto:test-report-request@dpdk.org?subject=help>
List-Subscribe: <https://mails.dpdk.org/listinfo/test-report>,
 <mailto:test-report-request@dpdk.org?subject=subscribe>
Errors-To: test-report-bounces@dpdk.org

Test-Label: iol-compile-arm64-testing
Test-Status: SUCCESS
http://dpdk.org/patch/139724

_Testing PASS_

Submitter: Abdullah Omer Yamac <aomeryamac@gmail.com>
Date: Monday, April 29 2024 13:04:14 
DPDK git baseline: Repo:dpdk
  Branch: master
  CommitID:7e06c0de1952d3109a5b0c4779d7e7d8059c9d78

139724 --> testing pass

Test environment and result as below:

+--------------------------+--------------------+
|       Environment        | dpdk_meson_compile |
+==========================+====================+
| Ubuntu 20.04 ARM SVE     | PASS               |
+--------------------------+--------------------+
| Debian 12 with MUSDK     | PASS               |
+--------------------------+--------------------+
| Ubuntu 20.04 (ARM)       | PASS               |
+--------------------------+--------------------+
| Fedora 37 (ARM)          | PASS               |
+--------------------------+--------------------+
| Fedora 39 (ARM)          | PASS               |
+--------------------------+--------------------+
| Debian 11 (Buster) (ARM) | PASS               |
+--------------------------+--------------------+
| Fedora 38 (ARM)          | PASS               |
+--------------------------+--------------------+


Ubuntu 20.04 ARM SVE
	Kernel: 5.4.0-167-generic
	Compiler: gcc (Ubuntu 10.5.0-1ubuntu1~20.04) 10.5.0

Debian 12 with MUSDK
	Kernel: Container Host Kernel
	Compiler: gcc 12.2.0

Ubuntu 20.04 (ARM)
	Kernel: Container Host Kernel
	Compiler: gcc 9.4.0

Fedora 37 (ARM)
	Kernel: Depends on container host
	Compiler: gcc 12.3.1

Fedora 39 (ARM)
	Kernel: Depends on container host
	Compiler: gcc 13.2.1

Debian 11 (Buster) (ARM)
	Kernel: Container Host Kernel
	Compiler: gcc 10.2.1

Fedora 38 (ARM)
	Kernel: Depends on container host
	Compiler: gcc 13.2.1

To view detailed results, visit:
https://lab.dpdk.org/results/dashboard/patchsets/29874/

UNH-IOL DPDK Community Lab

To manage your email subscriptions, visit: 
https://lab.dpdk.org/results/dashboard/preferences/subscriptions/