From mboxrd@z Thu Jan  1 00:00:00 1970
Return-Path: <test-report-bounces@dpdk.org>
Received: from mails.dpdk.org (mails.dpdk.org [217.70.189.124])
	by inbox.dpdk.org (Postfix) with ESMTP id 4A09D43F4A
	for <public@inbox.dpdk.org>; Mon, 29 Apr 2024 15:57:09 +0200 (CEST)
Received: from mails.dpdk.org (localhost [127.0.0.1])
	by mails.dpdk.org (Postfix) with ESMTP id 43C0C402B8;
	Mon, 29 Apr 2024 15:57:09 +0200 (CEST)
Received: from mail-yw1-f228.google.com (mail-yw1-f228.google.com
 [209.85.128.228])
 by mails.dpdk.org (Postfix) with ESMTP id 3BE104025C
 for <test-report@dpdk.org>; Mon, 29 Apr 2024 15:57:08 +0200 (CEST)
Received: by mail-yw1-f228.google.com with SMTP id
 00721157ae682-61b3be24dd9so34973107b3.0
 for <test-report@dpdk.org>; Mon, 29 Apr 2024 06:57:08 -0700 (PDT)
DKIM-Signature: v=1; a=rsa-sha256; c=relaxed/relaxed;
 d=iol.unh.edu; s=unh-iol; t=1714399027; x=1715003827; darn=dpdk.org;
 h=references:in-reply-to:cc:to:from:subject:message-id:date:from:to
 :cc:subject:date:message-id:reply-to;
 bh=6DCEFzzpj15x2xlmO2DS2RVmNIbsS63n3fzcrhZrOJw=;
 b=WDgBGeFva+rMhTG8Y2ucvkncKZh+XAx00Tiy9UGyD8rQYOnj8ic+yWSekk978y8btx
 7xQlD2/71N838GTdUF8E/db0sN2Jf98zpAluIgS1nh5dYB0gv4brOIe81mwJFh5P4DoC
 ixUnG4VARcEOz5aIlxySS9Jj2o0Sk0HSos8SQ=
X-Google-DKIM-Signature: v=1; a=rsa-sha256; c=relaxed/relaxed;
 d=1e100.net; s=20230601; t=1714399027; x=1715003827;
 h=references:in-reply-to:cc:to:from:subject:message-id:date
 :x-gm-message-state:from:to:cc:subject:date:message-id:reply-to;
 bh=6DCEFzzpj15x2xlmO2DS2RVmNIbsS63n3fzcrhZrOJw=;
 b=BhGYITO0SYCq0KgVK/0v1BzBEe70OafmtoCKT+OD6+3fme6mYqqxHEbZCOt6yOUx9r
 UHFdjOlkDriidHHQX53Dv6K3frKNEpVxuCCfzrlsBc2SU5rkjX5ttxousO35tb5twNFD
 0kbYZNxwdmj1vurIhtgInJcDTxYh1kQnOOoKhv/1xpOAekUHca5F3RLTssedo7s6BcA8
 kV4XQ2/t9SvvTg/cflWozYrik4PjsfiIwek4dkUShPBwMeX+rR+LsWP6kEhwRqxtIIp6
 VTnbXgd764fmMZfme4LTKFZxkMEsLo4/Q15VxOf1o0TOrP/3XSd2inGxfUu8bQmZ6wNe
 8gbQ==
X-Gm-Message-State: AOJu0YxQLLfs1mcwK4RDDNEdeCt5JWaTOuN94AFTyqSwaj32aY6jXFgq
 7zyZn8+EZADo0tCRyXHC5BqW3ljJ9UN3Oa63EQVUITlWiorIjR6idvYsnAzFILHy2iZG85MeHTH
 EKVG1pq4hW4TeyY6AHBXlZ9pAdgK/jTyxEIfZeGu5vnTZiF5eT5SiTlme
X-Google-Smtp-Source: AGHT+IHaW6WD9VgeWt4W1jblNLAQsdKHiSC1pmi345M81lrzzDfHH/pd6N7BpNsEZgvG3iZs72sH/aEGZI4i
X-Received: by 2002:a05:690c:301:b0:61b:32e0:c54e with SMTP id
 bg1-20020a05690c030100b0061b32e0c54emr6835771ywb.7.1714399027709; 
 Mon, 29 Apr 2024 06:57:07 -0700 (PDT)
Received: from postal.iol.unh.edu (postal.iol.unh.edu.
 [2606:4100:3880:1234::84]) by smtp-relay.gmail.com with ESMTPS id
 x65-20020a0dee44000000b0061ac305df3csm1645569ywe.32.2024.04.29.06.57.07
 (version=TLS1_2 cipher=ECDHE-ECDSA-AES128-GCM-SHA256 bits=128/128);
 Mon, 29 Apr 2024 06:57:07 -0700 (PDT)
X-Relaying-Domain: iol.unh.edu
Date: Mon, 29 Apr 2024 06:57:07 -0700 (PDT)
Message-ID: <662fa733.0d0a0220.d6b00.409fSMTPIN_ADDED_MISSING@mx.google.com>
Received: from [172.21.0.6] (unknown [172.18.0.240])
 by postal.iol.unh.edu (Postfix) with ESMTP id 68F786050A62;
 Mon, 29 Apr 2024 09:57:07 -0400 (EDT)
Subject: |SUCCESS| pw139724 [PATCH] devtools: add .clang-format file
From: dpdklab@iol.unh.edu
To: Test Report <test-report@dpdk.org>
Cc: dpdk-test-reports@iol.unh.edu
In-Reply-To: <20240429130414.1049310-1-aomeryamac@gmail.com>
References: <20240429130414.1049310-1-aomeryamac@gmail.com>
Content-Type: text/plain
X-BeenThere: test-report@dpdk.org
X-Mailman-Version: 2.1.29
Precedence: list
List-Id: automatic DPDK test reports <test-report.dpdk.org>
List-Unsubscribe: <https://mails.dpdk.org/options/test-report>,
 <mailto:test-report-request@dpdk.org?subject=unsubscribe>
List-Archive: <http://mails.dpdk.org/archives/test-report/>
List-Post: <mailto:test-report@dpdk.org>
List-Help: <mailto:test-report-request@dpdk.org?subject=help>
List-Subscribe: <https://mails.dpdk.org/listinfo/test-report>,
 <mailto:test-report-request@dpdk.org?subject=subscribe>
Errors-To: test-report-bounces@dpdk.org

Test-Label: iol-compile-amd64-testing
Test-Status: SUCCESS
http://dpdk.org/patch/139724

_Testing PASS_

Submitter: Abdullah Omer Yamac <aomeryamac@gmail.com>
Date: Monday, April 29 2024 13:04:14 
DPDK git baseline: Repo:dpdk
  Branch: master
  CommitID:7e06c0de1952d3109a5b0c4779d7e7d8059c9d78

139724 --> testing pass

Test environment and result as below:

+---------------------+-------------------+--------------------+----------------------+
|     Environment     | dpdk_msvc_compile | dpdk_meson_compile | dpdk_mingw64_compile |
+=====================+===================+====================+======================+
| Windows Server 2022 | PASS              | PASS               | PASS                 |
+---------------------+-------------------+--------------------+----------------------+
| FreeBSD 13.3        | SKIPPED           | PASS               | SKIPPED              |
+---------------------+-------------------+--------------------+----------------------+
| CentOS Stream 8     | SKIPPED           | PASS               | SKIPPED              |
+---------------------+-------------------+--------------------+----------------------+
| Fedora 37           | SKIPPED           | PASS               | SKIPPED              |
+---------------------+-------------------+--------------------+----------------------+
| Windows Server 2019 | SKIPPED           | PASS               | PASS                 |
+---------------------+-------------------+--------------------+----------------------+
| Fedora 38           | SKIPPED           | PASS               | SKIPPED              |
+---------------------+-------------------+--------------------+----------------------+
| Debian 12           | SKIPPED           | PASS               | SKIPPED              |
+---------------------+-------------------+--------------------+----------------------+
| Fedora 39           | SKIPPED           | PASS               | SKIPPED              |
+---------------------+-------------------+--------------------+----------------------+
| CentOS Stream 9     | SKIPPED           | PASS               | SKIPPED              |
+---------------------+-------------------+--------------------+----------------------+
| Debian Bullseye     | SKIPPED           | PASS               | SKIPPED              |
+---------------------+-------------------+--------------------+----------------------+


Windows Server 2022
	Kernel: 10.0.20348.2031
	Compiler: clang 15.0.7, gcc 8.1.0 (MinGW), and MSVC VS 17.9

FreeBSD 13.3
	Kernel: 13.3-RELEASE-p1
	Compiler: clang 17.0.6

CentOS Stream 8
	Kernel: 5.4.0-167-generic
	Compiler: gcc 8.5.0 20210514

Fedora 37
	Kernel: Depends on container host system
	Compiler: gcc 12.3.1

Windows Server 2019
	Kernel: 10.0.17763
	Compiler: clang 14.0 and gcc 8.1.0 (MinGW)

Fedora 38
	Kernel: Depends on container host
	Compiler: gcc 13.2.1

Debian 12
	Kernel: Container Host Kernel
	Compiler: gcc 10.2.1

Fedora 39
	Kernel: Depends on container host
	Compiler: gcc 13.2.1

CentOS Stream 9
	Kernel: 5.4.0-167-generic
	Compiler: gcc 11.4.1 20230605

Debian Bullseye
	Kernel: 5.4.0-167-generic
	Compiler: gcc 10.2.1-6

To view detailed results, visit:
https://lab.dpdk.org/results/dashboard/patchsets/29874/

UNH-IOL DPDK Community Lab

To manage your email subscriptions, visit: 
https://lab.dpdk.org/results/dashboard/preferences/subscriptions/