From mboxrd@z Thu Jan  1 00:00:00 1970
Return-Path: <test-report-bounces@dpdk.org>
Received: from mails.dpdk.org (mails.dpdk.org [217.70.189.124])
	by inbox.dpdk.org (Postfix) with ESMTP id EFE2643F4B
	for <public@inbox.dpdk.org>; Mon, 29 Apr 2024 16:10:58 +0200 (CEST)
Received: from mails.dpdk.org (localhost [127.0.0.1])
	by mails.dpdk.org (Postfix) with ESMTP id EA29E402B3;
	Mon, 29 Apr 2024 16:10:58 +0200 (CEST)
Received: from mail-yw1-f226.google.com (mail-yw1-f226.google.com
 [209.85.128.226])
 by mails.dpdk.org (Postfix) with ESMTP id 910FC402A3
 for <test-report@dpdk.org>; Mon, 29 Apr 2024 16:10:37 +0200 (CEST)
Received: by mail-yw1-f226.google.com with SMTP id
 00721157ae682-61be4b9869dso1721467b3.1
 for <test-report@dpdk.org>; Mon, 29 Apr 2024 07:10:37 -0700 (PDT)
DKIM-Signature: v=1; a=rsa-sha256; c=relaxed/relaxed;
 d=iol.unh.edu; s=unh-iol; t=1714399837; x=1715004637; darn=dpdk.org;
 h=references:in-reply-to:cc:to:from:subject:message-id:date:from:to
 :cc:subject:date:message-id:reply-to;
 bh=hKzIfvRDZvZsWDe9xOFFu/FQGzZW+CatogJMk5jDtqI=;
 b=EHg0WVFpHzy4mKIMB7IgkqzLKCzmrozzfIjnZTCFT4h7TqaJupJYKXEJR8bB6CzGpd
 L7mtOkWabPh9W8/if3byDF06nFZ8keak3YLJh27yYbLZmLOVyb/1Qfc0hTktZWNtJiv3
 pjAwyaJ2QQ8AHwpBn7ec2HVhekTouTJCJec/o=
X-Google-DKIM-Signature: v=1; a=rsa-sha256; c=relaxed/relaxed;
 d=1e100.net; s=20230601; t=1714399837; x=1715004637;
 h=references:in-reply-to:cc:to:from:subject:message-id:date
 :x-gm-message-state:from:to:cc:subject:date:message-id:reply-to;
 bh=hKzIfvRDZvZsWDe9xOFFu/FQGzZW+CatogJMk5jDtqI=;
 b=cTS1GVxe2zabeap8+i2pgbKKWYLaFPW/Z9QnSmxiebeHGMxex4LCgOAd8IrcfD6UZ3
 eCsoQoAN79qbAIGQBcuEskYDzERp9xl5XfJ8tKq75a0UPXb3VyfY0NvPA3pCWv552HzO
 mev3hV3J9vSpkWP9i1CjM/7DjKwvLZsBSXvHgRrheHZFz10u/8VTRXo8WarUqQMKIcv9
 FcIfKkgSl6rv2Z33G3bJNP+/8JvehN5CxNlwkxTbZOcVbnAPO1kiqJuMhYjNQcA+70g2
 cEYCabb5zFA0oan5fawlZ74O2lyM7R/wdlojcTjwfM6+IPx35SMkBi0OhjO2GVGpICax
 OXYQ==
X-Gm-Message-State: AOJu0YzjOx61zSqKrWiyTDJ24EHSJuAG3CwGAo0j7J1noeVUHaJcwE39
 5T3RO9yQ+HP/O8PmJeqbbGuGAKxQX9TxFGblRkaJPcjCUJyk2JOdZh6IwxgiiiI7+7OjtcBhZzr
 uFp8bzX5Z9z9xN94Qg484z8eeBHS/y6kAL8fk3itozUIBZumBoNwuM7vR
X-Google-Smtp-Source: AGHT+IGAjNRZS1ja6gvPbUb8LQ2Bwae90oFEFlgxbKm3vFpBARetvD04FTGkukJ6cu8eWBgWxpfMeamdBt81
X-Received: by 2002:a05:690c:3344:b0:610:cd34:439e with SMTP id
 fk4-20020a05690c334400b00610cd34439emr10574181ywb.49.1714399836842; 
 Mon, 29 Apr 2024 07:10:36 -0700 (PDT)
Received: from postal.iol.unh.edu (postal.iol.unh.edu.
 [2606:4100:3880:1234::84]) by smtp-relay.gmail.com with ESMTPS id
 p7-20020a0dff07000000b0061b074272edsm2004525ywf.53.2024.04.29.07.10.36
 (version=TLS1_2 cipher=ECDHE-ECDSA-AES128-GCM-SHA256 bits=128/128);
 Mon, 29 Apr 2024 07:10:36 -0700 (PDT)
X-Relaying-Domain: iol.unh.edu
Date: Mon, 29 Apr 2024 07:10:36 -0700 (PDT)
Message-ID: <662faa5c.0d0a0220.d474d.682dSMTPIN_ADDED_MISSING@mx.google.com>
Received: from [172.21.0.6] (unknown [172.18.0.240])
 by postal.iol.unh.edu (Postfix) with ESMTP id 7E6286050A62;
 Mon, 29 Apr 2024 10:10:36 -0400 (EDT)
Subject: |SUCCESS| pw139724 [PATCH] devtools: add .clang-format file
From: dpdklab@iol.unh.edu
To: Test Report <test-report@dpdk.org>
Cc: dpdk-test-reports@iol.unh.edu
In-Reply-To: <20240429130414.1049310-1-aomeryamac@gmail.com>
References: <20240429130414.1049310-1-aomeryamac@gmail.com>
Content-Type: text/plain
X-BeenThere: test-report@dpdk.org
X-Mailman-Version: 2.1.29
Precedence: list
List-Id: automatic DPDK test reports <test-report.dpdk.org>
List-Unsubscribe: <https://mails.dpdk.org/options/test-report>,
 <mailto:test-report-request@dpdk.org?subject=unsubscribe>
List-Archive: <http://mails.dpdk.org/archives/test-report/>
List-Post: <mailto:test-report@dpdk.org>
List-Help: <mailto:test-report-request@dpdk.org?subject=help>
List-Subscribe: <https://mails.dpdk.org/listinfo/test-report>,
 <mailto:test-report-request@dpdk.org?subject=subscribe>
Errors-To: test-report-bounces@dpdk.org

Test-Label: iol-abi-testing
Test-Status: SUCCESS
http://dpdk.org/patch/139724

_Testing PASS_

Submitter: Abdullah Omer Yamac <aomeryamac@gmail.com>
Date: Monday, April 29 2024 13:04:14 
DPDK git baseline: Repo:dpdk
  Branch: master
  CommitID:7e06c0de1952d3109a5b0c4779d7e7d8059c9d78

139724 --> testing pass

Test environment and result as below:

+------------------+----------+
|   Environment    | abi_test |
+==================+==========+
| Fedora 38        | PASS     |
+------------------+----------+
| CentOS Stream 8  | PASS     |
+------------------+----------+
| Fedora 39        | PASS     |
+------------------+----------+
| Debian Bullseye  | PASS     |
+------------------+----------+
| Ubuntu 22.04     | PASS     |
+------------------+----------+
| CentOS Stream 9  | PASS     |
+------------------+----------+
| openSUSE Leap 15 | PASS     |
+------------------+----------+
| Debian 12        | PASS     |
+------------------+----------+
| RHEL8            | PASS     |
+------------------+----------+


Fedora 38
	Kernel: Depends on container host
	Compiler: clang 16.0.6

CentOS Stream 8
	Kernel: 5.4.0-167-generic
	Compiler: gcc 8.5.0 20210514

Fedora 39
	Kernel: Depends on container host
	Compiler: clang 17.0.6

Debian Bullseye
	Kernel: 5.4.0-167-generic
	Compiler: gcc 10.2.1-6

Ubuntu 22.04
	Kernel: 5.4.0-167-generic
	Compiler: gcc 11.4.0

CentOS Stream 9
	Kernel: 5.4.0-167-generic
	Compiler: gcc 11.4.1 20230605

openSUSE Leap 15
	Kernel: 5.4.0-167-generic
	Compiler: gcc 7.5.0

Debian 12
	Kernel: Container Host Kernel
	Compiler: gcc 10.2.1

RHEL8
	Kernel: 5.4.0-167-generic
	Compiler: gcc 8.5.0 20210514 (Red Hat 8.5.0-20)

To view detailed results, visit:
https://lab.dpdk.org/results/dashboard/patchsets/29874/

UNH-IOL DPDK Community Lab

To manage your email subscriptions, visit: 
https://lab.dpdk.org/results/dashboard/preferences/subscriptions/